BEGIN:VCALENDAR
VERSION:2.0
PRODID:-//Rockville United Methodist Church - ECPv6.15.20//NONSGML v1.0//EN
CALSCALE:GREGORIAN
METHOD:PUBLISH
X-WR-CALNAME:Rockville United Methodist Church
X-ORIGINAL-URL:https://www.rockumchurch.com
X-WR-CALDESC:Events for Rockville United Methodist Church
REFRESH-INTERVAL;VALUE=DURATION:PT1H
X-Robots-Tag:noindex
X-PUBLISHED-TTL:PT1H
BEGIN:VTIMEZONE
TZID:America/New_York
BEGIN:DAYLIGHT
TZOFFSETFROM:-0500
TZOFFSETTO:-0400
TZNAME:EDT
DTSTART:20170312T070000
END:DAYLIGHT
BEGIN:STANDARD
TZOFFSETFROM:-0400
TZOFFSETTO:-0500
TZNAME:EST
DTSTART:20171105T060000
END:STANDARD
BEGIN:DAYLIGHT
TZOFFSETFROM:-0500
TZOFFSETTO:-0400
TZNAME:EDT
DTSTART:20180311T070000
END:DAYLIGHT
BEGIN:STANDARD
TZOFFSETFROM:-0400
TZOFFSETTO:-0500
TZNAME:EST
DTSTART:20181104T060000
END:STANDARD
BEGIN:DAYLIGHT
TZOFFSETFROM:-0500
TZOFFSETTO:-0400
TZNAME:EDT
DTSTART:20190310T070000
END:DAYLIGHT
BEGIN:STANDARD
TZOFFSETFROM:-0400
TZOFFSETTO:-0500
TZNAME:EST
DTSTART:20191103T060000
END:STANDARD
BEGIN:DAYLIGHT
TZOFFSETFROM:-0500
TZOFFSETTO:-0400
TZNAME:EDT
DTSTART:20200308T070000
END:DAYLIGHT
BEGIN:STANDARD
TZOFFSETFROM:-0400
TZOFFSETTO:-0500
TZNAME:EST
DTSTART:20201101T060000
END:STANDARD
END:VTIMEZONE
BEGIN:VEVENT
DTSTART;TZID=America/New_York:20190303T100000
DTEND;TZID=America/New_York:20190303T110000
DTSTAMP:20260419T192419
CREATED:20190104T155904Z
LAST-MODIFIED:20190104T155912Z
UID:6057-1551607200-1551610800@www.rockumchurch.com
SUMMARY:Worship Service
DESCRIPTION:Everyone is welcome to our worship service- Sundays at 10 am.    
URL:https://www.rockumchurch.com/event/worship-service-4-2019-03-03/
LOCATION:Rockville United Methodist Church\, 142 Grove Street\, Rockville\, CT\, 06066\, United States
CATEGORIES:Worship
ORGANIZER;CN="SeokCheol Shin":MAILTO:starcheol@gmail.com
END:VEVENT
BEGIN:VEVENT
DTSTART;TZID=America/New_York:20190224T100000
DTEND;TZID=America/New_York:20190224T110000
DTSTAMP:20260419T192419
CREATED:20190104T160546Z
LAST-MODIFIED:20190104T160554Z
UID:6121-1551002400-1551006000@www.rockumchurch.com
SUMMARY:Sunday School
DESCRIPTION:Sunday school begins after the Children’s Message in our worship service.  \nSunday school is free and open to kids 3 years old to High School.  
URL:https://www.rockumchurch.com/event/sunday-school-6-2019-02-24/
LOCATION:Rockville United Methodist Church\, 142 Grove Street\, Rockville\, CT\, 06066\, United States
CATEGORIES:Education,Worship,Youth
ORGANIZER;CN="Linda Shivers":MAILTO:necsvga@aol.com
END:VEVENT
BEGIN:VEVENT
DTSTART;TZID=America/New_York:20190224T100000
DTEND;TZID=America/New_York:20190224T110000
DTSTAMP:20260419T192419
CREATED:20190104T155904Z
LAST-MODIFIED:20190104T155912Z
UID:6056-1551002400-1551006000@www.rockumchurch.com
SUMMARY:Worship Service
DESCRIPTION:Everyone is welcome to our worship service- Sundays at 10 am.    
URL:https://www.rockumchurch.com/event/worship-service-4-2019-02-24/
LOCATION:Rockville United Methodist Church\, 142 Grove Street\, Rockville\, CT\, 06066\, United States
CATEGORIES:Worship
ORGANIZER;CN="SeokCheol Shin":MAILTO:starcheol@gmail.com
END:VEVENT
BEGIN:VEVENT
DTSTART;TZID=America/New_York:20190217T100000
DTEND;TZID=America/New_York:20190217T110000
DTSTAMP:20260419T192419
CREATED:20190104T160546Z
LAST-MODIFIED:20190104T160554Z
UID:6120-1550397600-1550401200@www.rockumchurch.com
SUMMARY:Sunday School
DESCRIPTION:Sunday school begins after the Children’s Message in our worship service.  \nSunday school is free and open to kids 3 years old to High School.  
URL:https://www.rockumchurch.com/event/sunday-school-6-2019-02-17/
LOCATION:Rockville United Methodist Church\, 142 Grove Street\, Rockville\, CT\, 06066\, United States
CATEGORIES:Education,Worship,Youth
ORGANIZER;CN="Linda Shivers":MAILTO:necsvga@aol.com
END:VEVENT
BEGIN:VEVENT
DTSTART;TZID=America/New_York:20190217T100000
DTEND;TZID=America/New_York:20190217T110000
DTSTAMP:20260419T192419
CREATED:20190104T155904Z
LAST-MODIFIED:20190104T155912Z
UID:6055-1550397600-1550401200@www.rockumchurch.com
SUMMARY:Worship Service
DESCRIPTION:Everyone is welcome to our worship service- Sundays at 10 am.    
URL:https://www.rockumchurch.com/event/worship-service-4-2019-02-17/
LOCATION:Rockville United Methodist Church\, 142 Grove Street\, Rockville\, CT\, 06066\, United States
CATEGORIES:Worship
ORGANIZER;CN="SeokCheol Shin":MAILTO:starcheol@gmail.com
END:VEVENT
BEGIN:VEVENT
DTSTART;TZID=America/New_York:20190210T100000
DTEND;TZID=America/New_York:20190210T110000
DTSTAMP:20260419T192419
CREATED:20190104T160546Z
LAST-MODIFIED:20190104T160554Z
UID:6119-1549792800-1549796400@www.rockumchurch.com
SUMMARY:Sunday School
DESCRIPTION:Sunday school begins after the Children’s Message in our worship service.  \nSunday school is free and open to kids 3 years old to High School.  
URL:https://www.rockumchurch.com/event/sunday-school-6-2019-02-10/
LOCATION:Rockville United Methodist Church\, 142 Grove Street\, Rockville\, CT\, 06066\, United States
CATEGORIES:Education,Worship,Youth
ORGANIZER;CN="Linda Shivers":MAILTO:necsvga@aol.com
END:VEVENT
BEGIN:VEVENT
DTSTART;TZID=America/New_York:20190210T100000
DTEND;TZID=America/New_York:20190210T110000
DTSTAMP:20260419T192419
CREATED:20190104T155904Z
LAST-MODIFIED:20190104T155912Z
UID:6054-1549792800-1549796400@www.rockumchurch.com
SUMMARY:Worship Service
DESCRIPTION:Everyone is welcome to our worship service- Sundays at 10 am.    
URL:https://www.rockumchurch.com/event/worship-service-4-2019-02-10/
LOCATION:Rockville United Methodist Church\, 142 Grove Street\, Rockville\, CT\, 06066\, United States
CATEGORIES:Worship
ORGANIZER;CN="SeokCheol Shin":MAILTO:starcheol@gmail.com
END:VEVENT
BEGIN:VEVENT
DTSTART;TZID=America/New_York:20190203T100000
DTEND;TZID=America/New_York:20190203T110000
DTSTAMP:20260419T192419
CREATED:20190104T160546Z
LAST-MODIFIED:20190104T160554Z
UID:6118-1549188000-1549191600@www.rockumchurch.com
SUMMARY:Sunday School
DESCRIPTION:Sunday school begins after the Children’s Message in our worship service.  \nSunday school is free and open to kids 3 years old to High School.  
URL:https://www.rockumchurch.com/event/sunday-school-6-2019-02-03/
LOCATION:Rockville United Methodist Church\, 142 Grove Street\, Rockville\, CT\, 06066\, United States
CATEGORIES:Education,Worship,Youth
ORGANIZER;CN="Linda Shivers":MAILTO:necsvga@aol.com
END:VEVENT
BEGIN:VEVENT
DTSTART;TZID=America/New_York:20190203T100000
DTEND;TZID=America/New_York:20190203T110000
DTSTAMP:20260419T192419
CREATED:20190104T155904Z
LAST-MODIFIED:20190104T155911Z
UID:6053-1549188000-1549191600@www.rockumchurch.com
SUMMARY:Worship Service
DESCRIPTION:Everyone is welcome to our worship service- Sundays at 10 am.    
URL:https://www.rockumchurch.com/event/worship-service-4-2019-02-03/
LOCATION:Rockville United Methodist Church\, 142 Grove Street\, Rockville\, CT\, 06066\, United States
CATEGORIES:Worship
ORGANIZER;CN="SeokCheol Shin":MAILTO:starcheol@gmail.com
END:VEVENT
BEGIN:VEVENT
DTSTART;TZID=America/New_York:20190127T100000
DTEND;TZID=America/New_York:20190127T110000
DTSTAMP:20260419T192419
CREATED:20190104T160546Z
LAST-MODIFIED:20190104T160554Z
UID:6117-1548583200-1548586800@www.rockumchurch.com
SUMMARY:Sunday School
DESCRIPTION:Sunday school begins after the Children’s Message in our worship service.  \nSunday school is free and open to kids 3 years old to High School.  
URL:https://www.rockumchurch.com/event/sunday-school-6-2019-01-27/
LOCATION:Rockville United Methodist Church\, 142 Grove Street\, Rockville\, CT\, 06066\, United States
CATEGORIES:Education,Worship,Youth
ORGANIZER;CN="Linda Shivers":MAILTO:necsvga@aol.com
END:VEVENT
BEGIN:VEVENT
DTSTART;TZID=America/New_York:20190127T100000
DTEND;TZID=America/New_York:20190127T110000
DTSTAMP:20260419T192419
CREATED:20190104T155904Z
LAST-MODIFIED:20190104T155911Z
UID:6052-1548583200-1548586800@www.rockumchurch.com
SUMMARY:Worship Service
DESCRIPTION:Everyone is welcome to our worship service- Sundays at 10 am.    
URL:https://www.rockumchurch.com/event/worship-service-4-2019-01-27/
LOCATION:Rockville United Methodist Church\, 142 Grove Street\, Rockville\, CT\, 06066\, United States
CATEGORIES:Worship
ORGANIZER;CN="SeokCheol Shin":MAILTO:starcheol@gmail.com
END:VEVENT
BEGIN:VEVENT
DTSTART;TZID=America/New_York:20190120T100000
DTEND;TZID=America/New_York:20190120T110000
DTSTAMP:20260419T192419
CREATED:20190104T160546Z
LAST-MODIFIED:20190104T160554Z
UID:6116-1547978400-1547982000@www.rockumchurch.com
SUMMARY:Sunday School
DESCRIPTION:Sunday school begins after the Children’s Message in our worship service.  \nSunday school is free and open to kids 3 years old to High School.  
URL:https://www.rockumchurch.com/event/sunday-school-6-2019-01-20/
LOCATION:Rockville United Methodist Church\, 142 Grove Street\, Rockville\, CT\, 06066\, United States
CATEGORIES:Education,Worship,Youth
ORGANIZER;CN="Linda Shivers":MAILTO:necsvga@aol.com
END:VEVENT
BEGIN:VEVENT
DTSTART;TZID=America/New_York:20190120T100000
DTEND;TZID=America/New_York:20190120T110000
DTSTAMP:20260419T192419
CREATED:20190104T155904Z
LAST-MODIFIED:20190104T155911Z
UID:6051-1547978400-1547982000@www.rockumchurch.com
SUMMARY:Worship Service
DESCRIPTION:Everyone is welcome to our worship service- Sundays at 10 am.    
URL:https://www.rockumchurch.com/event/worship-service-4-2019-01-20/
LOCATION:Rockville United Methodist Church\, 142 Grove Street\, Rockville\, CT\, 06066\, United States
CATEGORIES:Worship
ORGANIZER;CN="SeokCheol Shin":MAILTO:starcheol@gmail.com
END:VEVENT
BEGIN:VEVENT
DTSTART;TZID=America/New_York:20190113T100000
DTEND;TZID=America/New_York:20190113T110000
DTSTAMP:20260419T192419
CREATED:20190104T160546Z
LAST-MODIFIED:20190104T160553Z
UID:6115-1547373600-1547377200@www.rockumchurch.com
SUMMARY:Sunday School
DESCRIPTION:Sunday school begins after the Children’s Message in our worship service.  \nSunday school is free and open to kids 3 years old to High School.  
URL:https://www.rockumchurch.com/event/sunday-school-6-2019-01-13/
LOCATION:Rockville United Methodist Church\, 142 Grove Street\, Rockville\, CT\, 06066\, United States
CATEGORIES:Education,Worship,Youth
ORGANIZER;CN="Linda Shivers":MAILTO:necsvga@aol.com
END:VEVENT
BEGIN:VEVENT
DTSTART;TZID=America/New_York:20190113T100000
DTEND;TZID=America/New_York:20190113T110000
DTSTAMP:20260419T192419
CREATED:20190104T155904Z
LAST-MODIFIED:20190104T155911Z
UID:6050-1547373600-1547377200@www.rockumchurch.com
SUMMARY:Worship Service
DESCRIPTION:Everyone is welcome to our worship service- Sundays at 10 am.    
URL:https://www.rockumchurch.com/event/worship-service-4-2019-01-13/
LOCATION:Rockville United Methodist Church\, 142 Grove Street\, Rockville\, CT\, 06066\, United States
CATEGORIES:Worship
ORGANIZER;CN="SeokCheol Shin":MAILTO:starcheol@gmail.com
END:VEVENT
BEGIN:VEVENT
DTSTART;TZID=America/New_York:20190106T100000
DTEND;TZID=America/New_York:20190106T110000
DTSTAMP:20260419T192419
CREATED:20190104T160546Z
LAST-MODIFIED:20190104T160547Z
UID:6112-1546768800-1546772400@www.rockumchurch.com
SUMMARY:Sunday School
DESCRIPTION:Sunday school begins after the Children’s Message in our worship service.  \nSunday school is free and open to kids 3 years old to High School.  
URL:https://www.rockumchurch.com/event/sunday-school-6/
LOCATION:Rockville United Methodist Church\, 142 Grove Street\, Rockville\, CT\, 06066\, United States
CATEGORIES:Education,Worship,Youth
ORGANIZER;CN="Linda Shivers":MAILTO:necsvga@aol.com
END:VEVENT
BEGIN:VEVENT
DTSTART;TZID=America/New_York:20190106T100000
DTEND;TZID=America/New_York:20190106T110000
DTSTAMP:20260419T192419
CREATED:20190104T155904Z
LAST-MODIFIED:20190104T155905Z
UID:6047-1546768800-1546772400@www.rockumchurch.com
SUMMARY:Worship Service
DESCRIPTION:Everyone is welcome to our worship service- Sundays at 10 am.    
URL:https://www.rockumchurch.com/event/worship-service-4/
LOCATION:Rockville United Methodist Church\, 142 Grove Street\, Rockville\, CT\, 06066\, United States
CATEGORIES:Worship
ORGANIZER;CN="SeokCheol Shin":MAILTO:starcheol@gmail.com
END:VEVENT
BEGIN:VEVENT
DTSTART;TZID=America/New_York:20181230T100000
DTEND;TZID=America/New_York:20181230T110000
DTSTAMP:20260419T192419
CREATED:20180717T182842Z
LAST-MODIFIED:20180717T182842Z
UID:5425-1546164000-1546167600@www.rockumchurch.com
SUMMARY:Worship Service
DESCRIPTION:Join us for our service at 10 am.  Guests are always welcome. 
URL:https://www.rockumchurch.com/event/worship-service-3-2018-12-30/
LOCATION:Rockville United Methodist Church\, 142 Grove Street\, Rockville\, CT\, 06066\, United States
CATEGORIES:Music,Scripture,Worship
ORGANIZER;CN="SeokCheol Shin":MAILTO:starcheol@gmail.com
END:VEVENT
BEGIN:VEVENT
DTSTART;TZID=America/New_York:20181224T180000
DTEND;TZID=America/New_York:20181224T190000
DTSTAMP:20260419T192419
CREATED:20181129T212125Z
LAST-MODIFIED:20181206T180953Z
UID:5969-1545674400-1545678000@www.rockumchurch.com
SUMMARY:Christmas Eve Service
DESCRIPTION:Candlelight Christmas Eve Service\nDecember 24\, 2018\n6pm
URL:https://www.rockumchurch.com/event/christmas-eve-service/
LOCATION:Rockville United Methodist Church\, 142 Grove Street\, Rockville\, CT\, 06066\, United States
CATEGORIES:Community Events,Music,Worship
ORGANIZER;CN="Pastor Cheol":MAILTO:starcheol@gmail.com
END:VEVENT
BEGIN:VEVENT
DTSTART;TZID=America/New_York:20181223T100000
DTEND;TZID=America/New_York:20181223T110000
DTSTAMP:20260419T192419
CREATED:20180717T182842Z
LAST-MODIFIED:20180717T182842Z
UID:5424-1545559200-1545562800@www.rockumchurch.com
SUMMARY:Worship Service
DESCRIPTION:Join us for our service at 10 am.  Guests are always welcome. 
URL:https://www.rockumchurch.com/event/worship-service-3-2018-12-23/
LOCATION:Rockville United Methodist Church\, 142 Grove Street\, Rockville\, CT\, 06066\, United States
CATEGORIES:Music,Scripture,Worship
ORGANIZER;CN="SeokCheol Shin":MAILTO:starcheol@gmail.com
END:VEVENT
BEGIN:VEVENT
DTSTART;TZID=America/New_York:20181216T100000
DTEND;TZID=America/New_York:20181216T110000
DTSTAMP:20260419T192419
CREATED:20180717T182842Z
LAST-MODIFIED:20180717T182842Z
UID:5423-1544954400-1544958000@www.rockumchurch.com
SUMMARY:Worship Service
DESCRIPTION:Join us for our service at 10 am.  Guests are always welcome. 
URL:https://www.rockumchurch.com/event/worship-service-3-2018-12-16/
LOCATION:Rockville United Methodist Church\, 142 Grove Street\, Rockville\, CT\, 06066\, United States
CATEGORIES:Music,Scripture,Worship
ORGANIZER;CN="SeokCheol Shin":MAILTO:starcheol@gmail.com
END:VEVENT
BEGIN:VEVENT
DTSTART;TZID=America/New_York:20181209T100000
DTEND;TZID=America/New_York:20181209T110000
DTSTAMP:20260419T192419
CREATED:20180717T182842Z
LAST-MODIFIED:20180717T182842Z
UID:5422-1544349600-1544353200@www.rockumchurch.com
SUMMARY:Worship Service
DESCRIPTION:Join us for our service at 10 am.  Guests are always welcome. 
URL:https://www.rockumchurch.com/event/worship-service-3-2018-12-09/
LOCATION:Rockville United Methodist Church\, 142 Grove Street\, Rockville\, CT\, 06066\, United States
CATEGORIES:Music,Scripture,Worship
ORGANIZER;CN="SeokCheol Shin":MAILTO:starcheol@gmail.com
END:VEVENT
BEGIN:VEVENT
DTSTART;TZID=America/New_York:20181202T100000
DTEND;TZID=America/New_York:20181202T110000
DTSTAMP:20260419T192419
CREATED:20180717T182842Z
LAST-MODIFIED:20180717T182842Z
UID:5421-1543744800-1543748400@www.rockumchurch.com
SUMMARY:Worship Service
DESCRIPTION:Join us for our service at 10 am.  Guests are always welcome. 
URL:https://www.rockumchurch.com/event/worship-service-3-2018-12-02/
LOCATION:Rockville United Methodist Church\, 142 Grove Street\, Rockville\, CT\, 06066\, United States
CATEGORIES:Music,Scripture,Worship
ORGANIZER;CN="SeokCheol Shin":MAILTO:starcheol@gmail.com
END:VEVENT
BEGIN:VEVENT
DTSTART;TZID=America/New_York:20181125T100000
DTEND;TZID=America/New_York:20181125T110000
DTSTAMP:20260419T192419
CREATED:20180717T182842Z
LAST-MODIFIED:20180717T182842Z
UID:5420-1543140000-1543143600@www.rockumchurch.com
SUMMARY:Worship Service
DESCRIPTION:Join us for our service at 10 am.  Guests are always welcome. 
URL:https://www.rockumchurch.com/event/worship-service-3-2018-11-25/
LOCATION:Rockville United Methodist Church\, 142 Grove Street\, Rockville\, CT\, 06066\, United States
CATEGORIES:Music,Scripture,Worship
ORGANIZER;CN="SeokCheol Shin":MAILTO:starcheol@gmail.com
END:VEVENT
BEGIN:VEVENT
DTSTART;TZID=America/New_York:20181120T190000
DTEND;TZID=America/New_York:20181120T200000
DTSTAMP:20260419T192419
CREATED:20181109T014809Z
LAST-MODIFIED:20181109T014809Z
UID:5824-1542740400-1542744000@www.rockumchurch.com
SUMMARY:Ecumenical Service
DESCRIPTION:Ecumenical Service\nTemple Beth Hillel\n7pm\n20 Baker Lane\nSouth Windsor\, CT 06074
URL:https://www.rockumchurch.com/event/ecumenical-service/
LOCATION:Temple Beth Hillel\, 20 Baker Lane\, South Windsor\, CT\, 06074\, United States
CATEGORIES:Community Events,Worship
END:VEVENT
BEGIN:VEVENT
DTSTART;TZID=America/New_York:20181118T100000
DTEND;TZID=America/New_York:20181118T110000
DTSTAMP:20260419T192419
CREATED:20180717T182842Z
LAST-MODIFIED:20180717T182842Z
UID:5419-1542535200-1542538800@www.rockumchurch.com
SUMMARY:Worship Service
DESCRIPTION:Join us for our service at 10 am.  Guests are always welcome. 
URL:https://www.rockumchurch.com/event/worship-service-3-2018-11-18/
LOCATION:Rockville United Methodist Church\, 142 Grove Street\, Rockville\, CT\, 06066\, United States
CATEGORIES:Music,Scripture,Worship
ORGANIZER;CN="SeokCheol Shin":MAILTO:starcheol@gmail.com
END:VEVENT
BEGIN:VEVENT
DTSTART;TZID=America/New_York:20181111T100000
DTEND;TZID=America/New_York:20181111T110000
DTSTAMP:20260419T192419
CREATED:20180717T182842Z
LAST-MODIFIED:20180717T182842Z
UID:5418-1541930400-1541934000@www.rockumchurch.com
SUMMARY:Worship Service
DESCRIPTION:Join us for our service at 10 am.  Guests are always welcome. 
URL:https://www.rockumchurch.com/event/worship-service-3-2018-11-11/
LOCATION:Rockville United Methodist Church\, 142 Grove Street\, Rockville\, CT\, 06066\, United States
CATEGORIES:Music,Scripture,Worship
ORGANIZER;CN="SeokCheol Shin":MAILTO:starcheol@gmail.com
END:VEVENT
BEGIN:VEVENT
DTSTART;TZID=America/New_York:20181111T083000
DTEND;TZID=America/New_York:20181111T093000
DTSTAMP:20260419T192419
CREATED:20180911T171340Z
LAST-MODIFIED:20180911T171340Z
UID:5688-1541925000-1541928600@www.rockumchurch.com
SUMMARY:Bible Study
DESCRIPTION:Join Pastor Cheol for Bible Study.  September 16\, 2018 to November 11\, 2018 \n8:30 am to 9:30 am
URL:https://www.rockumchurch.com/event/bible-study-2018-11-11/
LOCATION:Rockville United Methodist Church\, 142 Grove Street\, Rockville\, CT\, 06066\, United States
CATEGORIES:Education,Scripture,Worship
ORGANIZER;CN="Pastor Cheol":MAILTO:starcheol@gmail.com
END:VEVENT
BEGIN:VEVENT
DTSTART;TZID=America/New_York:20181108T180000
DTEND;TZID=America/New_York:20181108T190000
DTSTAMP:20260419T192419
CREATED:20181109T013859Z
LAST-MODIFIED:20181109T013859Z
UID:5814-1541700000-1541703600@www.rockumchurch.com
SUMMARY:Worship Committee
DESCRIPTION:
URL:https://www.rockumchurch.com/event/worship-committee-2/
LOCATION:Rockville United Methodist Church\, 142 Grove Street\, Rockville\, CT\, 06066\, United States
CATEGORIES:Planning,Worship
END:VEVENT
BEGIN:VEVENT
DTSTART;TZID=America/New_York:20181104T100000
DTEND;TZID=America/New_York:20181104T110000
DTSTAMP:20260419T192419
CREATED:20180717T182842Z
LAST-MODIFIED:20180717T182842Z
UID:5417-1541325600-1541329200@www.rockumchurch.com
SUMMARY:Worship Service
DESCRIPTION:Join us for our service at 10 am.  Guests are always welcome. 
URL:https://www.rockumchurch.com/event/worship-service-3-2018-11-04/
LOCATION:Rockville United Methodist Church\, 142 Grove Street\, Rockville\, CT\, 06066\, United States
CATEGORIES:Music,Scripture,Worship
ORGANIZER;CN="SeokCheol Shin":MAILTO:starcheol@gmail.com
END:VEVENT
END:VCALENDAR