BEGIN:VCALENDAR
VERSION:2.0
PRODID:-//Rockville United Methodist Church - ECPv6.15.20//NONSGML v1.0//EN
CALSCALE:GREGORIAN
METHOD:PUBLISH
X-WR-CALNAME:Rockville United Methodist Church
X-ORIGINAL-URL:https://www.rockumchurch.com
X-WR-CALDESC:Events for Rockville United Methodist Church
REFRESH-INTERVAL;VALUE=DURATION:PT1H
X-Robots-Tag:noindex
X-PUBLISHED-TTL:PT1H
BEGIN:VTIMEZONE
TZID:America/New_York
BEGIN:DAYLIGHT
TZOFFSETFROM:-0500
TZOFFSETTO:-0400
TZNAME:EDT
DTSTART:20170312T070000
END:DAYLIGHT
BEGIN:STANDARD
TZOFFSETFROM:-0400
TZOFFSETTO:-0500
TZNAME:EST
DTSTART:20171105T060000
END:STANDARD
BEGIN:DAYLIGHT
TZOFFSETFROM:-0500
TZOFFSETTO:-0400
TZNAME:EDT
DTSTART:20180311T070000
END:DAYLIGHT
BEGIN:STANDARD
TZOFFSETFROM:-0400
TZOFFSETTO:-0500
TZNAME:EST
DTSTART:20181104T060000
END:STANDARD
BEGIN:DAYLIGHT
TZOFFSETFROM:-0500
TZOFFSETTO:-0400
TZNAME:EDT
DTSTART:20190310T070000
END:DAYLIGHT
BEGIN:STANDARD
TZOFFSETFROM:-0400
TZOFFSETTO:-0500
TZNAME:EST
DTSTART:20191103T060000
END:STANDARD
BEGIN:DAYLIGHT
TZOFFSETFROM:-0500
TZOFFSETTO:-0400
TZNAME:EDT
DTSTART:20200308T070000
END:DAYLIGHT
BEGIN:STANDARD
TZOFFSETFROM:-0400
TZOFFSETTO:-0500
TZNAME:EST
DTSTART:20201101T060000
END:STANDARD
END:VTIMEZONE
BEGIN:VEVENT
DTSTART;TZID=America/New_York:20190127T100000
DTEND;TZID=America/New_York:20190127T110000
DTSTAMP:20260423T014010
CREATED:20190104T160546Z
LAST-MODIFIED:20190104T160554Z
UID:6117-1548583200-1548586800@www.rockumchurch.com
SUMMARY:Sunday School
DESCRIPTION:Sunday school begins after the Children’s Message in our worship service.  \nSunday school is free and open to kids 3 years old to High School.  
URL:https://www.rockumchurch.com/event/sunday-school-6-2019-01-27/
LOCATION:Rockville United Methodist Church\, 142 Grove Street\, Rockville\, CT\, 06066\, United States
CATEGORIES:Education,Worship,Youth
ORGANIZER;CN="Linda Shivers":MAILTO:necsvga@aol.com
END:VEVENT
BEGIN:VEVENT
DTSTART;TZID=America/New_York:20190120T100000
DTEND;TZID=America/New_York:20190120T110000
DTSTAMP:20260423T014010
CREATED:20190104T160546Z
LAST-MODIFIED:20190104T160554Z
UID:6116-1547978400-1547982000@www.rockumchurch.com
SUMMARY:Sunday School
DESCRIPTION:Sunday school begins after the Children’s Message in our worship service.  \nSunday school is free and open to kids 3 years old to High School.  
URL:https://www.rockumchurch.com/event/sunday-school-6-2019-01-20/
LOCATION:Rockville United Methodist Church\, 142 Grove Street\, Rockville\, CT\, 06066\, United States
CATEGORIES:Education,Worship,Youth
ORGANIZER;CN="Linda Shivers":MAILTO:necsvga@aol.com
END:VEVENT
BEGIN:VEVENT
DTSTART;TZID=America/New_York:20190118T180000
DTEND;TZID=America/New_York:20190118T203000
DTSTAMP:20260423T014010
CREATED:20190104T171053Z
LAST-MODIFIED:20190104T171053Z
UID:6437-1547834400-1547843400@www.rockumchurch.com
SUMMARY:Youth Group Meeting
DESCRIPTION:
URL:https://www.rockumchurch.com/event/youth-group-meeting/
LOCATION:Rockville United Methodist Church\, 142 Grove Street\, Rockville\, CT\, 06066\, United States
CATEGORIES:Planning,Youth
ORGANIZER;CN="Linda Shivers":MAILTO:necsvga@aol.com
END:VEVENT
BEGIN:VEVENT
DTSTART;TZID=America/New_York:20190113T100000
DTEND;TZID=America/New_York:20190113T110000
DTSTAMP:20260423T014010
CREATED:20190104T160546Z
LAST-MODIFIED:20190104T160553Z
UID:6115-1547373600-1547377200@www.rockumchurch.com
SUMMARY:Sunday School
DESCRIPTION:Sunday school begins after the Children’s Message in our worship service.  \nSunday school is free and open to kids 3 years old to High School.  
URL:https://www.rockumchurch.com/event/sunday-school-6-2019-01-13/
LOCATION:Rockville United Methodist Church\, 142 Grove Street\, Rockville\, CT\, 06066\, United States
CATEGORIES:Education,Worship,Youth
ORGANIZER;CN="Linda Shivers":MAILTO:necsvga@aol.com
END:VEVENT
BEGIN:VEVENT
DTSTART;TZID=America/New_York:20190106T100000
DTEND;TZID=America/New_York:20190106T110000
DTSTAMP:20260423T014010
CREATED:20190104T160546Z
LAST-MODIFIED:20190104T160547Z
UID:6112-1546768800-1546772400@www.rockumchurch.com
SUMMARY:Sunday School
DESCRIPTION:Sunday school begins after the Children’s Message in our worship service.  \nSunday school is free and open to kids 3 years old to High School.  
URL:https://www.rockumchurch.com/event/sunday-school-6/
LOCATION:Rockville United Methodist Church\, 142 Grove Street\, Rockville\, CT\, 06066\, United States
CATEGORIES:Education,Worship,Youth
ORGANIZER;CN="Linda Shivers":MAILTO:necsvga@aol.com
END:VEVENT
BEGIN:VEVENT
DTSTART;TZID=America/New_York:20181223T160000
DTEND;TZID=America/New_York:20181223T180000
DTSTAMP:20260423T014010
CREATED:20181129T212348Z
LAST-MODIFIED:20181129T212348Z
UID:5971-1545580800-1545588000@www.rockumchurch.com
SUMMARY:Family Christmas Program
DESCRIPTION:RUMC Family Christmas Program\nSunday\, December 23\, 2018\n4 pm \nJoin us for music\, refreshments\, and a special jolly visitor.\nFamily fun! \nPerformances by The GSM Praise Band & Bell Choir\, a carol sing\, and a reading of The Night Before Christmas. \nOpen to the public. All are welcome! \n \n 
URL:https://www.rockumchurch.com/event/family-christmas-program/
LOCATION:Rockville United Methodist Church\, 142 Grove Street\, Rockville\, CT\, 06066\, United States
CATEGORIES:Community Events,food,Music,Youth
END:VEVENT
BEGIN:VEVENT
DTSTART;TZID=America/New_York:20181118T100000
DTEND;TZID=America/New_York:20181118T110000
DTSTAMP:20260423T014010
CREATED:20181109T014211Z
LAST-MODIFIED:20181109T014212Z
UID:5820-1542535200-1542538800@www.rockumchurch.com
SUMMARY:Sunday School
DESCRIPTION:Sunday School begins following the Children’s Message in the service. \n  \n 
URL:https://www.rockumchurch.com/event/sunday-school-5-2018-11-18/
LOCATION:Rockville United Methodist Church\, 142 Grove Street\, Rockville\, CT\, 06066\, United States
CATEGORIES:Education,Youth
ORGANIZER;CN="Linda Shivers":MAILTO:necsvga@aol.com
END:VEVENT
BEGIN:VEVENT
DTSTART;TZID=America/New_York:20181111T100000
DTEND;TZID=America/New_York:20181111T110000
DTSTAMP:20260423T014010
CREATED:20181109T014211Z
LAST-MODIFIED:20181109T014212Z
UID:5819-1541930400-1541934000@www.rockumchurch.com
SUMMARY:Sunday School
DESCRIPTION:Sunday School begins following the Children’s Message in the service. \n  \n 
URL:https://www.rockumchurch.com/event/sunday-school-5-2018-11-11/
LOCATION:Rockville United Methodist Church\, 142 Grove Street\, Rockville\, CT\, 06066\, United States
CATEGORIES:Education,Youth
ORGANIZER;CN="Linda Shivers":MAILTO:necsvga@aol.com
END:VEVENT
BEGIN:VEVENT
DTSTART;TZID=America/New_York:20181104T100000
DTEND;TZID=America/New_York:20181104T110000
DTSTAMP:20260423T014010
CREATED:20181109T014211Z
LAST-MODIFIED:20181109T014212Z
UID:5816-1541325600-1541329200@www.rockumchurch.com
SUMMARY:Sunday School
DESCRIPTION:Sunday School begins following the Children’s Message in the service. \n  \n 
URL:https://www.rockumchurch.com/event/sunday-school-5/
LOCATION:Rockville United Methodist Church\, 142 Grove Street\, Rockville\, CT\, 06066\, United States
CATEGORIES:Education,Youth
ORGANIZER;CN="Linda Shivers":MAILTO:necsvga@aol.com
END:VEVENT
BEGIN:VEVENT
DTSTART;TZID=America/New_York:20181028T110000
DTEND;TZID=America/New_York:20181028T113000
DTSTAMP:20260423T014010
CREATED:20181002T172551Z
LAST-MODIFIED:20181002T172736Z
UID:5721-1540724400-1540726200@www.rockumchurch.com
SUMMARY:2018 Trunk or Treat
DESCRIPTION:RUMC Trunk of Treat\nSunday\, October 28th\, 2018\n11 am (following our Leap of Faith Concert)\nWear your costume to our Leap of Faith Concert at 10 am; join the costume parade at 11 am to collect candy from our church members.\nOpen to the public. Come enjoy music and Halloween fun!\n 
URL:https://www.rockumchurch.com/event/2018-trunk-or-treat/
LOCATION:Rockville United Methodist Church\, 142 Grove Street\, Rockville\, CT\, 06066\, United States
CATEGORIES:Community Events,RUMC Events,Youth
ORGANIZER;CN="Linda Shivers":MAILTO:necsvga@aol.com
END:VEVENT
BEGIN:VEVENT
DTSTART;TZID=America/New_York:20181028T100000
DTEND;TZID=America/New_York:20181028T110000
DTSTAMP:20260423T014010
CREATED:20180814T165912Z
LAST-MODIFIED:20181002T172405Z
UID:5556-1540720800-1540724400@www.rockumchurch.com
SUMMARY:Leap of Faith Concert
DESCRIPTION:2018 Leap of Faith Concert\nWorship in Song!\nOctober 28\, 2018\nSunday 10AM\nFeaturing the RUMC Concert Choir under the direction of Jereme Martineau\nSpecial appearance by Grove Street Music Project\nRefreshments to follow
URL:https://www.rockumchurch.com/event/leap-of-faith-concert-2/
LOCATION:Rockville United Methodist Church\, 142 Grove Street\, Rockville\, CT\, 06066\, United States
CATEGORIES:Community Events,Music,RUMC Events,Youth
END:VEVENT
BEGIN:VEVENT
DTSTART;TZID=America/New_York:20181021T100000
DTEND;TZID=America/New_York:20181021T110000
DTSTAMP:20260423T014010
CREATED:20180814T165450Z
LAST-MODIFIED:20180814T165450Z
UID:5554-1540116000-1540119600@www.rockumchurch.com
SUMMARY:Sunday School
DESCRIPTION:Children ages 3 years through high school are invited to attend our  Sunday school classes. Children are invited to the altar to hear the Youth Message during the service and then proceed to the Sunday school classrooms. The Sunday school classes are free for regular attendees and visitors alike. All are welcome!
URL:https://www.rockumchurch.com/event/sunday-school-4-2018-10-21/
LOCATION:Rockville United Methodist Church\, 142 Grove Street\, Rockville\, CT\, 06066\, United States
CATEGORIES:Education,Scripture,Worship,Youth
ORGANIZER;CN="Linda Shivers":MAILTO:necsvga@aol.com
END:VEVENT
BEGIN:VEVENT
DTSTART;TZID=America/New_York:20181014T100000
DTEND;TZID=America/New_York:20181014T110000
DTSTAMP:20260423T014010
CREATED:20180814T165450Z
LAST-MODIFIED:20180814T165450Z
UID:5553-1539511200-1539514800@www.rockumchurch.com
SUMMARY:Sunday School
DESCRIPTION:Children ages 3 years through high school are invited to attend our  Sunday school classes. Children are invited to the altar to hear the Youth Message during the service and then proceed to the Sunday school classrooms. The Sunday school classes are free for regular attendees and visitors alike. All are welcome!
URL:https://www.rockumchurch.com/event/sunday-school-4-2018-10-14/
LOCATION:Rockville United Methodist Church\, 142 Grove Street\, Rockville\, CT\, 06066\, United States
CATEGORIES:Education,Scripture,Worship,Youth
ORGANIZER;CN="Linda Shivers":MAILTO:necsvga@aol.com
END:VEVENT
BEGIN:VEVENT
DTSTART;TZID=America/New_York:20181007T100000
DTEND;TZID=America/New_York:20181007T110000
DTSTAMP:20260423T014010
CREATED:20180814T165450Z
LAST-MODIFIED:20180814T165450Z
UID:5552-1538906400-1538910000@www.rockumchurch.com
SUMMARY:Sunday School
DESCRIPTION:Children ages 3 years through high school are invited to attend our  Sunday school classes. Children are invited to the altar to hear the Youth Message during the service and then proceed to the Sunday school classrooms. The Sunday school classes are free for regular attendees and visitors alike. All are welcome!
URL:https://www.rockumchurch.com/event/sunday-school-4-2018-10-07/
LOCATION:Rockville United Methodist Church\, 142 Grove Street\, Rockville\, CT\, 06066\, United States
CATEGORIES:Education,Scripture,Worship,Youth
ORGANIZER;CN="Linda Shivers":MAILTO:necsvga@aol.com
END:VEVENT
BEGIN:VEVENT
DTSTART;TZID=America/New_York:20180930T100000
DTEND;TZID=America/New_York:20180930T110000
DTSTAMP:20260423T014010
CREATED:20180814T165450Z
LAST-MODIFIED:20180814T165450Z
UID:5551-1538301600-1538305200@www.rockumchurch.com
SUMMARY:Sunday School
DESCRIPTION:Children ages 3 years through high school are invited to attend our  Sunday school classes. Children are invited to the altar to hear the Youth Message during the service and then proceed to the Sunday school classrooms. The Sunday school classes are free for regular attendees and visitors alike. All are welcome!
URL:https://www.rockumchurch.com/event/sunday-school-4-2018-09-30/
LOCATION:Rockville United Methodist Church\, 142 Grove Street\, Rockville\, CT\, 06066\, United States
CATEGORIES:Education,Scripture,Worship,Youth
ORGANIZER;CN="Linda Shivers":MAILTO:necsvga@aol.com
END:VEVENT
BEGIN:VEVENT
DTSTART;TZID=America/New_York:20180923T100000
DTEND;TZID=America/New_York:20180923T110000
DTSTAMP:20260423T014010
CREATED:20180814T165450Z
LAST-MODIFIED:20180814T165450Z
UID:5550-1537696800-1537700400@www.rockumchurch.com
SUMMARY:Sunday School
DESCRIPTION:Children ages 3 years through high school are invited to attend our  Sunday school classes. Children are invited to the altar to hear the Youth Message during the service and then proceed to the Sunday school classrooms. The Sunday school classes are free for regular attendees and visitors alike. All are welcome!
URL:https://www.rockumchurch.com/event/sunday-school-4-2018-09-23/
LOCATION:Rockville United Methodist Church\, 142 Grove Street\, Rockville\, CT\, 06066\, United States
CATEGORIES:Education,Scripture,Worship,Youth
ORGANIZER;CN="Linda Shivers":MAILTO:necsvga@aol.com
END:VEVENT
BEGIN:VEVENT
DTSTART;TZID=America/New_York:20180916T100000
DTEND;TZID=America/New_York:20180916T110000
DTSTAMP:20260423T014010
CREATED:20180814T165450Z
LAST-MODIFIED:20180814T165450Z
UID:5547-1537092000-1537095600@www.rockumchurch.com
SUMMARY:Sunday School
DESCRIPTION:Children ages 3 years through high school are invited to attend our  Sunday school classes. Children are invited to the altar to hear the Youth Message during the service and then proceed to the Sunday school classrooms. The Sunday school classes are free for regular attendees and visitors alike. All are welcome!
URL:https://www.rockumchurch.com/event/sunday-school-4/
LOCATION:Rockville United Methodist Church\, 142 Grove Street\, Rockville\, CT\, 06066\, United States
CATEGORIES:Education,Scripture,Worship,Youth
ORGANIZER;CN="Linda Shivers":MAILTO:necsvga@aol.com
END:VEVENT
BEGIN:VEVENT
DTSTART;TZID=America/New_York:20180909T100000
DTEND;TZID=America/New_York:20180909T123000
DTSTAMP:20260423T014010
CREATED:20180814T162901Z
LAST-MODIFIED:20180814T163546Z
UID:5541-1536487200-1536496200@www.rockumchurch.com
SUMMARY:Rally Sunday
DESCRIPTION:Rally Sunday!\nKick off our 2018 – 2019 Sunday School Year with a picnic after the service.  Please bring a side-dish to share.  Come for some fellowship and to see what our Sunday School is all about.
URL:https://www.rockumchurch.com/event/rally-sunday/
LOCATION:Rockville United Methodist Church\, 142 Grove Street\, Rockville\, CT\, 06066\, United States
CATEGORIES:Education,food,RUMC Events,Youth
ORGANIZER;CN="Linda Shivers":MAILTO:necsvga@aol.com
END:VEVENT
BEGIN:VEVENT
DTSTART;VALUE=DATE:20180805
DTEND;VALUE=DATE:20180820
DTSTAMP:20260423T014010
CREATED:20180717T184400Z
LAST-MODIFIED:20180717T184400Z
UID:5486-1533427200-1534723199@www.rockumchurch.com
SUMMARY:Back to School Fundraiser
DESCRIPTION:Help us as we adopt a family for back to school clothing.   We will be collecting for the fundraiser from August 5th to August 19th.
URL:https://www.rockumchurch.com/event/back-to-school-fundraiser/
LOCATION:Rockville United Methodist Church\, 142 Grove Street\, Rockville\, CT\, 06066\, United States
CATEGORIES:Community Events,Fundraising,RUMC Events,Youth
END:VEVENT
BEGIN:VEVENT
DTSTART;TZID=America/New_York:20180727T080000
DTEND;TZID=America/New_York:20180727T163000
DTSTAMP:20260423T014010
CREATED:20180717T184029Z
LAST-MODIFIED:20180717T184029Z
UID:5485-1532678400-1532709000@www.rockumchurch.com
SUMMARY:Youth Mission Week
DESCRIPTION:Our RUMC Youth volunteer to help in the community.  They are helping with Hands on Hartford and FoodShare this week.
URL:https://www.rockumchurch.com/event/youth-mission-week-2018-07-27/
LOCATION:CT
CATEGORIES:Community Events,Volunteer Opportunity,Youth
ORGANIZER;CN="Linda Shivers":MAILTO:necsvga@aol.com
END:VEVENT
BEGIN:VEVENT
DTSTART;TZID=America/New_York:20180726T080000
DTEND;TZID=America/New_York:20180726T163000
DTSTAMP:20260423T014010
CREATED:20180717T184029Z
LAST-MODIFIED:20180717T184029Z
UID:5484-1532592000-1532622600@www.rockumchurch.com
SUMMARY:Youth Mission Week
DESCRIPTION:Our RUMC Youth volunteer to help in the community.  They are helping with Hands on Hartford and FoodShare this week.
URL:https://www.rockumchurch.com/event/youth-mission-week-2018-07-26/
LOCATION:CT
CATEGORIES:Community Events,Volunteer Opportunity,Youth
ORGANIZER;CN="Linda Shivers":MAILTO:necsvga@aol.com
END:VEVENT
BEGIN:VEVENT
DTSTART;TZID=America/New_York:20180725T080000
DTEND;TZID=America/New_York:20180725T163000
DTSTAMP:20260423T014010
CREATED:20180717T184029Z
LAST-MODIFIED:20180717T184029Z
UID:5483-1532505600-1532536200@www.rockumchurch.com
SUMMARY:Youth Mission Week
DESCRIPTION:Our RUMC Youth volunteer to help in the community.  They are helping with Hands on Hartford and FoodShare this week.
URL:https://www.rockumchurch.com/event/youth-mission-week-2018-07-25/
LOCATION:CT
CATEGORIES:Community Events,Volunteer Opportunity,Youth
ORGANIZER;CN="Linda Shivers":MAILTO:necsvga@aol.com
END:VEVENT
BEGIN:VEVENT
DTSTART;TZID=America/New_York:20180724T080000
DTEND;TZID=America/New_York:20180724T163000
DTSTAMP:20260423T014010
CREATED:20180717T184029Z
LAST-MODIFIED:20180717T184029Z
UID:5482-1532419200-1532449800@www.rockumchurch.com
SUMMARY:Youth Mission Week
DESCRIPTION:Our RUMC Youth volunteer to help in the community.  They are helping with Hands on Hartford and FoodShare this week.
URL:https://www.rockumchurch.com/event/youth-mission-week-2018-07-24/
LOCATION:CT
CATEGORIES:Community Events,Volunteer Opportunity,Youth
ORGANIZER;CN="Linda Shivers":MAILTO:necsvga@aol.com
END:VEVENT
BEGIN:VEVENT
DTSTART;TZID=America/New_York:20180723T080000
DTEND;TZID=America/New_York:20180723T163000
DTSTAMP:20260423T014010
CREATED:20180717T184029Z
LAST-MODIFIED:20180717T184029Z
UID:5479-1532332800-1532363400@www.rockumchurch.com
SUMMARY:Youth Mission Week
DESCRIPTION:Our RUMC Youth volunteer to help in the community.  They are helping with Hands on Hartford and FoodShare this week.
URL:https://www.rockumchurch.com/event/youth-mission-week/
LOCATION:CT
CATEGORIES:Community Events,Volunteer Opportunity,Youth
ORGANIZER;CN="Linda Shivers":MAILTO:necsvga@aol.com
END:VEVENT
BEGIN:VEVENT
DTSTART;TZID=America/New_York:20180629T090000
DTEND;TZID=America/New_York:20180629T120000
DTSTAMP:20260423T014010
CREATED:20180417T171629Z
LAST-MODIFIED:20180417T171629Z
UID:5195-1530262800-1530273600@www.rockumchurch.com
SUMMARY:RUMC's 2018 Vacation Bible School
DESCRIPTION:Vacation Bible School\nJune 25 – 29\, 2018\n9 am to noon\n$20 per child/$40 per family maximum \nActivities include crafts\, music\, science\, bible stories\, and play time.  \nDownload the registration form. \nRegistration ends June 14\, 2018
URL:https://www.rockumchurch.com/event/rumcs-2018-vacation-bible-school-2018-06-29/
LOCATION:Rockville United Methodist Church\, 142 Grove Street\, Rockville\, CT\, 06066\, United States
CATEGORIES:Education,food,Music,RUMC Events,Volunteer Opportunity,Youth
ORGANIZER;CN="Linda Shivers":MAILTO:necsvga@aol.com
END:VEVENT
BEGIN:VEVENT
DTSTART;TZID=America/New_York:20180628T090000
DTEND;TZID=America/New_York:20180628T120000
DTSTAMP:20260423T014010
CREATED:20180417T171629Z
LAST-MODIFIED:20180417T171629Z
UID:5194-1530176400-1530187200@www.rockumchurch.com
SUMMARY:RUMC's 2018 Vacation Bible School
DESCRIPTION:Vacation Bible School\nJune 25 – 29\, 2018\n9 am to noon\n$20 per child/$40 per family maximum \nActivities include crafts\, music\, science\, bible stories\, and play time.  \nDownload the registration form. \nRegistration ends June 14\, 2018
URL:https://www.rockumchurch.com/event/rumcs-2018-vacation-bible-school-2018-06-28/
LOCATION:Rockville United Methodist Church\, 142 Grove Street\, Rockville\, CT\, 06066\, United States
CATEGORIES:Education,food,Music,RUMC Events,Volunteer Opportunity,Youth
ORGANIZER;CN="Linda Shivers":MAILTO:necsvga@aol.com
END:VEVENT
BEGIN:VEVENT
DTSTART;TZID=America/New_York:20180627T090000
DTEND;TZID=America/New_York:20180627T120000
DTSTAMP:20260423T014010
CREATED:20180417T171629Z
LAST-MODIFIED:20180417T171629Z
UID:5193-1530090000-1530100800@www.rockumchurch.com
SUMMARY:RUMC's 2018 Vacation Bible School
DESCRIPTION:Vacation Bible School\nJune 25 – 29\, 2018\n9 am to noon\n$20 per child/$40 per family maximum \nActivities include crafts\, music\, science\, bible stories\, and play time.  \nDownload the registration form. \nRegistration ends June 14\, 2018
URL:https://www.rockumchurch.com/event/rumcs-2018-vacation-bible-school-2018-06-27/
LOCATION:Rockville United Methodist Church\, 142 Grove Street\, Rockville\, CT\, 06066\, United States
CATEGORIES:Education,food,Music,RUMC Events,Volunteer Opportunity,Youth
ORGANIZER;CN="Linda Shivers":MAILTO:necsvga@aol.com
END:VEVENT
BEGIN:VEVENT
DTSTART;TZID=America/New_York:20180626T090000
DTEND;TZID=America/New_York:20180626T120000
DTSTAMP:20260423T014010
CREATED:20180417T171629Z
LAST-MODIFIED:20180417T171629Z
UID:5192-1530003600-1530014400@www.rockumchurch.com
SUMMARY:RUMC's 2018 Vacation Bible School
DESCRIPTION:Vacation Bible School\nJune 25 – 29\, 2018\n9 am to noon\n$20 per child/$40 per family maximum \nActivities include crafts\, music\, science\, bible stories\, and play time.  \nDownload the registration form. \nRegistration ends June 14\, 2018
URL:https://www.rockumchurch.com/event/rumcs-2018-vacation-bible-school-2018-06-26/
LOCATION:Rockville United Methodist Church\, 142 Grove Street\, Rockville\, CT\, 06066\, United States
CATEGORIES:Education,food,Music,RUMC Events,Volunteer Opportunity,Youth
ORGANIZER;CN="Linda Shivers":MAILTO:necsvga@aol.com
END:VEVENT
BEGIN:VEVENT
DTSTART;TZID=America/New_York:20180625T090000
DTEND;TZID=America/New_York:20180625T120000
DTSTAMP:20260423T014010
CREATED:20180417T171629Z
LAST-MODIFIED:20180417T171629Z
UID:5190-1529917200-1529928000@www.rockumchurch.com
SUMMARY:RUMC's 2018 Vacation Bible School
DESCRIPTION:Vacation Bible School\nJune 25 – 29\, 2018\n9 am to noon\n$20 per child/$40 per family maximum \nActivities include crafts\, music\, science\, bible stories\, and play time.  \nDownload the registration form. \nRegistration ends June 14\, 2018
URL:https://www.rockumchurch.com/event/rumcs-2018-vacation-bible-school/
LOCATION:Rockville United Methodist Church\, 142 Grove Street\, Rockville\, CT\, 06066\, United States
CATEGORIES:Education,food,Music,RUMC Events,Volunteer Opportunity,Youth
ORGANIZER;CN="Linda Shivers":MAILTO:necsvga@aol.com
END:VEVENT
BEGIN:VEVENT
DTSTART;TZID=America/New_York:20180623T190000
DTEND;TZID=America/New_York:20180623T203000
DTSTAMP:20260423T014010
CREATED:20180515T184249Z
LAST-MODIFIED:20180531T220407Z
UID:5266-1529780400-1529785800@www.rockumchurch.com
SUMMARY:GSM Praise Concert
DESCRIPTION:Crossing Jordan will perform.
URL:https://www.rockumchurch.com/event/gsm-praise-concert/
LOCATION:Rockville United Methodist Church\, 142 Grove Street\, Rockville\, CT\, 06066\, United States
CATEGORIES:Community Events,Fundraising,Music,Youth
ORGANIZER;CN="Geoff Gerow":MAILTO:geoffgerow@gmail.com
END:VEVENT
END:VCALENDAR