BEGIN:VCALENDAR
VERSION:2.0
PRODID:-//Rockville United Methodist Church - ECPv6.15.20//NONSGML v1.0//EN
CALSCALE:GREGORIAN
METHOD:PUBLISH
X-WR-CALNAME:Rockville United Methodist Church
X-ORIGINAL-URL:https://www.rockumchurch.com
X-WR-CALDESC:Events for Rockville United Methodist Church
REFRESH-INTERVAL;VALUE=DURATION:PT1H
X-Robots-Tag:noindex
X-PUBLISHED-TTL:PT1H
BEGIN:VTIMEZONE
TZID:America/New_York
BEGIN:DAYLIGHT
TZOFFSETFROM:-0500
TZOFFSETTO:-0400
TZNAME:EDT
DTSTART:20160313T070000
END:DAYLIGHT
BEGIN:STANDARD
TZOFFSETFROM:-0400
TZOFFSETTO:-0500
TZNAME:EST
DTSTART:20161106T060000
END:STANDARD
BEGIN:DAYLIGHT
TZOFFSETFROM:-0500
TZOFFSETTO:-0400
TZNAME:EDT
DTSTART:20170312T070000
END:DAYLIGHT
BEGIN:STANDARD
TZOFFSETFROM:-0400
TZOFFSETTO:-0500
TZNAME:EST
DTSTART:20171105T060000
END:STANDARD
BEGIN:DAYLIGHT
TZOFFSETFROM:-0500
TZOFFSETTO:-0400
TZNAME:EDT
DTSTART:20180311T070000
END:DAYLIGHT
BEGIN:STANDARD
TZOFFSETFROM:-0400
TZOFFSETTO:-0500
TZNAME:EST
DTSTART:20181104T060000
END:STANDARD
END:VTIMEZONE
BEGIN:VEVENT
DTSTART;TZID=America/New_York:20171112T100000
DTEND;TZID=America/New_York:20171112T110000
DTSTAMP:20260423T110509
CREATED:20170906T203648Z
LAST-MODIFIED:20171130T200236Z
UID:4453-1510480800-1510484400@www.rockumchurch.com
SUMMARY:Sunday School
DESCRIPTION:Free Sunday school for kids 4 years old to high school.
URL:https://www.rockumchurch.com/event/sunday-school-2017-11-12/
LOCATION:Rockville United Methodist Church\, 142 Grove Street\, Rockville\, CT\, 06066\, United States
CATEGORIES:RUMC Events,Scripture,Youth
END:VEVENT
BEGIN:VEVENT
DTSTART;TZID=America/New_York:20171105T110000
DTEND;TZID=America/New_York:20171105T120000
DTSTAMP:20260423T110509
CREATED:20170906T203223Z
LAST-MODIFIED:20170906T203223Z
UID:4542-1509879600-1509883200@www.rockumchurch.com
SUMMARY:GSM - Grove Street Music
DESCRIPTION:Youth praise band.  Perform the praise hymn during service and rehearsal after service.
URL:https://www.rockumchurch.com/event/gsm-grove-street-music-2017-11-05/
LOCATION:Rockville United Methodist Church\, 142 Grove Street\, Rockville\, CT\, 06066\, United States
CATEGORIES:Music,RUMC Events,Youth
ATTACH;FMTTYPE=image/png:https://www.rockumchurch.com/wp-content/uploads/2017/09/gsm-and-pursuing-jc.png
END:VEVENT
BEGIN:VEVENT
DTSTART;TZID=America/New_York:20171105T110000
DTEND;TZID=America/New_York:20171105T120000
DTSTAMP:20260423T110509
CREATED:20170906T203223Z
LAST-MODIFIED:20171012T170458Z
UID:4552-1509879600-1509883200@www.rockumchurch.com
SUMMARY:GSM - Grove Street Music
DESCRIPTION:Youth praise band.  Perform the praise hymn during service and rehearsal after service.
URL:https://www.rockumchurch.com/event/gsm-grove-street-music-2017-12-31-2017-11-05/
LOCATION:Rockville United Methodist Church\, 142 Grove Street\, Rockville\, CT\, 06066\, United States
CATEGORIES:Music,RUMC Events,Youth
ATTACH;FMTTYPE=image/png:https://www.rockumchurch.com/wp-content/uploads/2017/09/gsm-and-pursuing-jc.png
END:VEVENT
BEGIN:VEVENT
DTSTART;TZID=America/New_York:20171105T100000
DTEND;TZID=America/New_York:20171105T110000
DTSTAMP:20260423T110509
CREATED:20170906T203648Z
LAST-MODIFIED:20171130T200228Z
UID:4452-1509876000-1509879600@www.rockumchurch.com
SUMMARY:Sunday School
DESCRIPTION:Free Sunday school for kids 4 years old to high school.
URL:https://www.rockumchurch.com/event/sunday-school-2017-11-05/
LOCATION:Rockville United Methodist Church\, 142 Grove Street\, Rockville\, CT\, 06066\, United States
CATEGORIES:RUMC Events,Scripture,Youth
END:VEVENT
BEGIN:VEVENT
DTSTART;TZID=America/New_York:20171029T110000
DTEND;TZID=America/New_York:20171029T120000
DTSTAMP:20260423T110509
CREATED:20171012T173104Z
LAST-MODIFIED:20171012T173104Z
UID:4646-1509274800-1509278400@www.rockumchurch.com
SUMMARY:Trunk or Treat
DESCRIPTION:Join us after service for the candy distribution and costume parade. Additional activities will be organized by our Sundays Beyond Sundays youth group. \nWear your costume to church!
URL:https://www.rockumchurch.com/event/trunk-or-treat/
LOCATION:Rockville United Methodist Church\, 142 Grove Street\, Rockville\, CT\, 06066\, United States
CATEGORIES:Community Events,RUMC Events,Youth
ORGANIZER;CN="Linda Shivers":MAILTO:necsvga@aol.com
END:VEVENT
BEGIN:VEVENT
DTSTART;TZID=America/New_York:20171029T110000
DTEND;TZID=America/New_York:20171029T120000
DTSTAMP:20260423T110509
CREATED:20170906T203223Z
LAST-MODIFIED:20171012T170457Z
UID:4551-1509274800-1509278400@www.rockumchurch.com
SUMMARY:GSM - Grove Street Music
DESCRIPTION:Youth praise band.  Perform the praise hymn during service and rehearsal after service.
URL:https://www.rockumchurch.com/event/gsm-grove-street-music-2017-12-31-2017-10-29/
LOCATION:Rockville United Methodist Church\, 142 Grove Street\, Rockville\, CT\, 06066\, United States
CATEGORIES:Music,RUMC Events,Youth
ATTACH;FMTTYPE=image/png:https://www.rockumchurch.com/wp-content/uploads/2017/09/gsm-and-pursuing-jc.png
END:VEVENT
BEGIN:VEVENT
DTSTART;TZID=America/New_York:20171029T110000
DTEND;TZID=America/New_York:20171029T120000
DTSTAMP:20260423T110509
CREATED:20170906T203223Z
LAST-MODIFIED:20170927T174031Z
UID:4433-1509274800-1509278400@www.rockumchurch.com
SUMMARY:GSM - Grove Street Music
DESCRIPTION:Youth praise band.  Perform the praise hymn during service and rehearsal after service.
URL:https://www.rockumchurch.com/event/gsm-grove-street-music-2017-10-29/
LOCATION:Rockville United Methodist Church\, 142 Grove Street\, Rockville\, CT\, 06066\, United States
CATEGORIES:Music,RUMC Events,Youth
ATTACH;FMTTYPE=image/png:https://www.rockumchurch.com/wp-content/uploads/2017/09/gsm-and-pursuing-jc.png
END:VEVENT
BEGIN:VEVENT
DTSTART;TZID=America/New_York:20171029T100000
DTEND;TZID=America/New_York:20171029T110000
DTSTAMP:20260423T110509
CREATED:20170906T203648Z
LAST-MODIFIED:20171130T200228Z
UID:4451-1509271200-1509274800@www.rockumchurch.com
SUMMARY:Sunday School
DESCRIPTION:Free Sunday school for kids 4 years old to high school.
URL:https://www.rockumchurch.com/event/sunday-school-2017-10-29/
LOCATION:Rockville United Methodist Church\, 142 Grove Street\, Rockville\, CT\, 06066\, United States
CATEGORIES:RUMC Events,Scripture,Youth
END:VEVENT
BEGIN:VEVENT
DTSTART;TZID=America/New_York:20171022T180000
DTEND;TZID=America/New_York:20171022T190000
DTSTAMP:20260423T110509
CREATED:20171012T170250Z
LAST-MODIFIED:20171012T174905Z
UID:4612-1508695200-1508698800@www.rockumchurch.com
SUMMARY:Trunk or Treat Planning
DESCRIPTION:
URL:https://www.rockumchurch.com/event/trunk-or-treat-planning/
LOCATION:Rockville United Methodist Church\, 142 Grove Street\, Rockville\, CT\, 06066\, United States
CATEGORIES:Planning,RUMC Events,Youth
ORGANIZER;CN="Linda Shivers":MAILTO:necsvga@aol.com
END:VEVENT
BEGIN:VEVENT
DTSTART;TZID=America/New_York:20171022T110000
DTEND;TZID=America/New_York:20171022T120000
DTSTAMP:20260423T110509
CREATED:20170906T203223Z
LAST-MODIFIED:20170906T203223Z
UID:4541-1508670000-1508673600@www.rockumchurch.com
SUMMARY:GSM - Grove Street Music
DESCRIPTION:Youth praise band.  Perform the praise hymn during service and rehearsal after service.
URL:https://www.rockumchurch.com/event/gsm-grove-street-music-2017-10-22/
LOCATION:Rockville United Methodist Church\, 142 Grove Street\, Rockville\, CT\, 06066\, United States
CATEGORIES:Music,RUMC Events,Youth
ATTACH;FMTTYPE=image/png:https://www.rockumchurch.com/wp-content/uploads/2017/09/gsm-and-pursuing-jc.png
END:VEVENT
BEGIN:VEVENT
DTSTART;TZID=America/New_York:20171022T110000
DTEND;TZID=America/New_York:20171022T120000
DTSTAMP:20260423T110509
CREATED:20170906T203223Z
LAST-MODIFIED:20171012T170457Z
UID:4550-1508670000-1508673600@www.rockumchurch.com
SUMMARY:GSM - Grove Street Music
DESCRIPTION:Youth praise band.  Perform the praise hymn during service and rehearsal after service.
URL:https://www.rockumchurch.com/event/gsm-grove-street-music-2017-12-31-2017-10-22/
LOCATION:Rockville United Methodist Church\, 142 Grove Street\, Rockville\, CT\, 06066\, United States
CATEGORIES:Music,RUMC Events,Youth
ATTACH;FMTTYPE=image/png:https://www.rockumchurch.com/wp-content/uploads/2017/09/gsm-and-pursuing-jc.png
END:VEVENT
BEGIN:VEVENT
DTSTART;TZID=America/New_York:20171022T100000
DTEND;TZID=America/New_York:20171022T110000
DTSTAMP:20260423T110509
CREATED:20170906T203648Z
LAST-MODIFIED:20171130T200228Z
UID:4450-1508666400-1508670000@www.rockumchurch.com
SUMMARY:Sunday School
DESCRIPTION:Free Sunday school for kids 4 years old to high school.
URL:https://www.rockumchurch.com/event/sunday-school-2017-10-22/
LOCATION:Rockville United Methodist Church\, 142 Grove Street\, Rockville\, CT\, 06066\, United States
CATEGORIES:RUMC Events,Scripture,Youth
END:VEVENT
BEGIN:VEVENT
DTSTART;TZID=America/New_York:20171015T130000
DTEND;TZID=America/New_York:20171015T170000
DTSTAMP:20260423T110509
CREATED:20171012T170944Z
LAST-MODIFIED:20171012T170944Z
UID:4630-1508072400-1508086800@www.rockumchurch.com
SUMMARY:Lake Compounce Trip
DESCRIPTION:
URL:https://www.rockumchurch.com/event/lake-compounce-trip/
LOCATION:CT
CATEGORIES:Youth
ORGANIZER;CN="Linda Shivers":MAILTO:necsvga@aol.com
END:VEVENT
BEGIN:VEVENT
DTSTART;TZID=America/New_York:20171015T113000
DTEND;TZID=America/New_York:20171015T130000
DTSTAMP:20260423T110509
CREATED:20171012T170837Z
LAST-MODIFIED:20171012T170837Z
UID:4628-1508067000-1508072400@www.rockumchurch.com
SUMMARY:Confirmation Class
DESCRIPTION:
URL:https://www.rockumchurch.com/event/confirmation-class/
LOCATION:Rockville United Methodist Church\, 142 Grove Street\, Rockville\, CT\, 06066\, United States
CATEGORIES:Education,Scripture,Youth
ORGANIZER;CN="Linda Shivers":MAILTO:necsvga@aol.com
END:VEVENT
BEGIN:VEVENT
DTSTART;TZID=America/New_York:20171015T110000
DTEND;TZID=America/New_York:20171015T120000
DTSTAMP:20260423T110509
CREATED:20170906T203223Z
LAST-MODIFIED:20171012T170457Z
UID:4549-1508065200-1508068800@www.rockumchurch.com
SUMMARY:GSM - Grove Street Music
DESCRIPTION:Youth praise band.  Perform the praise hymn during service and rehearsal after service.
URL:https://www.rockumchurch.com/event/gsm-grove-street-music-2017-12-31-2017-10-15/
LOCATION:Rockville United Methodist Church\, 142 Grove Street\, Rockville\, CT\, 06066\, United States
CATEGORIES:Music,RUMC Events,Youth
ATTACH;FMTTYPE=image/png:https://www.rockumchurch.com/wp-content/uploads/2017/09/gsm-and-pursuing-jc.png
END:VEVENT
BEGIN:VEVENT
DTSTART;TZID=America/New_York:20171015T110000
DTEND;TZID=America/New_York:20171015T120000
DTSTAMP:20260423T110509
CREATED:20170906T203223Z
LAST-MODIFIED:20170927T174031Z
UID:4431-1508065200-1508068800@www.rockumchurch.com
SUMMARY:GSM - Grove Street Music
DESCRIPTION:Youth praise band.  Perform the praise hymn during service and rehearsal after service.
URL:https://www.rockumchurch.com/event/gsm-grove-street-music-2017-10-15/
LOCATION:Rockville United Methodist Church\, 142 Grove Street\, Rockville\, CT\, 06066\, United States
CATEGORIES:Music,RUMC Events,Youth
ATTACH;FMTTYPE=image/png:https://www.rockumchurch.com/wp-content/uploads/2017/09/gsm-and-pursuing-jc.png
END:VEVENT
BEGIN:VEVENT
DTSTART;TZID=America/New_York:20171015T100000
DTEND;TZID=America/New_York:20171015T110000
DTSTAMP:20260423T110509
CREATED:20170906T203648Z
LAST-MODIFIED:20171130T200228Z
UID:4449-1508061600-1508065200@www.rockumchurch.com
SUMMARY:Sunday School
DESCRIPTION:Free Sunday school for kids 4 years old to high school.
URL:https://www.rockumchurch.com/event/sunday-school-2017-10-15/
LOCATION:Rockville United Methodist Church\, 142 Grove Street\, Rockville\, CT\, 06066\, United States
CATEGORIES:RUMC Events,Scripture,Youth
END:VEVENT
BEGIN:VEVENT
DTSTART;TZID=America/New_York:20171008T110000
DTEND;TZID=America/New_York:20171008T120000
DTSTAMP:20260423T110509
CREATED:20170906T203223Z
LAST-MODIFIED:20171012T170457Z
UID:4548-1507460400-1507464000@www.rockumchurch.com
SUMMARY:GSM - Grove Street Music
DESCRIPTION:Youth praise band.  Perform the praise hymn during service and rehearsal after service.
URL:https://www.rockumchurch.com/event/gsm-grove-street-music-2017-12-31-2017-10-08/
LOCATION:Rockville United Methodist Church\, 142 Grove Street\, Rockville\, CT\, 06066\, United States
CATEGORIES:Music,RUMC Events,Youth
ATTACH;FMTTYPE=image/png:https://www.rockumchurch.com/wp-content/uploads/2017/09/gsm-and-pursuing-jc.png
END:VEVENT
BEGIN:VEVENT
DTSTART;TZID=America/New_York:20171008T110000
DTEND;TZID=America/New_York:20171008T120000
DTSTAMP:20260423T110509
CREATED:20170906T203223Z
LAST-MODIFIED:20170906T203223Z
UID:4540-1507460400-1507464000@www.rockumchurch.com
SUMMARY:GSM - Grove Street Music
DESCRIPTION:Youth praise band.  Perform the praise hymn during service and rehearsal after service.
URL:https://www.rockumchurch.com/event/gsm-grove-street-music-2017-10-08/
LOCATION:Rockville United Methodist Church\, 142 Grove Street\, Rockville\, CT\, 06066\, United States
CATEGORIES:Music,RUMC Events,Youth
ATTACH;FMTTYPE=image/png:https://www.rockumchurch.com/wp-content/uploads/2017/09/gsm-and-pursuing-jc.png
END:VEVENT
BEGIN:VEVENT
DTSTART;TZID=America/New_York:20171008T100000
DTEND;TZID=America/New_York:20171008T110000
DTSTAMP:20260423T110509
CREATED:20170906T203648Z
LAST-MODIFIED:20171130T200228Z
UID:4448-1507456800-1507460400@www.rockumchurch.com
SUMMARY:Sunday School
DESCRIPTION:Free Sunday school for kids 4 years old to high school.
URL:https://www.rockumchurch.com/event/sunday-school-2017-10-08/
LOCATION:Rockville United Methodist Church\, 142 Grove Street\, Rockville\, CT\, 06066\, United States
CATEGORIES:RUMC Events,Scripture,Youth
END:VEVENT
BEGIN:VEVENT
DTSTART;TZID=America/New_York:20171001T110000
DTEND;TZID=America/New_York:20171001T120000
DTSTAMP:20260423T110509
CREATED:20170906T203223Z
LAST-MODIFIED:20171012T170457Z
UID:4546-1506855600-1506859200@www.rockumchurch.com
SUMMARY:GSM - Grove Street Music
DESCRIPTION:Youth praise band.  Perform the praise hymn during service and rehearsal after service.
URL:https://www.rockumchurch.com/event/gsm-grove-street-music-2017-12-31/
LOCATION:Rockville United Methodist Church\, 142 Grove Street\, Rockville\, CT\, 06066\, United States
CATEGORIES:Music,RUMC Events,Youth
ATTACH;FMTTYPE=image/png:https://www.rockumchurch.com/wp-content/uploads/2017/09/gsm-and-pursuing-jc.png
END:VEVENT
BEGIN:VEVENT
DTSTART;TZID=America/New_York:20171001T110000
DTEND;TZID=America/New_York:20171001T120000
DTSTAMP:20260423T110509
CREATED:20170906T203223Z
LAST-MODIFIED:20170927T174030Z
UID:4425-1506855600-1506859200@www.rockumchurch.com
SUMMARY:GSM - Grove Street Music
DESCRIPTION:Youth praise band.  Perform the praise hymn during service and rehearsal after service.
URL:https://www.rockumchurch.com/event/gsm-grove-street-music/
LOCATION:Rockville United Methodist Church\, 142 Grove Street\, Rockville\, CT\, 06066\, United States
CATEGORIES:Music,RUMC Events,Youth
ATTACH;FMTTYPE=image/png:https://www.rockumchurch.com/wp-content/uploads/2017/09/gsm-and-pursuing-jc.png
END:VEVENT
BEGIN:VEVENT
DTSTART;TZID=America/New_York:20171001T100000
DTEND;TZID=America/New_York:20171001T110000
DTSTAMP:20260423T110509
CREATED:20170906T203648Z
LAST-MODIFIED:20171130T200228Z
UID:4447-1506852000-1506855600@www.rockumchurch.com
SUMMARY:Sunday School
DESCRIPTION:Free Sunday school for kids 4 years old to high school.
URL:https://www.rockumchurch.com/event/sunday-school-2017-10-01/
LOCATION:Rockville United Methodist Church\, 142 Grove Street\, Rockville\, CT\, 06066\, United States
CATEGORIES:RUMC Events,Scripture,Youth
END:VEVENT
BEGIN:VEVENT
DTSTART;TZID=America/New_York:20170924T100000
DTEND;TZID=America/New_York:20170924T110000
DTSTAMP:20260423T110509
CREATED:20170906T203648Z
LAST-MODIFIED:20171130T200228Z
UID:4446-1506247200-1506250800@www.rockumchurch.com
SUMMARY:Sunday School
DESCRIPTION:Free Sunday school for kids 4 years old to high school.
URL:https://www.rockumchurch.com/event/sunday-school-2017-09-24/
LOCATION:Rockville United Methodist Church\, 142 Grove Street\, Rockville\, CT\, 06066\, United States
CATEGORIES:RUMC Events,Scripture,Youth
END:VEVENT
BEGIN:VEVENT
DTSTART;TZID=America/New_York:20170917T100000
DTEND;TZID=America/New_York:20170917T110000
DTSTAMP:20260423T110509
CREATED:20170906T203648Z
LAST-MODIFIED:20171130T200228Z
UID:4445-1505642400-1505646000@www.rockumchurch.com
SUMMARY:Sunday School
DESCRIPTION:Free Sunday school for kids 4 years old to high school.
URL:https://www.rockumchurch.com/event/sunday-school-2017-09-17/
LOCATION:Rockville United Methodist Church\, 142 Grove Street\, Rockville\, CT\, 06066\, United States
CATEGORIES:RUMC Events,Scripture,Youth
END:VEVENT
BEGIN:VEVENT
DTSTART;TZID=America/New_York:20170910T100000
DTEND;TZID=America/New_York:20170910T110000
DTSTAMP:20260423T110509
CREATED:20170906T203648Z
LAST-MODIFIED:20171130T200227Z
UID:4443-1505037600-1505041200@www.rockumchurch.com
SUMMARY:Sunday School
DESCRIPTION:Free Sunday school for kids 4 years old to high school.
URL:https://www.rockumchurch.com/event/sunday-school/
LOCATION:Rockville United Methodist Church\, 142 Grove Street\, Rockville\, CT\, 06066\, United States
CATEGORIES:RUMC Events,Scripture,Youth
END:VEVENT
END:VCALENDAR