BEGIN:VCALENDAR
VERSION:2.0
PRODID:-//Rockville United Methodist Church - ECPv6.15.20//NONSGML v1.0//EN
CALSCALE:GREGORIAN
METHOD:PUBLISH
X-WR-CALNAME:Rockville United Methodist Church
X-ORIGINAL-URL:https://www.rockumchurch.com
X-WR-CALDESC:Events for Rockville United Methodist Church
REFRESH-INTERVAL;VALUE=DURATION:PT1H
X-Robots-Tag:noindex
X-PUBLISHED-TTL:PT1H
BEGIN:VTIMEZONE
TZID:America/New_York
BEGIN:DAYLIGHT
TZOFFSETFROM:-0500
TZOFFSETTO:-0400
TZNAME:EDT
DTSTART:20180311T070000
END:DAYLIGHT
BEGIN:STANDARD
TZOFFSETFROM:-0400
TZOFFSETTO:-0500
TZNAME:EST
DTSTART:20181104T060000
END:STANDARD
BEGIN:DAYLIGHT
TZOFFSETFROM:-0500
TZOFFSETTO:-0400
TZNAME:EDT
DTSTART:20190310T070000
END:DAYLIGHT
BEGIN:STANDARD
TZOFFSETFROM:-0400
TZOFFSETTO:-0500
TZNAME:EST
DTSTART:20191103T060000
END:STANDARD
BEGIN:DAYLIGHT
TZOFFSETFROM:-0500
TZOFFSETTO:-0400
TZNAME:EDT
DTSTART:20200308T070000
END:DAYLIGHT
BEGIN:STANDARD
TZOFFSETFROM:-0400
TZOFFSETTO:-0500
TZNAME:EST
DTSTART:20201101T060000
END:STANDARD
END:VTIMEZONE
BEGIN:VEVENT
DTSTART;TZID=America/New_York:20191015T190000
DTEND;TZID=America/New_York:20191015T210000
DTSTAMP:20260423T042711
CREATED:20190926T182908Z
LAST-MODIFIED:20190926T182908Z
UID:7146-1571166000-1571173200@www.rockumchurch.com
SUMMARY:Men's Rehearsal
DESCRIPTION:
URL:https://www.rockumchurch.com/event/mens-rehearsal-2/
LOCATION:Rockville United Methodist Church\, 142 Grove Street\, Rockville\, CT\, 06066\, United States
CATEGORIES:Music,Planning
END:VEVENT
BEGIN:VEVENT
DTSTART;VALUE=DATE:20191014
DTEND;VALUE=DATE:20191104
DTSTAMP:20260423T042711
CREATED:20190926T185221Z
LAST-MODIFIED:20191002T185017Z
UID:7158-1571011200-1572825599@www.rockumchurch.com
SUMMARY:Cookies and Cake Roll Fundraiser
DESCRIPTION:Looking for a holiday cake roll? Would Santa like hot cookies on Christmas Eve? We are selling Joyful Traditions Cake Rolls and Otis Spunkmeyer cookie dough at Rockville United Methodist Church. We have four kinds of cake rolls that are ready to just thaw and serve: chocolate crème\, strawberry cheesecake\, red velvet\, and pumpkin. Otis Spunkmeyer cookies are easy to bake and available in eight flavors: chocolate chip\, white chocolate macadamia nut\, oatmeal raisin\, peanut butter\, triple chocolate chunk\, strawberry shortcake\, butter toffee crunch\, and snickerdoodle. \nThe sale is from October 13\, 2019 to November 4\, 2019. The frozen desserts will be available for pick up\, just in time for Thanksgiving\, starting on Friday November 22\, 2019 at Rockville United Methodist Church\, 142 Grove Street\, Rockville\, CT 06066. Check out our online store for this fundraiser: https://my.mcmfundraising.com/2019-fall-rockville-united-methodist-church/diane-lajoie.
URL:https://www.rockumchurch.com/event/cookies-and-cake-roll-fundraiser/
LOCATION:Rockville United Methodist Church\, 142 Grove Street\, Rockville\, CT\, 06066\, United States
CATEGORIES:food,Fundraising
ORGANIZER;CN="Diane Lajoie":MAILTO:RockvilleUMC@outlook.com
END:VEVENT
BEGIN:VEVENT
DTSTART;TZID=America/New_York:20191013T100000
DTEND;TZID=America/New_York:20191013T110000
DTSTAMP:20260423T042711
CREATED:20190104T160546Z
LAST-MODIFIED:20190104T160546Z
UID:6155-1570960800-1570964400@www.rockumchurch.com
SUMMARY:Sunday School
DESCRIPTION:Sunday school begins after the Children’s Message in our worship service.  \nSunday school is free and open to kids 3 years old to High School.  
URL:https://www.rockumchurch.com/event/sunday-school-6-2019-10-13/
LOCATION:Rockville United Methodist Church\, 142 Grove Street\, Rockville\, CT\, 06066\, United States
CATEGORIES:Education,Worship,Youth
ORGANIZER;CN="Linda Shivers":MAILTO:necsvga@aol.com
END:VEVENT
BEGIN:VEVENT
DTSTART;VALUE=DATE:20191013
DTEND;VALUE=DATE:20191014
DTSTAMP:20260423T042711
CREATED:20190926T185103Z
LAST-MODIFIED:20190926T185103Z
UID:7155-1570924800-1571011199@www.rockumchurch.com
SUMMARY:Cookie and Cake Fundraiser Begins
DESCRIPTION:
URL:https://www.rockumchurch.com/event/cookie-and-cake-fundraiser-begins/
LOCATION:Rockville United Methodist Church\, 142 Grove Street\, Rockville\, CT\, 06066\, United States
CATEGORIES:food,Fundraising
ORGANIZER;CN="Diane Lajoie":MAILTO:RockvilleUMC@outlook.com
END:VEVENT
BEGIN:VEVENT
DTSTART;TZID=America/New_York:20191010T190000
DTEND;TZID=America/New_York:20191010T210000
DTSTAMP:20260423T042711
CREATED:20190717T184628Z
LAST-MODIFIED:20190717T184628Z
UID:6942-1570734000-1570741200@www.rockumchurch.com
SUMMARY:Leap of Faith Rehearsal
DESCRIPTION:
URL:https://www.rockumchurch.com/event/leap-of-faith-rehearsal-5/
LOCATION:Rockville United Methodist Church\, 142 Grove Street\, Rockville\, CT\, 06066\, United States
CATEGORIES:Music,Planning
END:VEVENT
BEGIN:VEVENT
DTSTART;TZID=America/New_York:20191009T090000
DTEND;TZID=America/New_York:20191009T113000
DTSTAMP:20260423T042711
CREATED:20190104T163116Z
LAST-MODIFIED:20190104T163116Z
UID:6326-1570611600-1570620600@www.rockumchurch.com
SUMMARY:GOM - Grumpy Old Men
DESCRIPTION:Our “Grumpy Old Men” meet on Wednesday mornings to maintain the church building\, grounds\, and parsonage.  These dedicated individuals keep our church in working order and set up the signs and banners needed for special occasions. They can always use an extra pair of hands.  Coffee\, snacks\, and fellowship are part of their weekly gatherings.
URL:https://www.rockumchurch.com/event/gom-grumpy-old-men-4-2019-10-09/
LOCATION:Rockville United Methodist Church\, 142 Grove Street\, Rockville\, CT\, 06066\, United States
CATEGORIES:Maintenance,Volunteer Opportunity
ORGANIZER;CN="Don Ross":MAILTO:rumcoffice@sbcglobla.net
END:VEVENT
BEGIN:VEVENT
DTSTART;TZID=America/New_York:20191008T190000
DTEND;TZID=America/New_York:20191008T210000
DTSTAMP:20260423T042711
CREATED:20190926T183142Z
LAST-MODIFIED:20190926T183142Z
UID:7150-1570561200-1570568400@www.rockumchurch.com
SUMMARY:Women's Rehearsal
DESCRIPTION:
URL:https://www.rockumchurch.com/event/womens-rehearsal/
LOCATION:Rockville United Methodist Church\, 142 Grove Street\, Rockville\, CT\, 06066\, United States
CATEGORIES:Music,Planning
END:VEVENT
BEGIN:VEVENT
DTSTART;TZID=America/New_York:20191006T100000
DTEND;TZID=America/New_York:20191006T110000
DTSTAMP:20260423T042711
CREATED:20190104T160546Z
LAST-MODIFIED:20190104T160546Z
UID:6154-1570356000-1570359600@www.rockumchurch.com
SUMMARY:Sunday School
DESCRIPTION:Sunday school begins after the Children’s Message in our worship service.  \nSunday school is free and open to kids 3 years old to High School.  
URL:https://www.rockumchurch.com/event/sunday-school-6-2019-10-06/
LOCATION:Rockville United Methodist Church\, 142 Grove Street\, Rockville\, CT\, 06066\, United States
CATEGORIES:Education,Worship,Youth
ORGANIZER;CN="Linda Shivers":MAILTO:necsvga@aol.com
END:VEVENT
BEGIN:VEVENT
DTSTART;TZID=America/New_York:20191003T190000
DTEND;TZID=America/New_York:20191003T210000
DTSTAMP:20260423T042711
CREATED:20190717T184842Z
LAST-MODIFIED:20190717T184842Z
UID:6945-1570129200-1570136400@www.rockumchurch.com
SUMMARY:Leap of Faith Rehearsal
DESCRIPTION:
URL:https://www.rockumchurch.com/event/leap-of-faith-rehearsal-6/
LOCATION:Rockville United Methodist Church\, 142 Grove Street\, Rockville\, CT\, 06066\, United States
CATEGORIES:Music,Planning
END:VEVENT
BEGIN:VEVENT
DTSTART;TZID=America/New_York:20191002T090000
DTEND;TZID=America/New_York:20191002T113000
DTSTAMP:20260423T042711
CREATED:20190104T163116Z
LAST-MODIFIED:20190104T163116Z
UID:6325-1570006800-1570015800@www.rockumchurch.com
SUMMARY:GOM - Grumpy Old Men
DESCRIPTION:Our “Grumpy Old Men” meet on Wednesday mornings to maintain the church building\, grounds\, and parsonage.  These dedicated individuals keep our church in working order and set up the signs and banners needed for special occasions. They can always use an extra pair of hands.  Coffee\, snacks\, and fellowship are part of their weekly gatherings.
URL:https://www.rockumchurch.com/event/gom-grumpy-old-men-4-2019-10-02/
LOCATION:Rockville United Methodist Church\, 142 Grove Street\, Rockville\, CT\, 06066\, United States
CATEGORIES:Maintenance,Volunteer Opportunity
ORGANIZER;CN="Don Ross":MAILTO:rumcoffice@sbcglobla.net
END:VEVENT
BEGIN:VEVENT
DTSTART;TZID=America/New_York:20191001T190000
DTEND;TZID=America/New_York:20191001T210000
DTSTAMP:20260423T042711
CREATED:20190926T182804Z
LAST-MODIFIED:20190926T182804Z
UID:7144-1569956400-1569963600@www.rockumchurch.com
SUMMARY:Men's Rehearsal
DESCRIPTION:
URL:https://www.rockumchurch.com/event/mens-rehearsal/
LOCATION:Rockville United Methodist Church\, 142 Grove Street\, Rockville\, CT\, 06066\, United States
CATEGORIES:Music,Planning
END:VEVENT
BEGIN:VEVENT
DTSTART;TZID=America/New_York:20190929T100000
DTEND;TZID=America/New_York:20190929T110000
DTSTAMP:20260423T042711
CREATED:20190104T160546Z
LAST-MODIFIED:20190104T160546Z
UID:6153-1569751200-1569754800@www.rockumchurch.com
SUMMARY:Sunday School
DESCRIPTION:Sunday school begins after the Children’s Message in our worship service.  \nSunday school is free and open to kids 3 years old to High School.  
URL:https://www.rockumchurch.com/event/sunday-school-6-2019-09-29/
LOCATION:Rockville United Methodist Church\, 142 Grove Street\, Rockville\, CT\, 06066\, United States
CATEGORIES:Education,Worship,Youth
ORGANIZER;CN="Linda Shivers":MAILTO:necsvga@aol.com
END:VEVENT
BEGIN:VEVENT
DTSTART;TZID=America/New_York:20190925T090000
DTEND;TZID=America/New_York:20190925T113000
DTSTAMP:20260423T042711
CREATED:20190104T163116Z
LAST-MODIFIED:20190104T163116Z
UID:6324-1569402000-1569411000@www.rockumchurch.com
SUMMARY:GOM - Grumpy Old Men
DESCRIPTION:Our “Grumpy Old Men” meet on Wednesday mornings to maintain the church building\, grounds\, and parsonage.  These dedicated individuals keep our church in working order and set up the signs and banners needed for special occasions. They can always use an extra pair of hands.  Coffee\, snacks\, and fellowship are part of their weekly gatherings.
URL:https://www.rockumchurch.com/event/gom-grumpy-old-men-4-2019-09-25/
LOCATION:Rockville United Methodist Church\, 142 Grove Street\, Rockville\, CT\, 06066\, United States
CATEGORIES:Maintenance,Volunteer Opportunity
ORGANIZER;CN="Don Ross":MAILTO:rumcoffice@sbcglobla.net
END:VEVENT
BEGIN:VEVENT
DTSTART;TZID=America/New_York:20190924T190000
DTEND;TZID=America/New_York:20190924T210000
DTSTAMP:20260423T042711
CREATED:20190717T185007Z
LAST-MODIFIED:20190906T204513Z
UID:6951-1569351600-1569358800@www.rockumchurch.com
SUMMARY:Leap of Faith Rehearsal
DESCRIPTION:Full Choir Rehearsal \n 
URL:https://www.rockumchurch.com/event/leap-of-faith-rehearsal-7/
LOCATION:Rockville United Methodist Church\, 142 Grove Street\, Rockville\, CT\, 06066\, United States
CATEGORIES:Music,Planning
END:VEVENT
BEGIN:VEVENT
DTSTART;TZID=America/New_York:20190922T110000
DTEND;TZID=America/New_York:20190922T120000
DTSTAMP:20260423T042711
CREATED:20190830T191916Z
LAST-MODIFIED:20190830T191930Z
UID:7059-1569150000-1569153600@www.rockumchurch.com
SUMMARY:Soup Fellowship Fundraiser
DESCRIPTION:Join us after service for an early lunch.  Soup and salad will be provided.
URL:https://www.rockumchurch.com/event/soup-fellowship-fundraiser/
LOCATION:Rockville United Methodist Church\, 142 Grove Street\, Rockville\, CT\, 06066\, United States
CATEGORIES:food,Fundraising
ORGANIZER;CN="Diane Lajoie":MAILTO:RockvilleUMC@outlook.com
END:VEVENT
BEGIN:VEVENT
DTSTART;TZID=America/New_York:20190922T100000
DTEND;TZID=America/New_York:20190922T110000
DTSTAMP:20260423T042711
CREATED:20190104T160546Z
LAST-MODIFIED:20190104T160546Z
UID:6152-1569146400-1569150000@www.rockumchurch.com
SUMMARY:Sunday School
DESCRIPTION:Sunday school begins after the Children’s Message in our worship service.  \nSunday school is free and open to kids 3 years old to High School.  
URL:https://www.rockumchurch.com/event/sunday-school-6-2019-09-22/
LOCATION:Rockville United Methodist Church\, 142 Grove Street\, Rockville\, CT\, 06066\, United States
CATEGORIES:Education,Worship,Youth
ORGANIZER;CN="Linda Shivers":MAILTO:necsvga@aol.com
END:VEVENT
BEGIN:VEVENT
DTSTART;TZID=America/New_York:20190920T190000
DTEND;TZID=America/New_York:20190921T080000
DTSTAMP:20260423T042711
CREATED:20190830T185955Z
LAST-MODIFIED:20190830T190004Z
UID:7033-1569006000-1569052800@www.rockumchurch.com
SUMMARY:Youth Sleepover
DESCRIPTION:Youth Group’s first sleepover of the new school year.
URL:https://www.rockumchurch.com/event/youth-sleepover-3/
LOCATION:Rockville United Methodist Church\, 142 Grove Street\, Rockville\, CT\, 06066\, United States
CATEGORIES:Youth
ORGANIZER;CN="Linda Shivers":MAILTO:necsvga@aol.com
END:VEVENT
BEGIN:VEVENT
DTSTART;TZID=America/New_York:20190919T190000
DTEND;TZID=America/New_York:20190919T210000
DTSTAMP:20260423T042711
CREATED:20190717T185124Z
LAST-MODIFIED:20190717T185124Z
UID:6953-1568919600-1568926800@www.rockumchurch.com
SUMMARY:Leap of Faith Rehearsal
DESCRIPTION:
URL:https://www.rockumchurch.com/event/leap-of-faith-rehearsal-8/
LOCATION:Rockville United Methodist Church\, 142 Grove Street\, Rockville\, CT\, 06066\, United States
CATEGORIES:Music,Planning
END:VEVENT
BEGIN:VEVENT
DTSTART;TZID=America/New_York:20190918T090000
DTEND;TZID=America/New_York:20190918T113000
DTSTAMP:20260423T042711
CREATED:20190104T163116Z
LAST-MODIFIED:20190104T163116Z
UID:6323-1568797200-1568806200@www.rockumchurch.com
SUMMARY:GOM - Grumpy Old Men
DESCRIPTION:Our “Grumpy Old Men” meet on Wednesday mornings to maintain the church building\, grounds\, and parsonage.  These dedicated individuals keep our church in working order and set up the signs and banners needed for special occasions. They can always use an extra pair of hands.  Coffee\, snacks\, and fellowship are part of their weekly gatherings.
URL:https://www.rockumchurch.com/event/gom-grumpy-old-men-4-2019-09-18/
LOCATION:Rockville United Methodist Church\, 142 Grove Street\, Rockville\, CT\, 06066\, United States
CATEGORIES:Maintenance,Volunteer Opportunity
ORGANIZER;CN="Don Ross":MAILTO:rumcoffice@sbcglobla.net
END:VEVENT
BEGIN:VEVENT
DTSTART;TZID=America/New_York:20190915T100000
DTEND;TZID=America/New_York:20190915T110000
DTSTAMP:20260423T042711
CREATED:20190104T160546Z
LAST-MODIFIED:20190104T160546Z
UID:6151-1568541600-1568545200@www.rockumchurch.com
SUMMARY:Sunday School
DESCRIPTION:Sunday school begins after the Children’s Message in our worship service.  \nSunday school is free and open to kids 3 years old to High School.  
URL:https://www.rockumchurch.com/event/sunday-school-6-2019-09-15/
LOCATION:Rockville United Methodist Church\, 142 Grove Street\, Rockville\, CT\, 06066\, United States
CATEGORIES:Education,Worship,Youth
ORGANIZER;CN="Linda Shivers":MAILTO:necsvga@aol.com
END:VEVENT
BEGIN:VEVENT
DTSTART;TZID=America/New_York:20190914T180000
DTEND;TZID=America/New_York:20190914T210000
DTSTAMP:20260423T042711
CREATED:20190730T181803Z
LAST-MODIFIED:20190730T181803Z
UID:6997-1568484000-1568494800@www.rockumchurch.com
SUMMARY:Pasta Dinner and Auction
DESCRIPTION:Pasta Dinner and Auction\nEnjoy the fellowship of an Italian meal followed by the excitement an auction.\nSaturday\nSeptember 14\, 2019\n6 pm\nSeptember 14\, 2019 Pasta Dinner & Auction
URL:https://www.rockumchurch.com/event/pasta-dinner-and-auction/
LOCATION:Rockville United Methodist Church\, 142 Grove Street\, Rockville\, CT\, 06066\, United States
CATEGORIES:Community Events,food,Fundraising,RUMC Events
END:VEVENT
BEGIN:VEVENT
DTSTART;TZID=America/New_York:20190912T190000
DTEND;TZID=America/New_York:20190912T210000
DTSTAMP:20260423T042711
CREATED:20190717T185229Z
LAST-MODIFIED:20190717T185229Z
UID:6955-1568314800-1568322000@www.rockumchurch.com
SUMMARY:Leap of Faith Rehearsal
DESCRIPTION:
URL:https://www.rockumchurch.com/event/leap-of-faith-rehearsal-9/
LOCATION:Rockville United Methodist Church\, 142 Grove Street\, Rockville\, CT\, 06066\, United States
CATEGORIES:Music,Planning
END:VEVENT
BEGIN:VEVENT
DTSTART;TZID=America/New_York:20190911T090000
DTEND;TZID=America/New_York:20190911T113000
DTSTAMP:20260423T042711
CREATED:20190104T163116Z
LAST-MODIFIED:20190104T163116Z
UID:6322-1568192400-1568201400@www.rockumchurch.com
SUMMARY:GOM - Grumpy Old Men
DESCRIPTION:Our “Grumpy Old Men” meet on Wednesday mornings to maintain the church building\, grounds\, and parsonage.  These dedicated individuals keep our church in working order and set up the signs and banners needed for special occasions. They can always use an extra pair of hands.  Coffee\, snacks\, and fellowship are part of their weekly gatherings.
URL:https://www.rockumchurch.com/event/gom-grumpy-old-men-4-2019-09-11/
LOCATION:Rockville United Methodist Church\, 142 Grove Street\, Rockville\, CT\, 06066\, United States
CATEGORIES:Maintenance,Volunteer Opportunity
ORGANIZER;CN="Don Ross":MAILTO:rumcoffice@sbcglobla.net
END:VEVENT
BEGIN:VEVENT
DTSTART;TZID=America/New_York:20190910T190000
DTEND;TZID=America/New_York:20190910T200000
DTSTAMP:20260423T042711
CREATED:20190906T205352Z
LAST-MODIFIED:20190906T205352Z
UID:7083-1568142000-1568145600@www.rockumchurch.com
SUMMARY:Men's Leap of Faith Rehearsal
DESCRIPTION:
URL:https://www.rockumchurch.com/event/mens-leap-of-faith-rehearsal/
LOCATION:Rockville United Methodist Church\, 142 Grove Street\, Rockville\, CT\, 06066\, United States
CATEGORIES:Music,Planning
END:VEVENT
BEGIN:VEVENT
DTSTART;TZID=America/New_York:20190908T100000
DTEND;TZID=America/New_York:20190908T120000
DTSTAMP:20260423T042711
CREATED:20190730T181938Z
LAST-MODIFIED:20190730T181938Z
UID:6999-1567936800-1567944000@www.rockumchurch.com
SUMMARY:2019 Rally Sunday
DESCRIPTION:Join us for a picnic after our 10 am service on Sunday September 8\, 2019 to kick off our new Sunday School Year. Burgers and Hot Dogs will be provided. Please bring a pot-luck side dish.
URL:https://www.rockumchurch.com/event/2019-rally-sunday/
LOCATION:Rockville United Methodist Church\, 142 Grove Street\, Rockville\, CT\, 06066\, United States
CATEGORIES:Community Events,food,RUMC Events,Youth
ORGANIZER;CN="Linda Shivers":MAILTO:necsvga@aol.com
END:VEVENT
BEGIN:VEVENT
DTSTART;TZID=America/New_York:20190908T100000
DTEND;TZID=America/New_York:20190908T110000
DTSTAMP:20260423T042711
CREATED:20190104T160546Z
LAST-MODIFIED:20190104T160546Z
UID:6150-1567936800-1567940400@www.rockumchurch.com
SUMMARY:Sunday School
DESCRIPTION:Sunday school begins after the Children’s Message in our worship service.  \nSunday school is free and open to kids 3 years old to High School.  
URL:https://www.rockumchurch.com/event/sunday-school-6-2019-09-08/
LOCATION:Rockville United Methodist Church\, 142 Grove Street\, Rockville\, CT\, 06066\, United States
CATEGORIES:Education,Worship,Youth
ORGANIZER;CN="Linda Shivers":MAILTO:necsvga@aol.com
END:VEVENT
BEGIN:VEVENT
DTSTART;TZID=America/New_York:20190905T190000
DTEND;TZID=America/New_York:20190905T210000
DTSTAMP:20260423T042711
CREATED:20190717T185504Z
LAST-MODIFIED:20190717T185504Z
UID:6957-1567710000-1567717200@www.rockumchurch.com
SUMMARY:Leap of Faith Rehearsal
DESCRIPTION:Practice begins tonight for our Leap of Faith Concert.  Rehearsals are Thursday nights with sectionals on Tuesday nights.  The concert will be Sunday morning\, November 3\, 2109 at 10 am. \n \n 
URL:https://www.rockumchurch.com/event/leap-of-faith-rehearsal-10/
LOCATION:Rockville United Methodist Church\, 142 Grove Street\, Rockville\, CT\, 06066\, United States
CATEGORIES:Music,Planning
END:VEVENT
BEGIN:VEVENT
DTSTART;TZID=America/New_York:20190904T090000
DTEND;TZID=America/New_York:20190904T113000
DTSTAMP:20260423T042711
CREATED:20190104T163116Z
LAST-MODIFIED:20190104T163116Z
UID:6321-1567587600-1567596600@www.rockumchurch.com
SUMMARY:GOM - Grumpy Old Men
DESCRIPTION:Our “Grumpy Old Men” meet on Wednesday mornings to maintain the church building\, grounds\, and parsonage.  These dedicated individuals keep our church in working order and set up the signs and banners needed for special occasions. They can always use an extra pair of hands.  Coffee\, snacks\, and fellowship are part of their weekly gatherings.
URL:https://www.rockumchurch.com/event/gom-grumpy-old-men-4-2019-09-04/
LOCATION:Rockville United Methodist Church\, 142 Grove Street\, Rockville\, CT\, 06066\, United States
CATEGORIES:Maintenance,Volunteer Opportunity
ORGANIZER;CN="Don Ross":MAILTO:rumcoffice@sbcglobla.net
END:VEVENT
BEGIN:VEVENT
DTSTART;TZID=America/New_York:20190828T090000
DTEND;TZID=America/New_York:20190828T113000
DTSTAMP:20260423T042711
CREATED:20190104T163116Z
LAST-MODIFIED:20190104T163116Z
UID:6320-1566982800-1566991800@www.rockumchurch.com
SUMMARY:GOM - Grumpy Old Men
DESCRIPTION:Our “Grumpy Old Men” meet on Wednesday mornings to maintain the church building\, grounds\, and parsonage.  These dedicated individuals keep our church in working order and set up the signs and banners needed for special occasions. They can always use an extra pair of hands.  Coffee\, snacks\, and fellowship are part of their weekly gatherings.
URL:https://www.rockumchurch.com/event/gom-grumpy-old-men-4-2019-08-28/
LOCATION:Rockville United Methodist Church\, 142 Grove Street\, Rockville\, CT\, 06066\, United States
CATEGORIES:Maintenance,Volunteer Opportunity
ORGANIZER;CN="Don Ross":MAILTO:rumcoffice@sbcglobla.net
END:VEVENT
BEGIN:VEVENT
DTSTART;TZID=America/New_York:20190821T090000
DTEND;TZID=America/New_York:20190821T113000
DTSTAMP:20260423T042711
CREATED:20190104T163116Z
LAST-MODIFIED:20190104T163116Z
UID:6319-1566378000-1566387000@www.rockumchurch.com
SUMMARY:GOM - Grumpy Old Men
DESCRIPTION:Our “Grumpy Old Men” meet on Wednesday mornings to maintain the church building\, grounds\, and parsonage.  These dedicated individuals keep our church in working order and set up the signs and banners needed for special occasions. They can always use an extra pair of hands.  Coffee\, snacks\, and fellowship are part of their weekly gatherings.
URL:https://www.rockumchurch.com/event/gom-grumpy-old-men-4-2019-08-21/
LOCATION:Rockville United Methodist Church\, 142 Grove Street\, Rockville\, CT\, 06066\, United States
CATEGORIES:Maintenance,Volunteer Opportunity
ORGANIZER;CN="Don Ross":MAILTO:rumcoffice@sbcglobla.net
END:VEVENT
END:VCALENDAR