BEGIN:VCALENDAR
VERSION:2.0
PRODID:-//Rockville United Methodist Church - ECPv6.15.20//NONSGML v1.0//EN
CALSCALE:GREGORIAN
METHOD:PUBLISH
X-ORIGINAL-URL:https://www.rockumchurch.com
X-WR-CALDESC:Events for Rockville United Methodist Church
REFRESH-INTERVAL;VALUE=DURATION:PT1H
X-Robots-Tag:noindex
X-PUBLISHED-TTL:PT1H
BEGIN:VTIMEZONE
TZID:America/New_York
BEGIN:DAYLIGHT
TZOFFSETFROM:-0500
TZOFFSETTO:-0400
TZNAME:EDT
DTSTART:20160313T070000
END:DAYLIGHT
BEGIN:STANDARD
TZOFFSETFROM:-0400
TZOFFSETTO:-0500
TZNAME:EST
DTSTART:20161106T060000
END:STANDARD
BEGIN:DAYLIGHT
TZOFFSETFROM:-0500
TZOFFSETTO:-0400
TZNAME:EDT
DTSTART:20170312T070000
END:DAYLIGHT
BEGIN:STANDARD
TZOFFSETFROM:-0400
TZOFFSETTO:-0500
TZNAME:EST
DTSTART:20171105T060000
END:STANDARD
BEGIN:DAYLIGHT
TZOFFSETFROM:-0500
TZOFFSETTO:-0400
TZNAME:EDT
DTSTART:20180311T070000
END:DAYLIGHT
BEGIN:STANDARD
TZOFFSETFROM:-0400
TZOFFSETTO:-0500
TZNAME:EST
DTSTART:20181104T060000
END:STANDARD
END:VTIMEZONE
BEGIN:VEVENT
DTSTART;TZID=America/New_York:20171217T100000
DTEND;TZID=America/New_York:20171217T110000
DTSTAMP:20260425T234057
CREATED:20170906T203916Z
LAST-MODIFIED:20170906T203916Z
UID:4476-1513504800-1513508400@www.rockumchurch.com
SUMMARY:Sunday Service
DESCRIPTION:All are welcome to our weekly Methodist service.
URL:https://www.rockumchurch.com/event/sunday-service-2017-12-17/
LOCATION:Rockville United Methodist Church\, 142 Grove Street\, Rockville\, CT\, 06066\, United States
CATEGORIES:RUMC Events,Scripture
END:VEVENT
BEGIN:VEVENT
DTSTART;TZID=America/New_York:20171217T100000
DTEND;TZID=America/New_York:20171217T110000
DTSTAMP:20260425T234057
CREATED:20170906T203648Z
LAST-MODIFIED:20171130T200237Z
UID:4458-1513504800-1513508400@www.rockumchurch.com
SUMMARY:Sunday School
DESCRIPTION:Free Sunday school for kids 4 years old to high school.
URL:https://www.rockumchurch.com/event/sunday-school-2017-12-17/
LOCATION:Rockville United Methodist Church\, 142 Grove Street\, Rockville\, CT\, 06066\, United States
CATEGORIES:RUMC Events,Scripture,Youth
END:VEVENT
BEGIN:VEVENT
DTSTART;TZID=America/New_York:20171216T090000
DTEND;TZID=America/New_York:20171216T110000
DTSTAMP:20260425T234057
CREATED:20170906T152529Z
LAST-MODIFIED:20170906T152529Z
UID:4355-1513414800-1513422000@www.rockumchurch.com
SUMMARY:Pastor's Prayer Meeting
DESCRIPTION:Join Pastor Paul and a group of United Methodist from Ghana as we pray for the United States\, the United Methodist Church\, and our local church. \n 
URL:https://www.rockumchurch.com/event/pastors-prayer-meeting-2017-12-16/
LOCATION:Rockville United Methodist Church\, 142 Grove Street\, Rockville\, CT\, 06066\, United States
CATEGORIES:RUMC Events,Scripture
ORGANIZER;CN="Paul O'Neil":MAILTO:pastorpaul0202@gmail.com
END:VEVENT
BEGIN:VEVENT
DTSTART;TZID=America/New_York:20171215T100000
DTEND;TZID=America/New_York:20171215T110000
DTSTAMP:20260425T234057
CREATED:20170906T151320Z
LAST-MODIFIED:20170906T195809Z
UID:4149-1513332000-1513335600@www.rockumchurch.com
SUMMARY:Bible Devotional
DESCRIPTION:Join Pastor O’Neil for an in depth exploration of this week’s scripture.
URL:https://www.rockumchurch.com/event/bible-devotional-2017-12-15/
LOCATION:Varies
CATEGORIES:RUMC Events,Scripture
ORGANIZER;CN="Paul O'Neil":MAILTO:pastorpaul0202@gmail.com
END:VEVENT
BEGIN:VEVENT
DTSTART;TZID=America/New_York:20171214T190000
DTEND;TZID=America/New_York:20171214T203000
DTSTAMP:20260425T234057
CREATED:20170906T200839Z
LAST-MODIFIED:20170906T200839Z
UID:4387-1513278000-1513283400@www.rockumchurch.com
SUMMARY:Senior Choir
DESCRIPTION:
URL:https://www.rockumchurch.com/event/senior-choir-2017-12-14/
LOCATION:CT
CATEGORIES:Music,RUMC Events
END:VEVENT
BEGIN:VEVENT
DTSTART;TZID=America/New_York:20171214T160000
DTEND;TZID=America/New_York:20171214T170000
DTSTAMP:20260425T234057
CREATED:20171201T183528Z
LAST-MODIFIED:20171201T183528Z
UID:4782-1513267200-1513270800@www.rockumchurch.com
SUMMARY:Seekers
DESCRIPTION:At Ray Clark’s House
URL:https://www.rockumchurch.com/event/seekers-2/
LOCATION:CT
CATEGORIES:Planning,Scripture
ORGANIZER;CN="Paul O'Neil":MAILTO:pastorpaul0202@gmail.com
END:VEVENT
BEGIN:VEVENT
DTSTART;TZID=America/New_York:20171213T090000
DTEND;TZID=America/New_York:20171213T110000
DTSTAMP:20260425T234057
CREATED:20170906T162645Z
LAST-MODIFIED:20170906T162645Z
UID:4370-1513155600-1513162800@www.rockumchurch.com
SUMMARY:GOM - Grumpy Old Men
DESCRIPTION:The GOM’s meet every Wednesday morning to do maintenance work around the church.  All are welcome to join them; the guys can use help with the raking\, fellowship hall set up\, holiday set up\, event sign displays\, floor replacement\, bulletin board repair\, caulking\, painting\, window sealing\, parking lot striping\, hedge trimming\,  mulching…
URL:https://www.rockumchurch.com/event/gom-grumpy-old-men-2-2017-12-13/
LOCATION:Rockville United Methodist Church\, 142 Grove Street\, Rockville\, CT\, 06066\, United States
CATEGORIES:Maintenance,RUMC Events
ORGANIZER;CN="Don Ross":MAILTO:rumcoffice@sbcglobla.net
END:VEVENT
BEGIN:VEVENT
DTSTART;TZID=America/New_York:20171210T113000
DTEND;TZID=America/New_York:20171210T130000
DTSTAMP:20260425T234057
CREATED:20171130T203516Z
LAST-MODIFIED:20171130T203516Z
UID:4777-1512905400-1512910800@www.rockumchurch.com
SUMMARY:Church Dinner
DESCRIPTION:Roast Pork and potatoes provided by the Men’s Club.   Bring your own hot side dish to share and place settings for your family.
URL:https://www.rockumchurch.com/event/church-dinner/
LOCATION:Rockville United Methodist Church\, 142 Grove Street\, Rockville\, CT\, 06066\, United States
CATEGORIES:food
ORGANIZER;CN="Don Ross":MAILTO:rumcoffice@sbcglobla.net
END:VEVENT
BEGIN:VEVENT
DTSTART;TZID=America/New_York:20171210T110000
DTEND;TZID=America/New_York:20171210T120000
DTSTAMP:20260425T234057
CREATED:20170906T203223Z
LAST-MODIFIED:20170927T174044Z
UID:4439-1512903600-1512907200@www.rockumchurch.com
SUMMARY:GSM - Grove Street Music
DESCRIPTION:Youth praise band.  Perform the praise hymn during service and rehearsal after service.
URL:https://www.rockumchurch.com/event/gsm-grove-street-music-2017-12-10/
LOCATION:Rockville United Methodist Church\, 142 Grove Street\, Rockville\, CT\, 06066\, United States
CATEGORIES:Music,RUMC Events,Youth
ATTACH;FMTTYPE=image/png:https://www.rockumchurch.com/wp-content/uploads/2017/09/gsm-and-pursuing-jc.png
END:VEVENT
BEGIN:VEVENT
DTSTART;TZID=America/New_York:20171210T100000
DTEND;TZID=America/New_York:20171210T110000
DTSTAMP:20260425T234057
CREATED:20171130T203309Z
LAST-MODIFIED:20171130T203309Z
UID:4775-1512900000-1512903600@www.rockumchurch.com
SUMMARY:Christmas Pageant
DESCRIPTION:Our Sunday School classes are putting on their annual Christmas pageant during service today!
URL:https://www.rockumchurch.com/event/christmas-pageant/
LOCATION:Rockville United Methodist Church\, 142 Grove Street\, Rockville\, CT\, 06066\, United States
CATEGORIES:Scripture,Youth
ORGANIZER;CN="Linda Shivers":MAILTO:necsvga@aol.com
END:VEVENT
BEGIN:VEVENT
DTSTART;TZID=America/New_York:20171210T100000
DTEND;TZID=America/New_York:20171210T110000
DTSTAMP:20260425T234057
CREATED:20170906T203916Z
LAST-MODIFIED:20170906T203916Z
UID:4475-1512900000-1512903600@www.rockumchurch.com
SUMMARY:Sunday Service
DESCRIPTION:All are welcome to our weekly Methodist service.
URL:https://www.rockumchurch.com/event/sunday-service-2017-12-10/
LOCATION:Rockville United Methodist Church\, 142 Grove Street\, Rockville\, CT\, 06066\, United States
CATEGORIES:RUMC Events,Scripture
END:VEVENT
BEGIN:VEVENT
DTSTART;TZID=America/New_York:20171210T100000
DTEND;TZID=America/New_York:20171210T110000
DTSTAMP:20260425T234057
CREATED:20170906T203648Z
LAST-MODIFIED:20171130T200236Z
UID:4457-1512900000-1512903600@www.rockumchurch.com
SUMMARY:Sunday School
DESCRIPTION:Free Sunday school for kids 4 years old to high school.
URL:https://www.rockumchurch.com/event/sunday-school-2017-12-10/
LOCATION:Rockville United Methodist Church\, 142 Grove Street\, Rockville\, CT\, 06066\, United States
CATEGORIES:RUMC Events,Scripture,Youth
END:VEVENT
BEGIN:VEVENT
DTSTART;TZID=America/New_York:20171209T090000
DTEND;TZID=America/New_York:20171209T110000
DTSTAMP:20260425T234057
CREATED:20170906T152529Z
LAST-MODIFIED:20170906T152529Z
UID:4354-1512810000-1512817200@www.rockumchurch.com
SUMMARY:Pastor's Prayer Meeting
DESCRIPTION:Join Pastor Paul and a group of United Methodist from Ghana as we pray for the United States\, the United Methodist Church\, and our local church. \n 
URL:https://www.rockumchurch.com/event/pastors-prayer-meeting-2017-12-09/
LOCATION:Rockville United Methodist Church\, 142 Grove Street\, Rockville\, CT\, 06066\, United States
CATEGORIES:RUMC Events,Scripture
ORGANIZER;CN="Paul O'Neil":MAILTO:pastorpaul0202@gmail.com
END:VEVENT
BEGIN:VEVENT
DTSTART;TZID=America/New_York:20171208T100000
DTEND;TZID=America/New_York:20171208T110000
DTSTAMP:20260425T234057
CREATED:20170906T151320Z
LAST-MODIFIED:20170906T195808Z
UID:4148-1512727200-1512730800@www.rockumchurch.com
SUMMARY:Bible Devotional
DESCRIPTION:Join Pastor O’Neil for an in depth exploration of this week’s scripture.
URL:https://www.rockumchurch.com/event/bible-devotional-2017-12-08/
LOCATION:Varies
CATEGORIES:RUMC Events,Scripture
ORGANIZER;CN="Paul O'Neil":MAILTO:pastorpaul0202@gmail.com
END:VEVENT
BEGIN:VEVENT
DTSTART;TZID=America/New_York:20171207T190000
DTEND;TZID=America/New_York:20171207T203000
DTSTAMP:20260425T234057
CREATED:20170906T200839Z
LAST-MODIFIED:20170906T200839Z
UID:4386-1512673200-1512678600@www.rockumchurch.com
SUMMARY:Senior Choir
DESCRIPTION:
URL:https://www.rockumchurch.com/event/senior-choir-2017-12-07/
LOCATION:CT
CATEGORIES:Music,RUMC Events
END:VEVENT
BEGIN:VEVENT
DTSTART;TZID=America/New_York:20171206T090000
DTEND;TZID=America/New_York:20171206T110000
DTSTAMP:20260425T234057
CREATED:20170906T162645Z
LAST-MODIFIED:20170906T162645Z
UID:4369-1512550800-1512558000@www.rockumchurch.com
SUMMARY:GOM - Grumpy Old Men
DESCRIPTION:The GOM’s meet every Wednesday morning to do maintenance work around the church.  All are welcome to join them; the guys can use help with the raking\, fellowship hall set up\, holiday set up\, event sign displays\, floor replacement\, bulletin board repair\, caulking\, painting\, window sealing\, parking lot striping\, hedge trimming\,  mulching…
URL:https://www.rockumchurch.com/event/gom-grumpy-old-men-2-2017-12-06/
LOCATION:Rockville United Methodist Church\, 142 Grove Street\, Rockville\, CT\, 06066\, United States
CATEGORIES:Maintenance,RUMC Events
ORGANIZER;CN="Don Ross":MAILTO:rumcoffice@sbcglobla.net
END:VEVENT
BEGIN:VEVENT
DTSTART;TZID=America/New_York:20171203T110000
DTEND;TZID=America/New_York:20171203T120000
DTSTAMP:20260425T234057
CREATED:20170906T203223Z
LAST-MODIFIED:20170906T203223Z
UID:4544-1512298800-1512302400@www.rockumchurch.com
SUMMARY:GSM - Grove Street Music
DESCRIPTION:Youth praise band.  Perform the praise hymn during service and rehearsal after service.
URL:https://www.rockumchurch.com/event/gsm-grove-street-music-2017-12-03/
LOCATION:Rockville United Methodist Church\, 142 Grove Street\, Rockville\, CT\, 06066\, United States
CATEGORIES:Music,RUMC Events,Youth
ATTACH;FMTTYPE=image/png:https://www.rockumchurch.com/wp-content/uploads/2017/09/gsm-and-pursuing-jc.png
END:VEVENT
BEGIN:VEVENT
DTSTART;TZID=America/New_York:20171203T100000
DTEND;TZID=America/New_York:20171203T110000
DTSTAMP:20260425T234057
CREATED:20170906T203916Z
LAST-MODIFIED:20170906T203916Z
UID:4474-1512295200-1512298800@www.rockumchurch.com
SUMMARY:Sunday Service
DESCRIPTION:All are welcome to our weekly Methodist service.
URL:https://www.rockumchurch.com/event/sunday-service-2017-12-03/
LOCATION:Rockville United Methodist Church\, 142 Grove Street\, Rockville\, CT\, 06066\, United States
CATEGORIES:RUMC Events,Scripture
END:VEVENT
BEGIN:VEVENT
DTSTART;TZID=America/New_York:20171203T100000
DTEND;TZID=America/New_York:20171203T110000
DTSTAMP:20260425T234057
CREATED:20170906T203648Z
LAST-MODIFIED:20171130T200236Z
UID:4456-1512295200-1512298800@www.rockumchurch.com
SUMMARY:Sunday School
DESCRIPTION:Free Sunday school for kids 4 years old to high school.
URL:https://www.rockumchurch.com/event/sunday-school-2017-12-03/
LOCATION:Rockville United Methodist Church\, 142 Grove Street\, Rockville\, CT\, 06066\, United States
CATEGORIES:RUMC Events,Scripture,Youth
END:VEVENT
BEGIN:VEVENT
DTSTART;TZID=America/New_York:20171202T090000
DTEND;TZID=America/New_York:20171202T110000
DTSTAMP:20260425T234057
CREATED:20170906T152529Z
LAST-MODIFIED:20170906T152529Z
UID:4353-1512205200-1512212400@www.rockumchurch.com
SUMMARY:Pastor's Prayer Meeting
DESCRIPTION:Join Pastor Paul and a group of United Methodist from Ghana as we pray for the United States\, the United Methodist Church\, and our local church. \n 
URL:https://www.rockumchurch.com/event/pastors-prayer-meeting-2017-12-02/
LOCATION:Rockville United Methodist Church\, 142 Grove Street\, Rockville\, CT\, 06066\, United States
CATEGORIES:RUMC Events,Scripture
ORGANIZER;CN="Paul O'Neil":MAILTO:pastorpaul0202@gmail.com
END:VEVENT
BEGIN:VEVENT
DTSTART;TZID=America/New_York:20171201T100000
DTEND;TZID=America/New_York:20171201T110000
DTSTAMP:20260425T234057
CREATED:20170906T151320Z
LAST-MODIFIED:20170906T195808Z
UID:4147-1512122400-1512126000@www.rockumchurch.com
SUMMARY:Bible Devotional
DESCRIPTION:Join Pastor O’Neil for an in depth exploration of this week’s scripture.
URL:https://www.rockumchurch.com/event/bible-devotional-2017-12-01/
LOCATION:Varies
CATEGORIES:RUMC Events,Scripture
ORGANIZER;CN="Paul O'Neil":MAILTO:pastorpaul0202@gmail.com
END:VEVENT
BEGIN:VEVENT
DTSTART;TZID=America/New_York:20171130T190000
DTEND;TZID=America/New_York:20171130T203000
DTSTAMP:20260425T234057
CREATED:20170906T200839Z
LAST-MODIFIED:20170906T200839Z
UID:4385-1512068400-1512073800@www.rockumchurch.com
SUMMARY:Senior Choir
DESCRIPTION:
URL:https://www.rockumchurch.com/event/senior-choir-2017-11-30/
LOCATION:CT
CATEGORIES:Music,RUMC Events
END:VEVENT
BEGIN:VEVENT
DTSTART;TZID=America/New_York:20171129T090000
DTEND;TZID=America/New_York:20171129T110000
DTSTAMP:20260425T234057
CREATED:20170906T162645Z
LAST-MODIFIED:20170906T162645Z
UID:4368-1511946000-1511953200@www.rockumchurch.com
SUMMARY:GOM - Grumpy Old Men
DESCRIPTION:The GOM’s meet every Wednesday morning to do maintenance work around the church.  All are welcome to join them; the guys can use help with the raking\, fellowship hall set up\, holiday set up\, event sign displays\, floor replacement\, bulletin board repair\, caulking\, painting\, window sealing\, parking lot striping\, hedge trimming\,  mulching…
URL:https://www.rockumchurch.com/event/gom-grumpy-old-men-2-2017-11-29/
LOCATION:Rockville United Methodist Church\, 142 Grove Street\, Rockville\, CT\, 06066\, United States
CATEGORIES:Maintenance,RUMC Events
ORGANIZER;CN="Don Ross":MAILTO:rumcoffice@sbcglobla.net
END:VEVENT
BEGIN:VEVENT
DTSTART;TZID=America/New_York:20171126T110000
DTEND;TZID=America/New_York:20171126T120000
DTSTAMP:20260425T234057
CREATED:20170906T203223Z
LAST-MODIFIED:20170927T174044Z
UID:4437-1511694000-1511697600@www.rockumchurch.com
SUMMARY:GSM - Grove Street Music
DESCRIPTION:Youth praise band.  Perform the praise hymn during service and rehearsal after service.
URL:https://www.rockumchurch.com/event/gsm-grove-street-music-2017-11-26/
LOCATION:Rockville United Methodist Church\, 142 Grove Street\, Rockville\, CT\, 06066\, United States
CATEGORIES:Music,RUMC Events,Youth
ATTACH;FMTTYPE=image/png:https://www.rockumchurch.com/wp-content/uploads/2017/09/gsm-and-pursuing-jc.png
END:VEVENT
BEGIN:VEVENT
DTSTART;TZID=America/New_York:20171126T110000
DTEND;TZID=America/New_York:20171126T120000
DTSTAMP:20260425T234057
CREATED:20170906T203223Z
LAST-MODIFIED:20171012T170458Z
UID:4555-1511694000-1511697600@www.rockumchurch.com
SUMMARY:GSM - Grove Street Music
DESCRIPTION:Youth praise band.  Perform the praise hymn during service and rehearsal after service.
URL:https://www.rockumchurch.com/event/gsm-grove-street-music-2017-12-31-2017-11-26/
LOCATION:Rockville United Methodist Church\, 142 Grove Street\, Rockville\, CT\, 06066\, United States
CATEGORIES:Music,RUMC Events,Youth
ATTACH;FMTTYPE=image/png:https://www.rockumchurch.com/wp-content/uploads/2017/09/gsm-and-pursuing-jc.png
END:VEVENT
BEGIN:VEVENT
DTSTART;TZID=America/New_York:20171126T100000
DTEND;TZID=America/New_York:20171126T110000
DTSTAMP:20260425T234057
CREATED:20170906T203916Z
LAST-MODIFIED:20170906T203916Z
UID:4473-1511690400-1511694000@www.rockumchurch.com
SUMMARY:Sunday Service
DESCRIPTION:All are welcome to our weekly Methodist service.
URL:https://www.rockumchurch.com/event/sunday-service-2017-11-26/
LOCATION:Rockville United Methodist Church\, 142 Grove Street\, Rockville\, CT\, 06066\, United States
CATEGORIES:RUMC Events,Scripture
END:VEVENT
BEGIN:VEVENT
DTSTART;TZID=America/New_York:20171126T100000
DTEND;TZID=America/New_York:20171126T110000
DTSTAMP:20260425T234057
CREATED:20170906T203648Z
LAST-MODIFIED:20171130T200236Z
UID:4455-1511690400-1511694000@www.rockumchurch.com
SUMMARY:Sunday School
DESCRIPTION:Free Sunday school for kids 4 years old to high school.
URL:https://www.rockumchurch.com/event/sunday-school-2017-11-26/
LOCATION:Rockville United Methodist Church\, 142 Grove Street\, Rockville\, CT\, 06066\, United States
CATEGORIES:RUMC Events,Scripture,Youth
END:VEVENT
BEGIN:VEVENT
DTSTART;TZID=America/New_York:20171125T090000
DTEND;TZID=America/New_York:20171125T110000
DTSTAMP:20260425T234057
CREATED:20170906T152529Z
LAST-MODIFIED:20170906T152529Z
UID:4352-1511600400-1511607600@www.rockumchurch.com
SUMMARY:Pastor's Prayer Meeting
DESCRIPTION:Join Pastor Paul and a group of United Methodist from Ghana as we pray for the United States\, the United Methodist Church\, and our local church. \n 
URL:https://www.rockumchurch.com/event/pastors-prayer-meeting-2017-11-25/
LOCATION:Rockville United Methodist Church\, 142 Grove Street\, Rockville\, CT\, 06066\, United States
CATEGORIES:RUMC Events,Scripture
ORGANIZER;CN="Paul O'Neil":MAILTO:pastorpaul0202@gmail.com
END:VEVENT
BEGIN:VEVENT
DTSTART;TZID=America/New_York:20171124T100000
DTEND;TZID=America/New_York:20171124T110000
DTSTAMP:20260425T234057
CREATED:20170906T151320Z
LAST-MODIFIED:20170906T195808Z
UID:4146-1511517600-1511521200@www.rockumchurch.com
SUMMARY:Bible Devotional
DESCRIPTION:Join Pastor O’Neil for an in depth exploration of this week’s scripture.
URL:https://www.rockumchurch.com/event/bible-devotional-2017-11-24/
LOCATION:Varies
CATEGORIES:RUMC Events,Scripture
ORGANIZER;CN="Paul O'Neil":MAILTO:pastorpaul0202@gmail.com
END:VEVENT
BEGIN:VEVENT
DTSTART;TZID=America/New_York:20171122T090000
DTEND;TZID=America/New_York:20171122T110000
DTSTAMP:20260425T234057
CREATED:20170906T162645Z
LAST-MODIFIED:20170906T162645Z
UID:4367-1511341200-1511348400@www.rockumchurch.com
SUMMARY:GOM - Grumpy Old Men
DESCRIPTION:The GOM’s meet every Wednesday morning to do maintenance work around the church.  All are welcome to join them; the guys can use help with the raking\, fellowship hall set up\, holiday set up\, event sign displays\, floor replacement\, bulletin board repair\, caulking\, painting\, window sealing\, parking lot striping\, hedge trimming\,  mulching…
URL:https://www.rockumchurch.com/event/gom-grumpy-old-men-2-2017-11-22/
LOCATION:Rockville United Methodist Church\, 142 Grove Street\, Rockville\, CT\, 06066\, United States
CATEGORIES:Maintenance,RUMC Events
ORGANIZER;CN="Don Ross":MAILTO:rumcoffice@sbcglobla.net
END:VEVENT
END:VCALENDAR