BEGIN:VCALENDAR
VERSION:2.0
PRODID:-//Rockville United Methodist Church - ECPv6.15.20//NONSGML v1.0//EN
CALSCALE:GREGORIAN
METHOD:PUBLISH
X-WR-CALNAME:Rockville United Methodist Church
X-ORIGINAL-URL:https://www.rockumchurch.com
X-WR-CALDESC:Events for Rockville United Methodist Church
REFRESH-INTERVAL;VALUE=DURATION:PT1H
X-Robots-Tag:noindex
X-PUBLISHED-TTL:PT1H
BEGIN:VTIMEZONE
TZID:America/New_York
BEGIN:DAYLIGHT
TZOFFSETFROM:-0500
TZOFFSETTO:-0400
TZNAME:EDT
DTSTART:20160313T070000
END:DAYLIGHT
BEGIN:STANDARD
TZOFFSETFROM:-0400
TZOFFSETTO:-0500
TZNAME:EST
DTSTART:20161106T060000
END:STANDARD
BEGIN:DAYLIGHT
TZOFFSETFROM:-0500
TZOFFSETTO:-0400
TZNAME:EDT
DTSTART:20170312T070000
END:DAYLIGHT
BEGIN:STANDARD
TZOFFSETFROM:-0400
TZOFFSETTO:-0500
TZNAME:EST
DTSTART:20171105T060000
END:STANDARD
BEGIN:DAYLIGHT
TZOFFSETFROM:-0500
TZOFFSETTO:-0400
TZNAME:EDT
DTSTART:20180311T070000
END:DAYLIGHT
BEGIN:STANDARD
TZOFFSETFROM:-0400
TZOFFSETTO:-0500
TZNAME:EST
DTSTART:20181104T060000
END:STANDARD
BEGIN:DAYLIGHT
TZOFFSETFROM:-0500
TZOFFSETTO:-0400
TZNAME:EDT
DTSTART:20190310T070000
END:DAYLIGHT
BEGIN:STANDARD
TZOFFSETFROM:-0400
TZOFFSETTO:-0500
TZNAME:EST
DTSTART:20191103T060000
END:STANDARD
END:VTIMEZONE
BEGIN:VEVENT
DTSTART;TZID=America/New_York:20180124T090000
DTEND;TZID=America/New_York:20180124T120000
DTSTAMP:20260425T185730
CREATED:20180111T164757Z
LAST-MODIFIED:20180111T164757Z
UID:4868-1516784400-1516795200@www.rockumchurch.com
SUMMARY:GOM - Grumpy Old Men
DESCRIPTION:Church Maintenance and Fellowship
URL:https://www.rockumchurch.com/event/gom-grumpy-old-men-2018-01-24/
LOCATION:Rockville United Methodist Church\, 142 Grove Street\, Rockville\, CT\, 06066\, United States
CATEGORIES:Maintenance
ORGANIZER;CN="Don Ross":MAILTO:rumcoffice@sbcglobla.net
END:VEVENT
BEGIN:VEVENT
DTSTART;TZID=America/New_York:20180121T110000
DTEND;TZID=America/New_York:20180121T123000
DTSTAMP:20260425T185730
CREATED:20180111T164222Z
LAST-MODIFIED:20180111T164222Z
UID:4831-1516532400-1516537800@www.rockumchurch.com
SUMMARY:Confirmation Class
DESCRIPTION:
URL:https://www.rockumchurch.com/event/confirmation-class-3/
LOCATION:Rockville United Methodist Church\, 142 Grove Street\, Rockville\, CT\, 06066\, United States
CATEGORIES:Education,Scripture,Youth
ORGANIZER;CN="Linda Shivers":MAILTO:necsvga@aol.com
END:VEVENT
BEGIN:VEVENT
DTSTART;TZID=America/New_York:20180121T110000
DTEND;TZID=America/New_York:20180121T120000
DTSTAMP:20260425T185730
CREATED:20180111T163938Z
LAST-MODIFIED:20180111T163938Z
UID:4827-1516532400-1516536000@www.rockumchurch.com
SUMMARY:GSM - Grove Street Music
DESCRIPTION:
URL:https://www.rockumchurch.com/event/gsm-grove-street-music-2-2018-01-21/
LOCATION:Rockville United Methodist Church\, 142 Grove Street\, Rockville\, CT\, 06066\, United States
CATEGORIES:Music
END:VEVENT
BEGIN:VEVENT
DTSTART;TZID=America/New_York:20180120T090000
DTEND;TZID=America/New_York:20180120T120000
DTSTAMP:20260425T185730
CREATED:20180111T165544Z
LAST-MODIFIED:20180111T165544Z
UID:4925-1516438800-1516449600@www.rockumchurch.com
SUMMARY:Pastor's Prayer Meeting
DESCRIPTION:
URL:https://www.rockumchurch.com/event/pastors-prayer-meeting-2-2018-01-20/
LOCATION:Rockville United Methodist Church\, 142 Grove Street\, Rockville\, CT\, 06066\, United States
CATEGORIES:Scripture,Worship
END:VEVENT
BEGIN:VEVENT
DTSTART;TZID=America/New_York:20180119T100000
DTEND;TZID=America/New_York:20180119T113000
DTSTAMP:20260425T185730
CREATED:20180111T165356Z
LAST-MODIFIED:20180111T165356Z
UID:4919-1516356000-1516361400@www.rockumchurch.com
SUMMARY:Bible Devotional
DESCRIPTION:Explore this week’s sermon in detail.  Open to all.
URL:https://www.rockumchurch.com/event/bible-devotional-2/
LOCATION:Rockville United Methodist Church\, 142 Grove Street\, Rockville\, CT\, 06066\, United States
CATEGORIES:Education,Scripture
ORGANIZER;CN="Paul O'Neil":MAILTO:pastorpaul0202@gmail.com
END:VEVENT
BEGIN:VEVENT
DTSTART;TZID=America/New_York:20180118T190000
DTEND;TZID=America/New_York:20180118T210000
DTSTAMP:20260425T185730
CREATED:20180111T165147Z
LAST-MODIFIED:20180111T165147Z
UID:4917-1516302000-1516309200@www.rockumchurch.com
SUMMARY:Senior Choir
DESCRIPTION:
URL:https://www.rockumchurch.com/event/senior-choir-2-2018-01-18/
LOCATION:Rockville United Methodist Church\, 142 Grove Street\, Rockville\, CT\, 06066\, United States
CATEGORIES:Music
END:VEVENT
BEGIN:VEVENT
DTSTART;TZID=America/New_York:20180117T090000
DTEND;TZID=America/New_York:20180117T120000
DTSTAMP:20260425T185730
CREATED:20180111T164757Z
LAST-MODIFIED:20180111T164757Z
UID:4867-1516179600-1516190400@www.rockumchurch.com
SUMMARY:GOM - Grumpy Old Men
DESCRIPTION:Church Maintenance and Fellowship
URL:https://www.rockumchurch.com/event/gom-grumpy-old-men-2018-01-17/
LOCATION:Rockville United Methodist Church\, 142 Grove Street\, Rockville\, CT\, 06066\, United States
CATEGORIES:Maintenance
ORGANIZER;CN="Don Ross":MAILTO:rumcoffice@sbcglobla.net
END:VEVENT
BEGIN:VEVENT
DTSTART;TZID=America/New_York:20180114T180000
DTEND;TZID=America/New_York:20180114T190000
DTSTAMP:20260425T185730
CREATED:20170927T175933Z
LAST-MODIFIED:20171130T200044Z
UID:4563-1515952800-1515956400@www.rockumchurch.com
SUMMARY:Dinner Church
DESCRIPTION:
URL:https://www.rockumchurch.com/event/dinner-church-3/
LOCATION:Parsonage\, 22 Elizabeth Street\, Ellington\, CT\, 06029\, United States
CATEGORIES:Music,RUMC Events,Scripture
ORGANIZER;CN="Paul O'Neil":MAILTO:pastorpaul0202@gmail.com
END:VEVENT
BEGIN:VEVENT
DTSTART;TZID=America/New_York:20180114T110000
DTEND;TZID=America/New_York:20180114T120000
DTSTAMP:20260425T185730
CREATED:20180111T163938Z
LAST-MODIFIED:20180111T163938Z
UID:4826-1515927600-1515931200@www.rockumchurch.com
SUMMARY:GSM - Grove Street Music
DESCRIPTION:
URL:https://www.rockumchurch.com/event/gsm-grove-street-music-2-2018-01-14/
LOCATION:Rockville United Methodist Church\, 142 Grove Street\, Rockville\, CT\, 06066\, United States
CATEGORIES:Music
END:VEVENT
BEGIN:VEVENT
DTSTART;TZID=America/New_York:20180113T090000
DTEND;TZID=America/New_York:20180113T120000
DTSTAMP:20260425T185730
CREATED:20180111T165544Z
LAST-MODIFIED:20180111T165544Z
UID:4924-1515834000-1515844800@www.rockumchurch.com
SUMMARY:Pastor's Prayer Meeting
DESCRIPTION:
URL:https://www.rockumchurch.com/event/pastors-prayer-meeting-2-2018-01-13/
LOCATION:Rockville United Methodist Church\, 142 Grove Street\, Rockville\, CT\, 06066\, United States
CATEGORIES:Scripture,Worship
END:VEVENT
BEGIN:VEVENT
DTSTART;TZID=America/New_York:20180111T190000
DTEND;TZID=America/New_York:20180111T210000
DTSTAMP:20260425T185730
CREATED:20180111T165147Z
LAST-MODIFIED:20180111T165147Z
UID:4916-1515697200-1515704400@www.rockumchurch.com
SUMMARY:Senior Choir
DESCRIPTION:
URL:https://www.rockumchurch.com/event/senior-choir-2-2018-01-11/
LOCATION:Rockville United Methodist Church\, 142 Grove Street\, Rockville\, CT\, 06066\, United States
CATEGORIES:Music
END:VEVENT
BEGIN:VEVENT
DTSTART;TZID=America/New_York:20180110T090000
DTEND;TZID=America/New_York:20180110T120000
DTSTAMP:20260425T185730
CREATED:20180111T164757Z
LAST-MODIFIED:20180111T164757Z
UID:4865-1515574800-1515585600@www.rockumchurch.com
SUMMARY:GOM - Grumpy Old Men
DESCRIPTION:Church Maintenance and Fellowship
URL:https://www.rockumchurch.com/event/gom-grumpy-old-men/
LOCATION:Rockville United Methodist Church\, 142 Grove Street\, Rockville\, CT\, 06066\, United States
CATEGORIES:Maintenance
ORGANIZER;CN="Don Ross":MAILTO:rumcoffice@sbcglobla.net
END:VEVENT
BEGIN:VEVENT
DTSTART;TZID=America/New_York:20180107T110000
DTEND;TZID=America/New_York:20180107T120000
DTSTAMP:20260425T185730
CREATED:20180111T163938Z
LAST-MODIFIED:20180111T163938Z
UID:4824-1515322800-1515326400@www.rockumchurch.com
SUMMARY:GSM - Grove Street Music
DESCRIPTION:
URL:https://www.rockumchurch.com/event/gsm-grove-street-music-2/
LOCATION:Rockville United Methodist Church\, 142 Grove Street\, Rockville\, CT\, 06066\, United States
CATEGORIES:Music
END:VEVENT
BEGIN:VEVENT
DTSTART;TZID=America/New_York:20180106T090000
DTEND;TZID=America/New_York:20180106T120000
DTSTAMP:20260425T185730
CREATED:20180111T165544Z
LAST-MODIFIED:20180111T165544Z
UID:4922-1515229200-1515240000@www.rockumchurch.com
SUMMARY:Pastor's Prayer Meeting
DESCRIPTION:
URL:https://www.rockumchurch.com/event/pastors-prayer-meeting-2/
LOCATION:Rockville United Methodist Church\, 142 Grove Street\, Rockville\, CT\, 06066\, United States
CATEGORIES:Scripture,Worship
END:VEVENT
BEGIN:VEVENT
DTSTART;TZID=America/New_York:20180104T190000
DTEND;TZID=America/New_York:20180104T210000
DTSTAMP:20260425T185730
CREATED:20180111T165147Z
LAST-MODIFIED:20180111T165147Z
UID:4914-1515092400-1515099600@www.rockumchurch.com
SUMMARY:Senior Choir
DESCRIPTION:
URL:https://www.rockumchurch.com/event/senior-choir-2/
LOCATION:Rockville United Methodist Church\, 142 Grove Street\, Rockville\, CT\, 06066\, United States
CATEGORIES:Music
END:VEVENT
BEGIN:VEVENT
DTSTART;TZID=America/New_York:20171231T110000
DTEND;TZID=America/New_York:20171231T120000
DTSTAMP:20260425T185730
CREATED:20170906T203223Z
LAST-MODIFIED:20171012T170505Z
UID:4560-1514718000-1514721600@www.rockumchurch.com
SUMMARY:GSM - Grove Street Music
DESCRIPTION:Youth praise band.  Perform the praise hymn during service and rehearsal after service.
URL:https://www.rockumchurch.com/event/gsm-grove-street-music-2017-12-31-2017-12-31/
LOCATION:Rockville United Methodist Church\, 142 Grove Street\, Rockville\, CT\, 06066\, United States
CATEGORIES:Music,RUMC Events,Youth
ATTACH;FMTTYPE=image/png:https://www.rockumchurch.com/wp-content/uploads/2017/09/gsm-and-pursuing-jc.png
END:VEVENT
BEGIN:VEVENT
DTSTART;TZID=America/New_York:20171231T100000
DTEND;TZID=America/New_York:20171231T110000
DTSTAMP:20260425T185730
CREATED:20170906T203916Z
LAST-MODIFIED:20170906T203916Z
UID:4478-1514714400-1514718000@www.rockumchurch.com
SUMMARY:Sunday Service
DESCRIPTION:All are welcome to our weekly Methodist service.
URL:https://www.rockumchurch.com/event/sunday-service-2017-12-31/
LOCATION:Rockville United Methodist Church\, 142 Grove Street\, Rockville\, CT\, 06066\, United States
CATEGORIES:RUMC Events,Scripture
END:VEVENT
BEGIN:VEVENT
DTSTART;TZID=America/New_York:20171230T090000
DTEND;TZID=America/New_York:20171230T110000
DTSTAMP:20260425T185730
CREATED:20170906T152529Z
LAST-MODIFIED:20170906T152529Z
UID:4357-1514624400-1514631600@www.rockumchurch.com
SUMMARY:Pastor's Prayer Meeting
DESCRIPTION:Join Pastor Paul and a group of United Methodist from Ghana as we pray for the United States\, the United Methodist Church\, and our local church. \n 
URL:https://www.rockumchurch.com/event/pastors-prayer-meeting-2017-12-30/
LOCATION:Rockville United Methodist Church\, 142 Grove Street\, Rockville\, CT\, 06066\, United States
CATEGORIES:RUMC Events,Scripture
ORGANIZER;CN="Paul O'Neil":MAILTO:pastorpaul0202@gmail.com
END:VEVENT
BEGIN:VEVENT
DTSTART;TZID=America/New_York:20171229T100000
DTEND;TZID=America/New_York:20171229T110000
DTSTAMP:20260425T185730
CREATED:20170906T151320Z
LAST-MODIFIED:20170906T195809Z
UID:4151-1514541600-1514545200@www.rockumchurch.com
SUMMARY:Bible Devotional
DESCRIPTION:Join Pastor O’Neil for an in depth exploration of this week’s scripture.
URL:https://www.rockumchurch.com/event/bible-devotional-2017-12-29/
LOCATION:Varies
CATEGORIES:RUMC Events,Scripture
ORGANIZER;CN="Paul O'Neil":MAILTO:pastorpaul0202@gmail.com
END:VEVENT
BEGIN:VEVENT
DTSTART;TZID=America/New_York:20171228T190000
DTEND;TZID=America/New_York:20171228T203000
DTSTAMP:20260425T185730
CREATED:20170906T200839Z
LAST-MODIFIED:20170906T200839Z
UID:4389-1514487600-1514493000@www.rockumchurch.com
SUMMARY:Senior Choir
DESCRIPTION:
URL:https://www.rockumchurch.com/event/senior-choir-2017-12-28/
LOCATION:CT
CATEGORIES:Music,RUMC Events
END:VEVENT
BEGIN:VEVENT
DTSTART;TZID=America/New_York:20171227T090000
DTEND;TZID=America/New_York:20171227T110000
DTSTAMP:20260425T185730
CREATED:20170906T162645Z
LAST-MODIFIED:20170906T162645Z
UID:4372-1514365200-1514372400@www.rockumchurch.com
SUMMARY:GOM - Grumpy Old Men
DESCRIPTION:The GOM’s meet every Wednesday morning to do maintenance work around the church.  All are welcome to join them; the guys can use help with the raking\, fellowship hall set up\, holiday set up\, event sign displays\, floor replacement\, bulletin board repair\, caulking\, painting\, window sealing\, parking lot striping\, hedge trimming\,  mulching…
URL:https://www.rockumchurch.com/event/gom-grumpy-old-men-2-2017-12-27/
LOCATION:Rockville United Methodist Church\, 142 Grove Street\, Rockville\, CT\, 06066\, United States
CATEGORIES:Maintenance,RUMC Events
ORGANIZER;CN="Don Ross":MAILTO:rumcoffice@sbcglobla.net
END:VEVENT
BEGIN:VEVENT
DTSTART;TZID=America/New_York:20171224T160000
DTEND;TZID=America/New_York:20171224T170000
DTSTAMP:20260425T185730
CREATED:20171207T164456Z
LAST-MODIFIED:20171207T164456Z
UID:4806-1514131200-1514134800@www.rockumchurch.com
SUMMARY:Christmas Eve Candlelight Service
DESCRIPTION:All are invited to welcome Jesus into our world.
URL:https://www.rockumchurch.com/event/christmas-eve-candlelight-service/
LOCATION:Rockville United Methodist Church\, 142 Grove Street\, Rockville\, CT\, 06066\, United States
CATEGORIES:Music,Scripture,Worship
ORGANIZER;CN="Paul O'Neil":MAILTO:pastorpaul0202@gmail.com
END:VEVENT
BEGIN:VEVENT
DTSTART;TZID=America/New_York:20171224T110000
DTEND;TZID=America/New_York:20171224T120000
DTSTAMP:20260425T185730
CREATED:20170906T203223Z
LAST-MODIFIED:20170927T174044Z
UID:4441-1514113200-1514116800@www.rockumchurch.com
SUMMARY:GSM - Grove Street Music
DESCRIPTION:Youth praise band.  Perform the praise hymn during service and rehearsal after service.
URL:https://www.rockumchurch.com/event/gsm-grove-street-music-2017-12-24/
LOCATION:Rockville United Methodist Church\, 142 Grove Street\, Rockville\, CT\, 06066\, United States
CATEGORIES:Music,RUMC Events,Youth
ATTACH;FMTTYPE=image/png:https://www.rockumchurch.com/wp-content/uploads/2017/09/gsm-and-pursuing-jc.png
END:VEVENT
BEGIN:VEVENT
DTSTART;TZID=America/New_York:20171224T100000
DTEND;TZID=America/New_York:20171224T110000
DTSTAMP:20260425T185730
CREATED:20170906T203916Z
LAST-MODIFIED:20170906T203916Z
UID:4477-1514109600-1514113200@www.rockumchurch.com
SUMMARY:Sunday Service
DESCRIPTION:All are welcome to our weekly Methodist service.
URL:https://www.rockumchurch.com/event/sunday-service-2017-12-24/
LOCATION:Rockville United Methodist Church\, 142 Grove Street\, Rockville\, CT\, 06066\, United States
CATEGORIES:RUMC Events,Scripture
END:VEVENT
BEGIN:VEVENT
DTSTART;TZID=America/New_York:20171223T090000
DTEND;TZID=America/New_York:20171223T110000
DTSTAMP:20260425T185730
CREATED:20170906T152529Z
LAST-MODIFIED:20170906T152529Z
UID:4356-1514019600-1514026800@www.rockumchurch.com
SUMMARY:Pastor's Prayer Meeting
DESCRIPTION:Join Pastor Paul and a group of United Methodist from Ghana as we pray for the United States\, the United Methodist Church\, and our local church. \n 
URL:https://www.rockumchurch.com/event/pastors-prayer-meeting-2017-12-23/
LOCATION:Rockville United Methodist Church\, 142 Grove Street\, Rockville\, CT\, 06066\, United States
CATEGORIES:RUMC Events,Scripture
ORGANIZER;CN="Paul O'Neil":MAILTO:pastorpaul0202@gmail.com
END:VEVENT
BEGIN:VEVENT
DTSTART;TZID=America/New_York:20171222T100000
DTEND;TZID=America/New_York:20171222T110000
DTSTAMP:20260425T185730
CREATED:20170906T151320Z
LAST-MODIFIED:20170906T195809Z
UID:4150-1513936800-1513940400@www.rockumchurch.com
SUMMARY:Bible Devotional
DESCRIPTION:Join Pastor O’Neil for an in depth exploration of this week’s scripture.
URL:https://www.rockumchurch.com/event/bible-devotional-2017-12-22/
LOCATION:Varies
CATEGORIES:RUMC Events,Scripture
ORGANIZER;CN="Paul O'Neil":MAILTO:pastorpaul0202@gmail.com
END:VEVENT
BEGIN:VEVENT
DTSTART;TZID=America/New_York:20171221T190000
DTEND;TZID=America/New_York:20171221T203000
DTSTAMP:20260425T185730
CREATED:20170906T200839Z
LAST-MODIFIED:20170906T200839Z
UID:4388-1513882800-1513888200@www.rockumchurch.com
SUMMARY:Senior Choir
DESCRIPTION:
URL:https://www.rockumchurch.com/event/senior-choir-2017-12-21/
LOCATION:CT
CATEGORIES:Music,RUMC Events
END:VEVENT
BEGIN:VEVENT
DTSTART;TZID=America/New_York:20171220T090000
DTEND;TZID=America/New_York:20171220T110000
DTSTAMP:20260425T185730
CREATED:20170906T162645Z
LAST-MODIFIED:20170906T162645Z
UID:4371-1513760400-1513767600@www.rockumchurch.com
SUMMARY:GOM - Grumpy Old Men
DESCRIPTION:The GOM’s meet every Wednesday morning to do maintenance work around the church.  All are welcome to join them; the guys can use help with the raking\, fellowship hall set up\, holiday set up\, event sign displays\, floor replacement\, bulletin board repair\, caulking\, painting\, window sealing\, parking lot striping\, hedge trimming\,  mulching…
URL:https://www.rockumchurch.com/event/gom-grumpy-old-men-2-2017-12-20/
LOCATION:Rockville United Methodist Church\, 142 Grove Street\, Rockville\, CT\, 06066\, United States
CATEGORIES:Maintenance,RUMC Events
ORGANIZER;CN="Don Ross":MAILTO:rumcoffice@sbcglobla.net
END:VEVENT
BEGIN:VEVENT
DTSTART;TZID=America/New_York:20171217T160000
DTEND;TZID=America/New_York:20171217T180000
DTSTAMP:20260425T185730
CREATED:20171130T204011Z
LAST-MODIFIED:20171130T204011Z
UID:4779-1513526400-1513533600@www.rockumchurch.com
SUMMARY:A Family Christmas
DESCRIPTION:Performances by our Youth Bells and Youth Praise Band.  Special Appearance by one Jolly Old Elf. Open to the public.
URL:https://www.rockumchurch.com/event/a-family-christmas/
LOCATION:Rockville United Methodist Church\, 142 Grove Street\, Rockville\, CT\, 06066\, United States
CATEGORIES:Community Events,Music
END:VEVENT
BEGIN:VEVENT
DTSTART;TZID=America/New_York:20171217T110000
DTEND;TZID=America/New_York:20171217T120000
DTSTAMP:20260425T185730
CREATED:20170906T203223Z
LAST-MODIFIED:20170906T203223Z
UID:4545-1513508400-1513512000@www.rockumchurch.com
SUMMARY:GSM - Grove Street Music
DESCRIPTION:Youth praise band.  Perform the praise hymn during service and rehearsal after service.
URL:https://www.rockumchurch.com/event/gsm-grove-street-music-2017-12-17/
LOCATION:Rockville United Methodist Church\, 142 Grove Street\, Rockville\, CT\, 06066\, United States
CATEGORIES:Music,RUMC Events,Youth
ATTACH;FMTTYPE=image/png:https://www.rockumchurch.com/wp-content/uploads/2017/09/gsm-and-pursuing-jc.png
END:VEVENT
END:VCALENDAR