BEGIN:VCALENDAR
VERSION:2.0
PRODID:-//Rockville United Methodist Church - ECPv6.15.20//NONSGML v1.0//EN
CALSCALE:GREGORIAN
METHOD:PUBLISH
X-ORIGINAL-URL:https://www.rockumchurch.com
X-WR-CALDESC:Events for Rockville United Methodist Church
REFRESH-INTERVAL;VALUE=DURATION:PT1H
X-Robots-Tag:noindex
X-PUBLISHED-TTL:PT1H
BEGIN:VTIMEZONE
TZID:America/New_York
BEGIN:DAYLIGHT
TZOFFSETFROM:-0500
TZOFFSETTO:-0400
TZNAME:EDT
DTSTART:20170312T070000
END:DAYLIGHT
BEGIN:STANDARD
TZOFFSETFROM:-0400
TZOFFSETTO:-0500
TZNAME:EST
DTSTART:20171105T060000
END:STANDARD
BEGIN:DAYLIGHT
TZOFFSETFROM:-0500
TZOFFSETTO:-0400
TZNAME:EDT
DTSTART:20180311T070000
END:DAYLIGHT
BEGIN:STANDARD
TZOFFSETFROM:-0400
TZOFFSETTO:-0500
TZNAME:EST
DTSTART:20181104T060000
END:STANDARD
BEGIN:DAYLIGHT
TZOFFSETFROM:-0500
TZOFFSETTO:-0400
TZNAME:EDT
DTSTART:20190310T070000
END:DAYLIGHT
BEGIN:STANDARD
TZOFFSETFROM:-0400
TZOFFSETTO:-0500
TZNAME:EST
DTSTART:20191103T060000
END:STANDARD
END:VTIMEZONE
BEGIN:VEVENT
DTSTART;TZID=America/New_York:20180225T100000
DTEND;TZID=America/New_York:20180225T230000
DTSTAMP:20260425T153444
CREATED:20180202T202332Z
LAST-MODIFIED:20180202T202332Z
UID:5051-1519552800-1519599600@www.rockumchurch.com
SUMMARY:Sunday School
DESCRIPTION:Following the Children’s Message
URL:https://www.rockumchurch.com/event/sunday-school-2-2018-02-25/
LOCATION:Rockville United Methodist Church\, 142 Grove Street\, Rockville\, CT\, 06066\, United States
CATEGORIES:Youth
ORGANIZER;CN="Linda Shivers":MAILTO:necsvga@aol.com
END:VEVENT
BEGIN:VEVENT
DTSTART;VALUE=DATE:20180225
DTEND;VALUE=DATE:20180226
DTSTAMP:20260425T153444
CREATED:20180202T193704Z
LAST-MODIFIED:20180202T201921Z
UID:4975-1519516800-1519603199@www.rockumchurch.com
SUMMARY:Braided Bread Fundraiser
DESCRIPTION:Just in time for Easter! \n$13 each \nStrawberry Cream Cheese\nCinnamon\nApple\nCream Cheese\nRaspberry \nItalian Herb Bread \nCaramel or Cinnamon Sweet Rolls \nOrders will be taken February 25 to March 18\, 2018 \nDelivery March 27\, 2018 \n     \n 
URL:https://www.rockumchurch.com/event/braided-bread-fundraiser/
LOCATION:Rockville United Methodist Church\, 142 Grove Street\, Rockville\, CT\, 06066\, United States
CATEGORIES:food,Fundraising
ORGANIZER;CN="Diane Lajoie":MAILTO:RockvilleUMC@outlook.com
END:VEVENT
BEGIN:VEVENT
DTSTART;TZID=America/New_York:20180222T190000
DTEND;TZID=America/New_York:20180222T203000
DTSTAMP:20260425T153444
CREATED:20180202T200838Z
LAST-MODIFIED:20180202T200838Z
UID:5009-1519326000-1519331400@www.rockumchurch.com
SUMMARY:Senior Choir
DESCRIPTION:
URL:https://www.rockumchurch.com/event/senior-choir-3-2018-02-22/
LOCATION:Rockville United Methodist Church\, 142 Grove Street\, Rockville\, CT\, 06066\, United States
CATEGORIES:Music
END:VEVENT
BEGIN:VEVENT
DTSTART;TZID=America/New_York:20180221T090000
DTEND;TZID=America/New_York:20180221T120000
DTSTAMP:20260425T153444
CREATED:20180111T164757Z
LAST-MODIFIED:20180111T164757Z
UID:4872-1519203600-1519214400@www.rockumchurch.com
SUMMARY:GOM - Grumpy Old Men
DESCRIPTION:Church Maintenance and Fellowship
URL:https://www.rockumchurch.com/event/gom-grumpy-old-men-2018-02-21/
LOCATION:Rockville United Methodist Church\, 142 Grove Street\, Rockville\, CT\, 06066\, United States
CATEGORIES:Maintenance
ORGANIZER;CN="Don Ross":MAILTO:rumcoffice@sbcglobla.net
END:VEVENT
BEGIN:VEVENT
DTSTART;TZID=America/New_York:20180218T100000
DTEND;TZID=America/New_York:20180218T230000
DTSTAMP:20260425T153444
CREATED:20180202T202332Z
LAST-MODIFIED:20180202T202332Z
UID:5050-1518948000-1518994800@www.rockumchurch.com
SUMMARY:Sunday School
DESCRIPTION:Following the Children’s Message
URL:https://www.rockumchurch.com/event/sunday-school-2-2018-02-18/
LOCATION:Rockville United Methodist Church\, 142 Grove Street\, Rockville\, CT\, 06066\, United States
CATEGORIES:Youth
ORGANIZER;CN="Linda Shivers":MAILTO:necsvga@aol.com
END:VEVENT
BEGIN:VEVENT
DTSTART;TZID=America/New_York:20180215T190000
DTEND;TZID=America/New_York:20180215T203000
DTSTAMP:20260425T153444
CREATED:20180202T200838Z
LAST-MODIFIED:20180202T200838Z
UID:5008-1518721200-1518726600@www.rockumchurch.com
SUMMARY:Senior Choir
DESCRIPTION:
URL:https://www.rockumchurch.com/event/senior-choir-3-2018-02-15/
LOCATION:Rockville United Methodist Church\, 142 Grove Street\, Rockville\, CT\, 06066\, United States
CATEGORIES:Music
END:VEVENT
BEGIN:VEVENT
DTSTART;TZID=America/New_York:20180214T090000
DTEND;TZID=America/New_York:20180214T120000
DTSTAMP:20260425T153444
CREATED:20180111T164757Z
LAST-MODIFIED:20180111T164757Z
UID:4871-1518598800-1518609600@www.rockumchurch.com
SUMMARY:GOM - Grumpy Old Men
DESCRIPTION:Church Maintenance and Fellowship
URL:https://www.rockumchurch.com/event/gom-grumpy-old-men-2018-02-14/
LOCATION:Rockville United Methodist Church\, 142 Grove Street\, Rockville\, CT\, 06066\, United States
CATEGORIES:Maintenance
ORGANIZER;CN="Don Ross":MAILTO:rumcoffice@sbcglobla.net
END:VEVENT
BEGIN:VEVENT
DTSTART;TZID=America/New_York:20180211T180000
DTEND;TZID=America/New_York:20180211T190000
DTSTAMP:20260425T153444
CREATED:20180202T192703Z
LAST-MODIFIED:20180202T192703Z
UID:4971-1518372000-1518375600@www.rockumchurch.com
SUMMARY:Dinner Church
DESCRIPTION:Dinner and informal service at the parsonage.
URL:https://www.rockumchurch.com/event/dinner-church-4/
LOCATION:Parsonage\, 22 Elizabeth Street\, Ellington\, CT\, 06029\, United States
CATEGORIES:food,Scripture,Worship
ORGANIZER;CN="Paul O'Neil":MAILTO:pastorpaul0202@gmail.com
END:VEVENT
BEGIN:VEVENT
DTSTART;TZID=America/New_York:20180211T100000
DTEND;TZID=America/New_York:20180211T230000
DTSTAMP:20260425T153444
CREATED:20180202T202332Z
LAST-MODIFIED:20180202T202332Z
UID:5048-1518343200-1518390000@www.rockumchurch.com
SUMMARY:Sunday School
DESCRIPTION:Following the Children’s Message
URL:https://www.rockumchurch.com/event/sunday-school-2/
LOCATION:Rockville United Methodist Church\, 142 Grove Street\, Rockville\, CT\, 06066\, United States
CATEGORIES:Youth
ORGANIZER;CN="Linda Shivers":MAILTO:necsvga@aol.com
END:VEVENT
BEGIN:VEVENT
DTSTART;TZID=America/New_York:20180211T080000
DTEND;TZID=America/New_York:20180211T090000
DTSTAMP:20260425T153444
CREATED:20180202T192445Z
LAST-MODIFIED:20180202T192445Z
UID:4969-1518336000-1518339600@www.rockumchurch.com
SUMMARY:Valentine Breakfast
DESCRIPTION:The men of RUMC serve and serenade the women of RUMC.
URL:https://www.rockumchurch.com/event/valentine-breakfast/
LOCATION:Rockville United Methodist Church\, 142 Grove Street\, Rockville\, CT\, 06066\, United States
CATEGORIES:food
ORGANIZER;CN="Don Ross":MAILTO:rumcoffice@sbcglobla.net
END:VEVENT
BEGIN:VEVENT
DTSTART;TZID=America/New_York:20180208T190000
DTEND;TZID=America/New_York:20180208T203000
DTSTAMP:20260425T153444
CREATED:20180202T200838Z
LAST-MODIFIED:20180202T200838Z
UID:5006-1518116400-1518121800@www.rockumchurch.com
SUMMARY:Senior Choir
DESCRIPTION:
URL:https://www.rockumchurch.com/event/senior-choir-3/
LOCATION:Rockville United Methodist Church\, 142 Grove Street\, Rockville\, CT\, 06066\, United States
CATEGORIES:Music
END:VEVENT
BEGIN:VEVENT
DTSTART;TZID=America/New_York:20180207T090000
DTEND;TZID=America/New_York:20180207T120000
DTSTAMP:20260425T153444
CREATED:20180111T164757Z
LAST-MODIFIED:20180111T164757Z
UID:4870-1517994000-1518004800@www.rockumchurch.com
SUMMARY:GOM - Grumpy Old Men
DESCRIPTION:Church Maintenance and Fellowship
URL:https://www.rockumchurch.com/event/gom-grumpy-old-men-2018-02-07/
LOCATION:Rockville United Methodist Church\, 142 Grove Street\, Rockville\, CT\, 06066\, United States
CATEGORIES:Maintenance
ORGANIZER;CN="Don Ross":MAILTO:rumcoffice@sbcglobla.net
END:VEVENT
BEGIN:VEVENT
DTSTART;TZID=America/New_York:20180204T110000
DTEND;TZID=America/New_York:20180204T120000
DTSTAMP:20260425T153444
CREATED:20180202T192230Z
LAST-MODIFIED:20180202T192230Z
UID:4967-1517742000-1517745600@www.rockumchurch.com
SUMMARY:Super Soupier Sunday Fundraiser
DESCRIPTION:proceeds offset the cost of the 2018 Youth mission
URL:https://www.rockumchurch.com/event/super-soupier-sunday-fundraiser/
LOCATION:Rockville United Methodist Church\, 142 Grove Street\, Rockville\, CT\, 06066\, United States
CATEGORIES:food,Youth
ORGANIZER;CN="Linda Shivers":MAILTO:necsvga@aol.com
END:VEVENT
BEGIN:VEVENT
DTSTART;TZID=America/New_York:20180204T100000
DTEND;TZID=America/New_York:20180204T110000
DTSTAMP:20260425T153444
CREATED:20180202T192058Z
LAST-MODIFIED:20180202T192058Z
UID:4965-1517738400-1517742000@www.rockumchurch.com
SUMMARY:Youth Sunday
DESCRIPTION:The service was designed and led by our church youth.
URL:https://www.rockumchurch.com/event/youth-sunday-2/
LOCATION:Rockville United Methodist Church\, 142 Grove Street\, Rockville\, CT\, 06066\, United States
CATEGORIES:Worship,Youth
ORGANIZER;CN="Linda Shivers":MAILTO:necsvga@aol.com
END:VEVENT
BEGIN:VEVENT
DTSTART;TZID=America/New_York:20180203T180000
DTEND;TZID=America/New_York:20180203T200000
DTSTAMP:20260425T153444
CREATED:20180202T201416Z
LAST-MODIFIED:20180202T201416Z
UID:5020-1517680800-1517688000@www.rockumchurch.com
SUMMARY:Youth Basketball
DESCRIPTION:6 to 8 pm \nWapping Community Church \nWear sweats and sneakers \nbring a snack to share
URL:https://www.rockumchurch.com/event/youth-basketball/
LOCATION:Wapping Community Church\, 1790 Ellington Road\, South Windsor\, CT\, 06074\, United States
CATEGORIES:Youth
ORGANIZER;CN="Linda Shivers":MAILTO:necsvga@aol.com
END:VEVENT
BEGIN:VEVENT
DTSTART;TZID=America/New_York:20180131T090000
DTEND;TZID=America/New_York:20180131T120000
DTSTAMP:20260425T153444
CREATED:20180111T164757Z
LAST-MODIFIED:20180111T164757Z
UID:4869-1517389200-1517400000@www.rockumchurch.com
SUMMARY:GOM - Grumpy Old Men
DESCRIPTION:Church Maintenance and Fellowship
URL:https://www.rockumchurch.com/event/gom-grumpy-old-men-2018-01-31/
LOCATION:Rockville United Methodist Church\, 142 Grove Street\, Rockville\, CT\, 06066\, United States
CATEGORIES:Maintenance
ORGANIZER;CN="Don Ross":MAILTO:rumcoffice@sbcglobla.net
END:VEVENT
BEGIN:VEVENT
DTSTART;TZID=America/New_York:20180128T110000
DTEND;TZID=America/New_York:20180128T120000
DTSTAMP:20260425T153444
CREATED:20180111T163938Z
LAST-MODIFIED:20180111T163938Z
UID:4828-1517137200-1517140800@www.rockumchurch.com
SUMMARY:GSM - Grove Street Music
DESCRIPTION:
URL:https://www.rockumchurch.com/event/gsm-grove-street-music-2-2018-01-28/
LOCATION:Rockville United Methodist Church\, 142 Grove Street\, Rockville\, CT\, 06066\, United States
CATEGORIES:Music
END:VEVENT
BEGIN:VEVENT
DTSTART;TZID=America/New_York:20180127T090000
DTEND;TZID=America/New_York:20180127T120000
DTSTAMP:20260425T153444
CREATED:20180111T165544Z
LAST-MODIFIED:20180111T165544Z
UID:4926-1517043600-1517054400@www.rockumchurch.com
SUMMARY:Pastor's Prayer Meeting
DESCRIPTION:
URL:https://www.rockumchurch.com/event/pastors-prayer-meeting-2-2018-01-27/
LOCATION:Rockville United Methodist Church\, 142 Grove Street\, Rockville\, CT\, 06066\, United States
CATEGORIES:Scripture,Worship
END:VEVENT
BEGIN:VEVENT
DTSTART;TZID=America/New_York:20180126T100000
DTEND;TZID=America/New_York:20180126T113000
DTSTAMP:20260425T153444
CREATED:20180111T165356Z
LAST-MODIFIED:20180111T165356Z
UID:4921-1516960800-1516966200@www.rockumchurch.com
SUMMARY:Bible Devotional
DESCRIPTION:Explore this week’s sermon in detail.  Open to all.
URL:https://www.rockumchurch.com/event/bible-devotional-2-2018-01-26/
LOCATION:Rockville United Methodist Church\, 142 Grove Street\, Rockville\, CT\, 06066\, United States
CATEGORIES:Education,Scripture
ORGANIZER;CN="Paul O'Neil":MAILTO:pastorpaul0202@gmail.com
END:VEVENT
BEGIN:VEVENT
DTSTART;TZID=America/New_York:20180125T190000
DTEND;TZID=America/New_York:20180125T210000
DTSTAMP:20260425T153444
CREATED:20180111T165147Z
LAST-MODIFIED:20180111T165147Z
UID:4918-1516906800-1516914000@www.rockumchurch.com
SUMMARY:Senior Choir
DESCRIPTION:
URL:https://www.rockumchurch.com/event/senior-choir-2-2018-01-25/
LOCATION:Rockville United Methodist Church\, 142 Grove Street\, Rockville\, CT\, 06066\, United States
CATEGORIES:Music
END:VEVENT
BEGIN:VEVENT
DTSTART;TZID=America/New_York:20180124T090000
DTEND;TZID=America/New_York:20180124T120000
DTSTAMP:20260425T153444
CREATED:20180111T164757Z
LAST-MODIFIED:20180111T164757Z
UID:4868-1516784400-1516795200@www.rockumchurch.com
SUMMARY:GOM - Grumpy Old Men
DESCRIPTION:Church Maintenance and Fellowship
URL:https://www.rockumchurch.com/event/gom-grumpy-old-men-2018-01-24/
LOCATION:Rockville United Methodist Church\, 142 Grove Street\, Rockville\, CT\, 06066\, United States
CATEGORIES:Maintenance
ORGANIZER;CN="Don Ross":MAILTO:rumcoffice@sbcglobla.net
END:VEVENT
BEGIN:VEVENT
DTSTART;TZID=America/New_York:20180121T110000
DTEND;TZID=America/New_York:20180121T123000
DTSTAMP:20260425T153444
CREATED:20180111T164222Z
LAST-MODIFIED:20180111T164222Z
UID:4831-1516532400-1516537800@www.rockumchurch.com
SUMMARY:Confirmation Class
DESCRIPTION:
URL:https://www.rockumchurch.com/event/confirmation-class-3/
LOCATION:Rockville United Methodist Church\, 142 Grove Street\, Rockville\, CT\, 06066\, United States
CATEGORIES:Education,Scripture,Youth
ORGANIZER;CN="Linda Shivers":MAILTO:necsvga@aol.com
END:VEVENT
BEGIN:VEVENT
DTSTART;TZID=America/New_York:20180121T110000
DTEND;TZID=America/New_York:20180121T120000
DTSTAMP:20260425T153444
CREATED:20180111T163938Z
LAST-MODIFIED:20180111T163938Z
UID:4827-1516532400-1516536000@www.rockumchurch.com
SUMMARY:GSM - Grove Street Music
DESCRIPTION:
URL:https://www.rockumchurch.com/event/gsm-grove-street-music-2-2018-01-21/
LOCATION:Rockville United Methodist Church\, 142 Grove Street\, Rockville\, CT\, 06066\, United States
CATEGORIES:Music
END:VEVENT
BEGIN:VEVENT
DTSTART;TZID=America/New_York:20180120T090000
DTEND;TZID=America/New_York:20180120T120000
DTSTAMP:20260425T153444
CREATED:20180111T165544Z
LAST-MODIFIED:20180111T165544Z
UID:4925-1516438800-1516449600@www.rockumchurch.com
SUMMARY:Pastor's Prayer Meeting
DESCRIPTION:
URL:https://www.rockumchurch.com/event/pastors-prayer-meeting-2-2018-01-20/
LOCATION:Rockville United Methodist Church\, 142 Grove Street\, Rockville\, CT\, 06066\, United States
CATEGORIES:Scripture,Worship
END:VEVENT
BEGIN:VEVENT
DTSTART;TZID=America/New_York:20180119T100000
DTEND;TZID=America/New_York:20180119T113000
DTSTAMP:20260425T153444
CREATED:20180111T165356Z
LAST-MODIFIED:20180111T165356Z
UID:4919-1516356000-1516361400@www.rockumchurch.com
SUMMARY:Bible Devotional
DESCRIPTION:Explore this week’s sermon in detail.  Open to all.
URL:https://www.rockumchurch.com/event/bible-devotional-2/
LOCATION:Rockville United Methodist Church\, 142 Grove Street\, Rockville\, CT\, 06066\, United States
CATEGORIES:Education,Scripture
ORGANIZER;CN="Paul O'Neil":MAILTO:pastorpaul0202@gmail.com
END:VEVENT
BEGIN:VEVENT
DTSTART;TZID=America/New_York:20180118T190000
DTEND;TZID=America/New_York:20180118T210000
DTSTAMP:20260425T153444
CREATED:20180111T165147Z
LAST-MODIFIED:20180111T165147Z
UID:4917-1516302000-1516309200@www.rockumchurch.com
SUMMARY:Senior Choir
DESCRIPTION:
URL:https://www.rockumchurch.com/event/senior-choir-2-2018-01-18/
LOCATION:Rockville United Methodist Church\, 142 Grove Street\, Rockville\, CT\, 06066\, United States
CATEGORIES:Music
END:VEVENT
BEGIN:VEVENT
DTSTART;TZID=America/New_York:20180117T090000
DTEND;TZID=America/New_York:20180117T120000
DTSTAMP:20260425T153444
CREATED:20180111T164757Z
LAST-MODIFIED:20180111T164757Z
UID:4867-1516179600-1516190400@www.rockumchurch.com
SUMMARY:GOM - Grumpy Old Men
DESCRIPTION:Church Maintenance and Fellowship
URL:https://www.rockumchurch.com/event/gom-grumpy-old-men-2018-01-17/
LOCATION:Rockville United Methodist Church\, 142 Grove Street\, Rockville\, CT\, 06066\, United States
CATEGORIES:Maintenance
ORGANIZER;CN="Don Ross":MAILTO:rumcoffice@sbcglobla.net
END:VEVENT
BEGIN:VEVENT
DTSTART;TZID=America/New_York:20180114T180000
DTEND;TZID=America/New_York:20180114T190000
DTSTAMP:20260425T153444
CREATED:20170927T175933Z
LAST-MODIFIED:20171130T200044Z
UID:4563-1515952800-1515956400@www.rockumchurch.com
SUMMARY:Dinner Church
DESCRIPTION:
URL:https://www.rockumchurch.com/event/dinner-church-3/
LOCATION:Parsonage\, 22 Elizabeth Street\, Ellington\, CT\, 06029\, United States
CATEGORIES:Music,RUMC Events,Scripture
ORGANIZER;CN="Paul O'Neil":MAILTO:pastorpaul0202@gmail.com
END:VEVENT
BEGIN:VEVENT
DTSTART;TZID=America/New_York:20180114T110000
DTEND;TZID=America/New_York:20180114T120000
DTSTAMP:20260425T153444
CREATED:20180111T163938Z
LAST-MODIFIED:20180111T163938Z
UID:4826-1515927600-1515931200@www.rockumchurch.com
SUMMARY:GSM - Grove Street Music
DESCRIPTION:
URL:https://www.rockumchurch.com/event/gsm-grove-street-music-2-2018-01-14/
LOCATION:Rockville United Methodist Church\, 142 Grove Street\, Rockville\, CT\, 06066\, United States
CATEGORIES:Music
END:VEVENT
BEGIN:VEVENT
DTSTART;TZID=America/New_York:20180113T090000
DTEND;TZID=America/New_York:20180113T120000
DTSTAMP:20260425T153444
CREATED:20180111T165544Z
LAST-MODIFIED:20180111T165544Z
UID:4924-1515834000-1515844800@www.rockumchurch.com
SUMMARY:Pastor's Prayer Meeting
DESCRIPTION:
URL:https://www.rockumchurch.com/event/pastors-prayer-meeting-2-2018-01-13/
LOCATION:Rockville United Methodist Church\, 142 Grove Street\, Rockville\, CT\, 06066\, United States
CATEGORIES:Scripture,Worship
END:VEVENT
END:VCALENDAR