BEGIN:VCALENDAR
VERSION:2.0
PRODID:-//Rockville United Methodist Church - ECPv6.15.20//NONSGML v1.0//EN
CALSCALE:GREGORIAN
METHOD:PUBLISH
X-WR-CALNAME:Rockville United Methodist Church
X-ORIGINAL-URL:https://www.rockumchurch.com
X-WR-CALDESC:Events for Rockville United Methodist Church
REFRESH-INTERVAL;VALUE=DURATION:PT1H
X-Robots-Tag:noindex
X-PUBLISHED-TTL:PT1H
BEGIN:VTIMEZONE
TZID:America/New_York
BEGIN:DAYLIGHT
TZOFFSETFROM:-0500
TZOFFSETTO:-0400
TZNAME:EDT
DTSTART:20170312T070000
END:DAYLIGHT
BEGIN:STANDARD
TZOFFSETFROM:-0400
TZOFFSETTO:-0500
TZNAME:EST
DTSTART:20171105T060000
END:STANDARD
BEGIN:DAYLIGHT
TZOFFSETFROM:-0500
TZOFFSETTO:-0400
TZNAME:EDT
DTSTART:20180311T070000
END:DAYLIGHT
BEGIN:STANDARD
TZOFFSETFROM:-0400
TZOFFSETTO:-0500
TZNAME:EST
DTSTART:20181104T060000
END:STANDARD
BEGIN:DAYLIGHT
TZOFFSETFROM:-0500
TZOFFSETTO:-0400
TZNAME:EDT
DTSTART:20190310T070000
END:DAYLIGHT
BEGIN:STANDARD
TZOFFSETFROM:-0400
TZOFFSETTO:-0500
TZNAME:EST
DTSTART:20191103T060000
END:STANDARD
END:VTIMEZONE
BEGIN:VEVENT
DTSTART;TZID=America/New_York:20180516T090000
DTEND;TZID=America/New_York:20180516T120000
DTSTAMP:20260425T090807
CREATED:20180111T164757Z
LAST-MODIFIED:20180111T164757Z
UID:4884-1526461200-1526472000@www.rockumchurch.com
SUMMARY:GOM - Grumpy Old Men
DESCRIPTION:Church Maintenance and Fellowship
URL:https://www.rockumchurch.com/event/gom-grumpy-old-men-2018-05-16/
LOCATION:Rockville United Methodist Church\, 142 Grove Street\, Rockville\, CT\, 06066\, United States
CATEGORIES:Maintenance
ORGANIZER;CN="Don Ross":MAILTO:rumcoffice@sbcglobla.net
END:VEVENT
BEGIN:VEVENT
DTSTART;TZID=America/New_York:20180513T100000
DTEND;TZID=America/New_York:20180513T110000
DTSTAMP:20260425T090807
CREATED:20180504T220507Z
LAST-MODIFIED:20180504T220507Z
UID:5220-1526205600-1526209200@www.rockumchurch.com
SUMMARY:Sunday School
DESCRIPTION:
URL:https://www.rockumchurch.com/event/sunday-school-3-2018-05-13/
LOCATION:Rockville United Methodist Church\, 142 Grove Street\, Rockville\, CT\, 06066\, United States
CATEGORIES:Education,Worship,Youth
ORGANIZER;CN="Linda Shivers":MAILTO:necsvga@aol.com
END:VEVENT
BEGIN:VEVENT
DTSTART;TZID=America/New_York:20180510T190000
DTEND;TZID=America/New_York:20180510T210000
DTSTAMP:20260425T090807
CREATED:20180504T220653Z
LAST-MODIFIED:20180504T220653Z
UID:5224-1525978800-1525986000@www.rockumchurch.com
SUMMARY:Senior Choir
DESCRIPTION:
URL:https://www.rockumchurch.com/event/senior-choir-4-2018-05-10/
LOCATION:Rockville United Methodist Church\, 142 Grove Street\, Rockville\, CT\, 06066\, United States
CATEGORIES:Music
END:VEVENT
BEGIN:VEVENT
DTSTART;TZID=America/New_York:20180509T090000
DTEND;TZID=America/New_York:20180509T120000
DTSTAMP:20260425T090807
CREATED:20180111T164757Z
LAST-MODIFIED:20180111T164757Z
UID:4883-1525856400-1525867200@www.rockumchurch.com
SUMMARY:GOM - Grumpy Old Men
DESCRIPTION:Church Maintenance and Fellowship
URL:https://www.rockumchurch.com/event/gom-grumpy-old-men-2018-05-09/
LOCATION:Rockville United Methodist Church\, 142 Grove Street\, Rockville\, CT\, 06066\, United States
CATEGORIES:Maintenance
ORGANIZER;CN="Don Ross":MAILTO:rumcoffice@sbcglobla.net
END:VEVENT
BEGIN:VEVENT
DTSTART;TZID=America/New_York:20180506T100000
DTEND;TZID=America/New_York:20180506T110000
DTSTAMP:20260425T090807
CREATED:20180504T220507Z
LAST-MODIFIED:20180504T220507Z
UID:5218-1525600800-1525604400@www.rockumchurch.com
SUMMARY:Sunday School
DESCRIPTION:
URL:https://www.rockumchurch.com/event/sunday-school-3/
LOCATION:Rockville United Methodist Church\, 142 Grove Street\, Rockville\, CT\, 06066\, United States
CATEGORIES:Education,Worship,Youth
ORGANIZER;CN="Linda Shivers":MAILTO:necsvga@aol.com
END:VEVENT
BEGIN:VEVENT
DTSTART;TZID=America/New_York:20180503T190000
DTEND;TZID=America/New_York:20180503T210000
DTSTAMP:20260425T090807
CREATED:20180504T220653Z
LAST-MODIFIED:20180504T220653Z
UID:5222-1525374000-1525381200@www.rockumchurch.com
SUMMARY:Senior Choir
DESCRIPTION:
URL:https://www.rockumchurch.com/event/senior-choir-4/
LOCATION:Rockville United Methodist Church\, 142 Grove Street\, Rockville\, CT\, 06066\, United States
CATEGORIES:Music
END:VEVENT
BEGIN:VEVENT
DTSTART;TZID=America/New_York:20180502T090000
DTEND;TZID=America/New_York:20180502T120000
DTSTAMP:20260425T090807
CREATED:20180111T164757Z
LAST-MODIFIED:20180111T164757Z
UID:4882-1525251600-1525262400@www.rockumchurch.com
SUMMARY:GOM - Grumpy Old Men
DESCRIPTION:Church Maintenance and Fellowship
URL:https://www.rockumchurch.com/event/gom-grumpy-old-men-2018-05-02/
LOCATION:Rockville United Methodist Church\, 142 Grove Street\, Rockville\, CT\, 06066\, United States
CATEGORIES:Maintenance
ORGANIZER;CN="Don Ross":MAILTO:rumcoffice@sbcglobla.net
END:VEVENT
BEGIN:VEVENT
DTSTART;TZID=America/New_York:20180425T090000
DTEND;TZID=America/New_York:20180425T120000
DTSTAMP:20260425T090807
CREATED:20180111T164757Z
LAST-MODIFIED:20180111T164757Z
UID:4881-1524646800-1524657600@www.rockumchurch.com
SUMMARY:GOM - Grumpy Old Men
DESCRIPTION:Church Maintenance and Fellowship
URL:https://www.rockumchurch.com/event/gom-grumpy-old-men-2018-04-25/
LOCATION:Rockville United Methodist Church\, 142 Grove Street\, Rockville\, CT\, 06066\, United States
CATEGORIES:Maintenance
ORGANIZER;CN="Don Ross":MAILTO:rumcoffice@sbcglobla.net
END:VEVENT
BEGIN:VEVENT
DTSTART;TZID=America/New_York:20180418T090000
DTEND;TZID=America/New_York:20180418T120000
DTSTAMP:20260425T090807
CREATED:20180111T164757Z
LAST-MODIFIED:20180111T164757Z
UID:4880-1524042000-1524052800@www.rockumchurch.com
SUMMARY:GOM - Grumpy Old Men
DESCRIPTION:Church Maintenance and Fellowship
URL:https://www.rockumchurch.com/event/gom-grumpy-old-men-2018-04-18/
LOCATION:Rockville United Methodist Church\, 142 Grove Street\, Rockville\, CT\, 06066\, United States
CATEGORIES:Maintenance
ORGANIZER;CN="Don Ross":MAILTO:rumcoffice@sbcglobla.net
END:VEVENT
BEGIN:VEVENT
DTSTART;TZID=America/New_York:20180411T090000
DTEND;TZID=America/New_York:20180411T120000
DTSTAMP:20260425T090807
CREATED:20180111T164757Z
LAST-MODIFIED:20180111T164757Z
UID:4879-1523437200-1523448000@www.rockumchurch.com
SUMMARY:GOM - Grumpy Old Men
DESCRIPTION:Church Maintenance and Fellowship
URL:https://www.rockumchurch.com/event/gom-grumpy-old-men-2018-04-11/
LOCATION:Rockville United Methodist Church\, 142 Grove Street\, Rockville\, CT\, 06066\, United States
CATEGORIES:Maintenance
ORGANIZER;CN="Don Ross":MAILTO:rumcoffice@sbcglobla.net
END:VEVENT
BEGIN:VEVENT
DTSTART;TZID=America/New_York:20180404T090000
DTEND;TZID=America/New_York:20180404T120000
DTSTAMP:20260425T090807
CREATED:20180111T164757Z
LAST-MODIFIED:20180111T164757Z
UID:4878-1522832400-1522843200@www.rockumchurch.com
SUMMARY:GOM - Grumpy Old Men
DESCRIPTION:Church Maintenance and Fellowship
URL:https://www.rockumchurch.com/event/gom-grumpy-old-men-2018-04-04/
LOCATION:Rockville United Methodist Church\, 142 Grove Street\, Rockville\, CT\, 06066\, United States
CATEGORIES:Maintenance
ORGANIZER;CN="Don Ross":MAILTO:rumcoffice@sbcglobla.net
END:VEVENT
BEGIN:VEVENT
DTSTART;TZID=America/New_York:20180328T090000
DTEND;TZID=America/New_York:20180328T120000
DTSTAMP:20260425T090807
CREATED:20180111T164757Z
LAST-MODIFIED:20180111T164757Z
UID:4877-1522227600-1522238400@www.rockumchurch.com
SUMMARY:GOM - Grumpy Old Men
DESCRIPTION:Church Maintenance and Fellowship
URL:https://www.rockumchurch.com/event/gom-grumpy-old-men-2018-03-28/
LOCATION:Rockville United Methodist Church\, 142 Grove Street\, Rockville\, CT\, 06066\, United States
CATEGORIES:Maintenance
ORGANIZER;CN="Don Ross":MAILTO:rumcoffice@sbcglobla.net
END:VEVENT
BEGIN:VEVENT
DTSTART;TZID=America/New_York:20180321T090000
DTEND;TZID=America/New_York:20180321T120000
DTSTAMP:20260425T090807
CREATED:20180111T164757Z
LAST-MODIFIED:20180111T164757Z
UID:4876-1521622800-1521633600@www.rockumchurch.com
SUMMARY:GOM - Grumpy Old Men
DESCRIPTION:Church Maintenance and Fellowship
URL:https://www.rockumchurch.com/event/gom-grumpy-old-men-2018-03-21/
LOCATION:Rockville United Methodist Church\, 142 Grove Street\, Rockville\, CT\, 06066\, United States
CATEGORIES:Maintenance
ORGANIZER;CN="Don Ross":MAILTO:rumcoffice@sbcglobla.net
END:VEVENT
BEGIN:VEVENT
DTSTART;VALUE=DATE:20180318
DTEND;VALUE=DATE:20180319
DTSTAMP:20260425T090807
CREATED:20180202T193704Z
LAST-MODIFIED:20180202T201935Z
UID:4998-1521331200-1521417599@www.rockumchurch.com
SUMMARY:Braided Bread Fundraiser
DESCRIPTION:Just in time for Easter! \n$13 each \nStrawberry Cream Cheese\nCinnamon\nApple\nCream Cheese\nRaspberry \nItalian Herb Bread \nCaramel or Cinnamon Sweet Rolls \nOrders will be taken February 25 to March 18\, 2018 \nDelivery March 27\, 2018 \n     \n 
URL:https://www.rockumchurch.com/event/braided-bread-fundraiser-2018-03-18/
LOCATION:Rockville United Methodist Church\, 142 Grove Street\, Rockville\, CT\, 06066\, United States
CATEGORIES:food,Fundraising
ORGANIZER;CN="Diane Lajoie":MAILTO:RockvilleUMC@outlook.com
END:VEVENT
BEGIN:VEVENT
DTSTART;TZID=America/New_York:20180317T180000
DTEND;TZID=America/New_York:20180317T200000
DTSTAMP:20260425T090807
CREATED:20180202T201416Z
LAST-MODIFIED:20180202T201526Z
UID:5023-1521309600-1521316800@www.rockumchurch.com
SUMMARY:Youth Basketball
DESCRIPTION:6 to 8 pm \nWapping Community Church \nWear sweats and sneakers \nbring a snack to share
URL:https://www.rockumchurch.com/event/youth-basketball-2018-03-03/
LOCATION:Wapping Community Church\, 1790 Ellington Road\, South Windsor\, CT\, 06074\, United States
CATEGORIES:Youth
ORGANIZER;CN="Linda Shivers":MAILTO:necsvga@aol.com
END:VEVENT
BEGIN:VEVENT
DTSTART;TZID=America/New_York:20180317T170000
DTEND;TZID=America/New_York:20180317T183000
DTSTAMP:20260425T090807
CREATED:20180227T190828Z
LAST-MODIFIED:20180227T190828Z
UID:5090-1521306000-1521311400@www.rockumchurch.com
SUMMARY:Corned Beef Supper
DESCRIPTION:Corned Beef Supper\nSaturday March 17\, 2018\n5 to 6:30 pm\n$13 adults; $5 kids 6-12\nTake-Out Meals are available. \nCorned Beef\, Cabbage\, Potatoes\, Vegetables\, Homemade Irish Soda Bread\, and Grasshopper Pie for Dessert.  \nWalk-Ins are welcome\,\nbut reservations are recommended. 860-875-6562
URL:https://www.rockumchurch.com/event/corned-beef-supper/
LOCATION:Rockville United Methodist Church\, 142 Grove Street\, Rockville\, CT\, 06066\, United States
CATEGORIES:Community Events,food,RUMC Events
ORGANIZER;CN="Steve Yoder":MAILTO:scsjyoder@aol.com
END:VEVENT
BEGIN:VEVENT
DTSTART;VALUE=DATE:20180317
DTEND;VALUE=DATE:20180318
DTSTAMP:20260425T090807
CREATED:20180202T193704Z
LAST-MODIFIED:20180202T201934Z
UID:4997-1521244800-1521331199@www.rockumchurch.com
SUMMARY:Braided Bread Fundraiser
DESCRIPTION:Just in time for Easter! \n$13 each \nStrawberry Cream Cheese\nCinnamon\nApple\nCream Cheese\nRaspberry \nItalian Herb Bread \nCaramel or Cinnamon Sweet Rolls \nOrders will be taken February 25 to March 18\, 2018 \nDelivery March 27\, 2018 \n     \n 
URL:https://www.rockumchurch.com/event/braided-bread-fundraiser-2018-03-17/
LOCATION:Rockville United Methodist Church\, 142 Grove Street\, Rockville\, CT\, 06066\, United States
CATEGORIES:food,Fundraising
ORGANIZER;CN="Diane Lajoie":MAILTO:RockvilleUMC@outlook.com
END:VEVENT
BEGIN:VEVENT
DTSTART;VALUE=DATE:20180316
DTEND;VALUE=DATE:20180317
DTSTAMP:20260425T090807
CREATED:20180202T193704Z
LAST-MODIFIED:20180202T201934Z
UID:4996-1521158400-1521244799@www.rockumchurch.com
SUMMARY:Braided Bread Fundraiser
DESCRIPTION:Just in time for Easter! \n$13 each \nStrawberry Cream Cheese\nCinnamon\nApple\nCream Cheese\nRaspberry \nItalian Herb Bread \nCaramel or Cinnamon Sweet Rolls \nOrders will be taken February 25 to March 18\, 2018 \nDelivery March 27\, 2018 \n     \n 
URL:https://www.rockumchurch.com/event/braided-bread-fundraiser-2018-03-16/
LOCATION:Rockville United Methodist Church\, 142 Grove Street\, Rockville\, CT\, 06066\, United States
CATEGORIES:food,Fundraising
ORGANIZER;CN="Diane Lajoie":MAILTO:RockvilleUMC@outlook.com
END:VEVENT
BEGIN:VEVENT
DTSTART;VALUE=DATE:20180315
DTEND;VALUE=DATE:20180316
DTSTAMP:20260425T090807
CREATED:20180202T193704Z
LAST-MODIFIED:20180202T201934Z
UID:4995-1521072000-1521158399@www.rockumchurch.com
SUMMARY:Braided Bread Fundraiser
DESCRIPTION:Just in time for Easter! \n$13 each \nStrawberry Cream Cheese\nCinnamon\nApple\nCream Cheese\nRaspberry \nItalian Herb Bread \nCaramel or Cinnamon Sweet Rolls \nOrders will be taken February 25 to March 18\, 2018 \nDelivery March 27\, 2018 \n     \n 
URL:https://www.rockumchurch.com/event/braided-bread-fundraiser-2018-03-15/
LOCATION:Rockville United Methodist Church\, 142 Grove Street\, Rockville\, CT\, 06066\, United States
CATEGORIES:food,Fundraising
ORGANIZER;CN="Diane Lajoie":MAILTO:RockvilleUMC@outlook.com
END:VEVENT
BEGIN:VEVENT
DTSTART;TZID=America/New_York:20180314T090000
DTEND;TZID=America/New_York:20180314T120000
DTSTAMP:20260425T090807
CREATED:20180111T164757Z
LAST-MODIFIED:20180111T164757Z
UID:4875-1521018000-1521028800@www.rockumchurch.com
SUMMARY:GOM - Grumpy Old Men
DESCRIPTION:Church Maintenance and Fellowship
URL:https://www.rockumchurch.com/event/gom-grumpy-old-men-2018-03-14/
LOCATION:Rockville United Methodist Church\, 142 Grove Street\, Rockville\, CT\, 06066\, United States
CATEGORIES:Maintenance
ORGANIZER;CN="Don Ross":MAILTO:rumcoffice@sbcglobla.net
END:VEVENT
BEGIN:VEVENT
DTSTART;VALUE=DATE:20180314
DTEND;VALUE=DATE:20180315
DTSTAMP:20260425T090807
CREATED:20180202T193704Z
LAST-MODIFIED:20180202T201934Z
UID:4994-1520985600-1521071999@www.rockumchurch.com
SUMMARY:Braided Bread Fundraiser
DESCRIPTION:Just in time for Easter! \n$13 each \nStrawberry Cream Cheese\nCinnamon\nApple\nCream Cheese\nRaspberry \nItalian Herb Bread \nCaramel or Cinnamon Sweet Rolls \nOrders will be taken February 25 to March 18\, 2018 \nDelivery March 27\, 2018 \n     \n 
URL:https://www.rockumchurch.com/event/braided-bread-fundraiser-2018-03-14/
LOCATION:Rockville United Methodist Church\, 142 Grove Street\, Rockville\, CT\, 06066\, United States
CATEGORIES:food,Fundraising
ORGANIZER;CN="Diane Lajoie":MAILTO:RockvilleUMC@outlook.com
END:VEVENT
BEGIN:VEVENT
DTSTART;VALUE=DATE:20180313
DTEND;VALUE=DATE:20180314
DTSTAMP:20260425T090807
CREATED:20180202T193704Z
LAST-MODIFIED:20180202T201934Z
UID:4993-1520899200-1520985599@www.rockumchurch.com
SUMMARY:Braided Bread Fundraiser
DESCRIPTION:Just in time for Easter! \n$13 each \nStrawberry Cream Cheese\nCinnamon\nApple\nCream Cheese\nRaspberry \nItalian Herb Bread \nCaramel or Cinnamon Sweet Rolls \nOrders will be taken February 25 to March 18\, 2018 \nDelivery March 27\, 2018 \n     \n 
URL:https://www.rockumchurch.com/event/braided-bread-fundraiser-2018-03-13/
LOCATION:Rockville United Methodist Church\, 142 Grove Street\, Rockville\, CT\, 06066\, United States
CATEGORIES:food,Fundraising
ORGANIZER;CN="Diane Lajoie":MAILTO:RockvilleUMC@outlook.com
END:VEVENT
BEGIN:VEVENT
DTSTART;VALUE=DATE:20180312
DTEND;VALUE=DATE:20180313
DTSTAMP:20260425T090807
CREATED:20180202T193704Z
LAST-MODIFIED:20180202T201934Z
UID:4992-1520812800-1520899199@www.rockumchurch.com
SUMMARY:Braided Bread Fundraiser
DESCRIPTION:Just in time for Easter! \n$13 each \nStrawberry Cream Cheese\nCinnamon\nApple\nCream Cheese\nRaspberry \nItalian Herb Bread \nCaramel or Cinnamon Sweet Rolls \nOrders will be taken February 25 to March 18\, 2018 \nDelivery March 27\, 2018 \n     \n 
URL:https://www.rockumchurch.com/event/braided-bread-fundraiser-2018-03-12/
LOCATION:Rockville United Methodist Church\, 142 Grove Street\, Rockville\, CT\, 06066\, United States
CATEGORIES:food,Fundraising
ORGANIZER;CN="Diane Lajoie":MAILTO:RockvilleUMC@outlook.com
END:VEVENT
BEGIN:VEVENT
DTSTART;VALUE=DATE:20180311
DTEND;VALUE=DATE:20180312
DTSTAMP:20260425T090807
CREATED:20180202T193704Z
LAST-MODIFIED:20180202T201933Z
UID:4991-1520726400-1520812799@www.rockumchurch.com
SUMMARY:Braided Bread Fundraiser
DESCRIPTION:Just in time for Easter! \n$13 each \nStrawberry Cream Cheese\nCinnamon\nApple\nCream Cheese\nRaspberry \nItalian Herb Bread \nCaramel or Cinnamon Sweet Rolls \nOrders will be taken February 25 to March 18\, 2018 \nDelivery March 27\, 2018 \n     \n 
URL:https://www.rockumchurch.com/event/braided-bread-fundraiser-2018-03-11/
LOCATION:Rockville United Methodist Church\, 142 Grove Street\, Rockville\, CT\, 06066\, United States
CATEGORIES:food,Fundraising
ORGANIZER;CN="Diane Lajoie":MAILTO:RockvilleUMC@outlook.com
END:VEVENT
BEGIN:VEVENT
DTSTART;VALUE=DATE:20180310
DTEND;VALUE=DATE:20180311
DTSTAMP:20260425T090807
CREATED:20180202T193704Z
LAST-MODIFIED:20180202T201933Z
UID:4990-1520640000-1520726399@www.rockumchurch.com
SUMMARY:Braided Bread Fundraiser
DESCRIPTION:Just in time for Easter! \n$13 each \nStrawberry Cream Cheese\nCinnamon\nApple\nCream Cheese\nRaspberry \nItalian Herb Bread \nCaramel or Cinnamon Sweet Rolls \nOrders will be taken February 25 to March 18\, 2018 \nDelivery March 27\, 2018 \n     \n 
URL:https://www.rockumchurch.com/event/braided-bread-fundraiser-2018-03-10/
LOCATION:Rockville United Methodist Church\, 142 Grove Street\, Rockville\, CT\, 06066\, United States
CATEGORIES:food,Fundraising
ORGANIZER;CN="Diane Lajoie":MAILTO:RockvilleUMC@outlook.com
END:VEVENT
BEGIN:VEVENT
DTSTART;VALUE=DATE:20180309
DTEND;VALUE=DATE:20180310
DTSTAMP:20260425T090807
CREATED:20180202T193704Z
LAST-MODIFIED:20180202T201933Z
UID:4989-1520553600-1520639999@www.rockumchurch.com
SUMMARY:Braided Bread Fundraiser
DESCRIPTION:Just in time for Easter! \n$13 each \nStrawberry Cream Cheese\nCinnamon\nApple\nCream Cheese\nRaspberry \nItalian Herb Bread \nCaramel or Cinnamon Sweet Rolls \nOrders will be taken February 25 to March 18\, 2018 \nDelivery March 27\, 2018 \n     \n 
URL:https://www.rockumchurch.com/event/braided-bread-fundraiser-2018-03-09/
LOCATION:Rockville United Methodist Church\, 142 Grove Street\, Rockville\, CT\, 06066\, United States
CATEGORIES:food,Fundraising
ORGANIZER;CN="Diane Lajoie":MAILTO:RockvilleUMC@outlook.com
END:VEVENT
BEGIN:VEVENT
DTSTART;VALUE=DATE:20180308
DTEND;VALUE=DATE:20180309
DTSTAMP:20260425T090807
CREATED:20180202T193704Z
LAST-MODIFIED:20180202T201933Z
UID:4988-1520467200-1520553599@www.rockumchurch.com
SUMMARY:Braided Bread Fundraiser
DESCRIPTION:Just in time for Easter! \n$13 each \nStrawberry Cream Cheese\nCinnamon\nApple\nCream Cheese\nRaspberry \nItalian Herb Bread \nCaramel or Cinnamon Sweet Rolls \nOrders will be taken February 25 to March 18\, 2018 \nDelivery March 27\, 2018 \n     \n 
URL:https://www.rockumchurch.com/event/braided-bread-fundraiser-2018-03-08/
LOCATION:Rockville United Methodist Church\, 142 Grove Street\, Rockville\, CT\, 06066\, United States
CATEGORIES:food,Fundraising
ORGANIZER;CN="Diane Lajoie":MAILTO:RockvilleUMC@outlook.com
END:VEVENT
BEGIN:VEVENT
DTSTART;TZID=America/New_York:20180307T090000
DTEND;TZID=America/New_York:20180307T120000
DTSTAMP:20260425T090807
CREATED:20180111T164757Z
LAST-MODIFIED:20180111T164757Z
UID:4874-1520413200-1520424000@www.rockumchurch.com
SUMMARY:GOM - Grumpy Old Men
DESCRIPTION:Church Maintenance and Fellowship
URL:https://www.rockumchurch.com/event/gom-grumpy-old-men-2018-03-07/
LOCATION:Rockville United Methodist Church\, 142 Grove Street\, Rockville\, CT\, 06066\, United States
CATEGORIES:Maintenance
ORGANIZER;CN="Don Ross":MAILTO:rumcoffice@sbcglobla.net
END:VEVENT
BEGIN:VEVENT
DTSTART;VALUE=DATE:20180307
DTEND;VALUE=DATE:20180308
DTSTAMP:20260425T090807
CREATED:20180202T193704Z
LAST-MODIFIED:20180202T201923Z
UID:4987-1520380800-1520467199@www.rockumchurch.com
SUMMARY:Braided Bread Fundraiser
DESCRIPTION:Just in time for Easter! \n$13 each \nStrawberry Cream Cheese\nCinnamon\nApple\nCream Cheese\nRaspberry \nItalian Herb Bread \nCaramel or Cinnamon Sweet Rolls \nOrders will be taken February 25 to March 18\, 2018 \nDelivery March 27\, 2018 \n     \n 
URL:https://www.rockumchurch.com/event/braided-bread-fundraiser-2018-03-07/
LOCATION:Rockville United Methodist Church\, 142 Grove Street\, Rockville\, CT\, 06066\, United States
CATEGORIES:food,Fundraising
ORGANIZER;CN="Diane Lajoie":MAILTO:RockvilleUMC@outlook.com
END:VEVENT
BEGIN:VEVENT
DTSTART;VALUE=DATE:20180306
DTEND;VALUE=DATE:20180307
DTSTAMP:20260425T090807
CREATED:20180202T193704Z
LAST-MODIFIED:20180202T201922Z
UID:4986-1520294400-1520380799@www.rockumchurch.com
SUMMARY:Braided Bread Fundraiser
DESCRIPTION:Just in time for Easter! \n$13 each \nStrawberry Cream Cheese\nCinnamon\nApple\nCream Cheese\nRaspberry \nItalian Herb Bread \nCaramel or Cinnamon Sweet Rolls \nOrders will be taken February 25 to March 18\, 2018 \nDelivery March 27\, 2018 \n     \n 
URL:https://www.rockumchurch.com/event/braided-bread-fundraiser-2018-03-06/
LOCATION:Rockville United Methodist Church\, 142 Grove Street\, Rockville\, CT\, 06066\, United States
CATEGORIES:food,Fundraising
ORGANIZER;CN="Diane Lajoie":MAILTO:RockvilleUMC@outlook.com
END:VEVENT
END:VCALENDAR