BEGIN:VCALENDAR
VERSION:2.0
PRODID:-//Rockville United Methodist Church - ECPv6.15.20//NONSGML v1.0//EN
CALSCALE:GREGORIAN
METHOD:PUBLISH
X-WR-CALNAME:Rockville United Methodist Church
X-ORIGINAL-URL:https://www.rockumchurch.com
X-WR-CALDESC:Events for Rockville United Methodist Church
REFRESH-INTERVAL;VALUE=DURATION:PT1H
X-Robots-Tag:noindex
X-PUBLISHED-TTL:PT1H
BEGIN:VTIMEZONE
TZID:America/New_York
BEGIN:DAYLIGHT
TZOFFSETFROM:-0500
TZOFFSETTO:-0400
TZNAME:EDT
DTSTART:20180311T070000
END:DAYLIGHT
BEGIN:STANDARD
TZOFFSETFROM:-0400
TZOFFSETTO:-0500
TZNAME:EST
DTSTART:20181104T060000
END:STANDARD
BEGIN:DAYLIGHT
TZOFFSETFROM:-0500
TZOFFSETTO:-0400
TZNAME:EDT
DTSTART:20190310T070000
END:DAYLIGHT
BEGIN:STANDARD
TZOFFSETFROM:-0400
TZOFFSETTO:-0500
TZNAME:EST
DTSTART:20191103T060000
END:STANDARD
BEGIN:DAYLIGHT
TZOFFSETFROM:-0500
TZOFFSETTO:-0400
TZNAME:EDT
DTSTART:20200308T070000
END:DAYLIGHT
BEGIN:STANDARD
TZOFFSETFROM:-0400
TZOFFSETTO:-0500
TZNAME:EST
DTSTART:20201101T060000
END:STANDARD
BEGIN:DAYLIGHT
TZOFFSETFROM:-0500
TZOFFSETTO:-0400
TZNAME:EDT
DTSTART:20210314T070000
END:DAYLIGHT
BEGIN:STANDARD
TZOFFSETFROM:-0400
TZOFFSETTO:-0500
TZNAME:EST
DTSTART:20211107T060000
END:STANDARD
END:VTIMEZONE
BEGIN:VEVENT
DTSTART;TZID=America/New_York:20200220T190000
DTEND;TZID=America/New_York:20200220T210000
DTSTAMP:20260422T203659
CREATED:20200206T193032Z
LAST-MODIFIED:20200206T193032Z
UID:7470-1582225200-1582232400@www.rockumchurch.com
SUMMARY:Senior Choir
DESCRIPTION:The Senior Choir practices on Thursday nights; they sing during Sunday worship. 
URL:https://www.rockumchurch.com/event/senior-choir-11/
LOCATION:Rockville United Methodist Church\, 142 Grove Street\, Rockville\, CT\, 06066\, United States
CATEGORIES:Music,Planning
END:VEVENT
BEGIN:VEVENT
DTSTART;TZID=America/New_York:20200219T090000
DTEND;TZID=America/New_York:20200219T120000
DTSTAMP:20260422T203659
CREATED:20200206T190922Z
LAST-MODIFIED:20200206T190922Z
UID:7438-1582102800-1582113600@www.rockumchurch.com
SUMMARY:GOM
DESCRIPTION:The Grumpy Old Men meet weekly to take care of the church maintenance. \nWednesdays\, 9 am to noon.
URL:https://www.rockumchurch.com/event/gom-4/
LOCATION:Rockville United Methodist Church\, 142 Grove Street\, Rockville\, CT\, 06066\, United States
CATEGORIES:Maintenance,Volunteer Opportunity
ORGANIZER;CN="Don Ross":MAILTO:rumcoffice@sbcglobla.net
END:VEVENT
BEGIN:VEVENT
DTSTART;TZID=America/New_York:20200213T190000
DTEND;TZID=America/New_York:20200213T210000
DTSTAMP:20260422T203659
CREATED:20200206T192920Z
LAST-MODIFIED:20200206T192920Z
UID:7468-1581620400-1581627600@www.rockumchurch.com
SUMMARY:Senior Choir
DESCRIPTION:The Senior Choir practices on Thursday nights; they sing during Sunday worship. 
URL:https://www.rockumchurch.com/event/senior-choir-10/
LOCATION:Rockville United Methodist Church\, 142 Grove Street\, Rockville\, CT\, 06066\, United States
CATEGORIES:Music,Planning
END:VEVENT
BEGIN:VEVENT
DTSTART;TZID=America/New_York:20200212T090000
DTEND;TZID=America/New_York:20200212T120000
DTSTAMP:20260422T203659
CREATED:20200206T190813Z
LAST-MODIFIED:20200206T190813Z
UID:7436-1581498000-1581508800@www.rockumchurch.com
SUMMARY:GOM
DESCRIPTION:The Grumpy Old Men meet weekly to take care of the church maintenance. \nWednesdays\, 9 am to noon.
URL:https://www.rockumchurch.com/event/gom-3/
LOCATION:Rockville United Methodist Church\, 142 Grove Street\, Rockville\, CT\, 06066\, United States
CATEGORIES:Maintenance,Volunteer Opportunity
ORGANIZER;CN="Don Ross":MAILTO:rumcoffice@sbcglobla.net
END:VEVENT
BEGIN:VEVENT
DTSTART;TZID=America/New_York:20200209T100000
DTEND;TZID=America/New_York:20200209T110000
DTSTAMP:20260422T203659
CREATED:20200206T195526Z
LAST-MODIFIED:20200206T195606Z
UID:7512-1581242400-1581246000@www.rockumchurch.com
SUMMARY:Sunday School
DESCRIPTION:The kids go to Sunday school after the Children’s Message in the service.  All children are welcome.
URL:https://www.rockumchurch.com/event/sunday-school-8/
LOCATION:Rockville United Methodist Church\, 142 Grove Street\, Rockville\, CT\, 06066\, United States
CATEGORIES:Scripture,Youth
ORGANIZER;CN="Linda Shivers":MAILTO:necsvga@aol.com
END:VEVENT
BEGIN:VEVENT
DTSTART;TZID=America/New_York:20200209T083000
DTEND;TZID=America/New_York:20200209T100000
DTSTAMP:20260422T203659
CREATED:20200206T184501Z
LAST-MODIFIED:20200206T184501Z
UID:7400-1581237000-1581242400@www.rockumchurch.com
SUMMARY:Valentine's Breakfast
DESCRIPTION:  \n \nThe Men of RUMC cook and serve the women a special Valentine Breakfast.  \n 
URL:https://www.rockumchurch.com/event/valentines-breakfast-2/
LOCATION:Rockville United Methodist Church\, 142 Grove Street\, Rockville\, CT\, 06066\, United States
CATEGORIES:food
ORGANIZER;CN="David Joy":MAILTO:daveinell@gmail.com
END:VEVENT
BEGIN:VEVENT
DTSTART;TZID=America/New_York:20200206T190000
DTEND;TZID=America/New_York:20200206T210000
DTSTAMP:20260422T203659
CREATED:20200206T192833Z
LAST-MODIFIED:20200206T192833Z
UID:7466-1581015600-1581022800@www.rockumchurch.com
SUMMARY:Senior Choir
DESCRIPTION:The Senior Choir practices on Thursday nights; they sing during Sunday worship.
URL:https://www.rockumchurch.com/event/senior-choir-9/
LOCATION:Rockville United Methodist Church\, 142 Grove Street\, Rockville\, CT\, 06066\, United States
CATEGORIES:Music,Planning
END:VEVENT
BEGIN:VEVENT
DTSTART;TZID=America/New_York:20200205T090000
DTEND;TZID=America/New_York:20200205T120000
DTSTAMP:20260422T203659
CREATED:20200206T190715Z
LAST-MODIFIED:20200206T190715Z
UID:7434-1580893200-1580904000@www.rockumchurch.com
SUMMARY:GOM
DESCRIPTION:The Grumpy Old Men meet weekly to take care of the church maintenance.\nWednesdays\, 9 am to noon.
URL:https://www.rockumchurch.com/event/gom-2/
LOCATION:Rockville United Methodist Church\, 142 Grove Street\, Rockville\, CT\, 06066\, United States
CATEGORIES:Maintenance,Volunteer Opportunity
ORGANIZER;CN="Don Ross":MAILTO:rumcoffice@sbcglobla.net
END:VEVENT
BEGIN:VEVENT
DTSTART;TZID=America/New_York:20200202T100000
DTEND;TZID=America/New_York:20200202T110000
DTSTAMP:20260422T203659
CREATED:20200206T195404Z
LAST-MODIFIED:20200206T195404Z
UID:7510-1580637600-1580641200@www.rockumchurch.com
SUMMARY:Sunday School
DESCRIPTION:The kids go to Sunday school after the Children’s Message in the service.  All children are welcome.
URL:https://www.rockumchurch.com/event/sunday-school-7/
LOCATION:Rockville United Methodist Church\, 142 Grove Street\, Rockville\, CT\, 06066\, United States
CATEGORIES:Scripture,Youth
ORGANIZER;CN="Linda Shivers":MAILTO:necsvga@aol.com
END:VEVENT
BEGIN:VEVENT
DTSTART;TZID=America/New_York:20191225T090000
DTEND;TZID=America/New_York:20191225T113000
DTSTAMP:20260422T203659
CREATED:20190104T163116Z
LAST-MODIFIED:20190104T163116Z
UID:6337-1577264400-1577273400@www.rockumchurch.com
SUMMARY:GOM - Grumpy Old Men
DESCRIPTION:Our “Grumpy Old Men” meet on Wednesday mornings to maintain the church building\, grounds\, and parsonage.  These dedicated individuals keep our church in working order and set up the signs and banners needed for special occasions. They can always use an extra pair of hands.  Coffee\, snacks\, and fellowship are part of their weekly gatherings.
URL:https://www.rockumchurch.com/event/gom-grumpy-old-men-4-2019-12-25/
LOCATION:Rockville United Methodist Church\, 142 Grove Street\, Rockville\, CT\, 06066\, United States
CATEGORIES:Maintenance,Volunteer Opportunity
ORGANIZER;CN="Don Ross":MAILTO:rumcoffice@sbcglobla.net
END:VEVENT
BEGIN:VEVENT
DTSTART;TZID=America/New_York:20191224T180000
DTEND;TZID=America/New_York:20191224T190000
DTSTAMP:20260422T203659
CREATED:20191205T174151Z
LAST-MODIFIED:20191205T174151Z
UID:7287-1577210400-1577214000@www.rockumchurch.com
SUMMARY:Christmas Eve Service
DESCRIPTION:Join us as we prepare to welcome the baby Jesus to the world!  Candlelight service is at 6 pm. All are welcome!
URL:https://www.rockumchurch.com/event/christmas-eve-service-2/
LOCATION:Rockville United Methodist Church\, 142 Grove Street\, Rockville\, CT\, 06066\, United States
CATEGORIES:RUMC Events,Scripture,Worship
ORGANIZER;CN="Pastor Cheol":MAILTO:starcheol@gmail.com
END:VEVENT
BEGIN:VEVENT
DTSTART;TZID=America/New_York:20191222T160000
DTEND;TZID=America/New_York:20191222T180000
DTSTAMP:20260422T203659
CREATED:20191205T202355Z
LAST-MODIFIED:20191205T223515Z
UID:7312-1577030400-1577037600@www.rockumchurch.com
SUMMARY:Family Christmas Party - Open to the Public
DESCRIPTION:Join us for this fun-filled afternoon! We will have a Special Guest\, a Carol Sing\, Refreshments\, and Music from our own GSM Praise Band and Bell Choir.
URL:https://www.rockumchurch.com/event/family-christmas-party-open-to-the-public/
LOCATION:Rockville United Methodist Church\, 142 Grove Street\, Rockville\, CT\, 06066\, United States
CATEGORIES:Community Events,Music,Youth
END:VEVENT
BEGIN:VEVENT
DTSTART;TZID=America/New_York:20191220T190000
DTEND;TZID=America/New_York:20191220T210000
DTSTAMP:20260422T203659
CREATED:20191206T175518Z
LAST-MODIFIED:20191206T175518Z
UID:7327-1576868400-1576875600@www.rockumchurch.com
SUMMARY:Youth Group Christmas Party
DESCRIPTION:
URL:https://www.rockumchurch.com/event/youth-group-christmas-party/
LOCATION:Rockville United Methodist Church\, 142 Grove Street\, Rockville\, CT\, 06066\, United States
CATEGORIES:Youth
END:VEVENT
BEGIN:VEVENT
DTSTART;TZID=America/New_York:20191219T100000
DTEND;TZID=America/New_York:20191219T113000
DTSTAMP:20260422T203659
CREATED:20191205T180233Z
LAST-MODIFIED:20191205T180233Z
UID:7304-1576749600-1576755000@www.rockumchurch.com
SUMMARY:Advent Bible Study
DESCRIPTION:
URL:https://www.rockumchurch.com/event/advent-bible-study-6/
LOCATION:Rockville United Methodist Church\, 142 Grove Street\, Rockville\, CT\, 06066\, United States
CATEGORIES:Community Events,Education,Scripture
ORGANIZER;CN="Pastor Cheol":MAILTO:starcheol@gmail.com
END:VEVENT
BEGIN:VEVENT
DTSTART;TZID=America/New_York:20191218T183000
DTEND;TZID=America/New_York:20191218T200000
DTSTAMP:20260422T203659
CREATED:20191205T180123Z
LAST-MODIFIED:20191205T180123Z
UID:7301-1576693800-1576699200@www.rockumchurch.com
SUMMARY:Advent Bible Study
DESCRIPTION:
URL:https://www.rockumchurch.com/event/advent-bible-study-5/
LOCATION:Rockville United Methodist Church\, 142 Grove Street\, Rockville\, CT\, 06066\, United States
CATEGORIES:Community Events,Education,Scripture
ORGANIZER;CN="Pastor Cheol":MAILTO:starcheol@gmail.com
END:VEVENT
BEGIN:VEVENT
DTSTART;TZID=America/New_York:20191218T090000
DTEND;TZID=America/New_York:20191218T113000
DTSTAMP:20260422T203659
CREATED:20190104T163116Z
LAST-MODIFIED:20190104T163116Z
UID:6336-1576659600-1576668600@www.rockumchurch.com
SUMMARY:GOM - Grumpy Old Men
DESCRIPTION:Our “Grumpy Old Men” meet on Wednesday mornings to maintain the church building\, grounds\, and parsonage.  These dedicated individuals keep our church in working order and set up the signs and banners needed for special occasions. They can always use an extra pair of hands.  Coffee\, snacks\, and fellowship are part of their weekly gatherings.
URL:https://www.rockumchurch.com/event/gom-grumpy-old-men-4-2019-12-18/
LOCATION:Rockville United Methodist Church\, 142 Grove Street\, Rockville\, CT\, 06066\, United States
CATEGORIES:Maintenance,Volunteer Opportunity
ORGANIZER;CN="Don Ross":MAILTO:rumcoffice@sbcglobla.net
END:VEVENT
BEGIN:VEVENT
DTSTART;TZID=America/New_York:20191215T110000
DTEND;TZID=America/New_York:20191215T120000
DTSTAMP:20260422T203659
CREATED:20191206T174849Z
LAST-MODIFIED:20191206T174849Z
UID:7320-1576407600-1576411200@www.rockumchurch.com
SUMMARY:Roast Pork Lunch
DESCRIPTION:Sign up by December 8th so the men can order the pork and potatoes. \nBring in a side dish to share and your own place setting. \n  \n 
URL:https://www.rockumchurch.com/event/roast-pork-lunch/
LOCATION:Rockville United Methodist Church\, 142 Grove Street\, Rockville\, CT\, 06066\, United States
CATEGORIES:food,RUMC Events
ORGANIZER;CN="Don Ross":MAILTO:rumcoffice@sbcglobla.net
END:VEVENT
BEGIN:VEVENT
DTSTART;TZID=America/New_York:20191215T100000
DTEND;TZID=America/New_York:20191215T110000
DTSTAMP:20260422T203659
CREATED:20191206T174655Z
LAST-MODIFIED:20191206T174655Z
UID:7318-1576404000-1576407600@www.rockumchurch.com
SUMMARY:Children's Christmas Pageant
DESCRIPTION:
URL:https://www.rockumchurch.com/event/childrens-christmas-pageant/
LOCATION:Rockville United Methodist Church\, 142 Grove Street\, Rockville\, CT\, 06066\, United States
CATEGORIES:Education,Worship,Youth
ORGANIZER;CN="Linda Shivers":MAILTO:necsvga@aol.com
END:VEVENT
BEGIN:VEVENT
DTSTART;TZID=America/New_York:20191212T100000
DTEND;TZID=America/New_York:20191212T113000
DTSTAMP:20260422T203659
CREATED:20191205T175902Z
LAST-MODIFIED:20191205T175902Z
UID:7299-1576144800-1576150200@www.rockumchurch.com
SUMMARY:Advent Bible Study
DESCRIPTION:
URL:https://www.rockumchurch.com/event/advent-bible-study-4/
LOCATION:Rockville United Methodist Church\, 142 Grove Street\, Rockville\, CT\, 06066\, United States
CATEGORIES:Community Events,Education,Scripture
ORGANIZER;CN="Pastor Cheol":MAILTO:starcheol@gmail.com
END:VEVENT
BEGIN:VEVENT
DTSTART;TZID=America/New_York:20191211T183000
DTEND;TZID=America/New_York:20191211T200000
DTSTAMP:20260422T203659
CREATED:20191205T175736Z
LAST-MODIFIED:20191205T175736Z
UID:7296-1576089000-1576094400@www.rockumchurch.com
SUMMARY:Advent Bible Study
DESCRIPTION:
URL:https://www.rockumchurch.com/event/advent-bible-study-3/
LOCATION:Rockville United Methodist Church\, 142 Grove Street\, Rockville\, CT\, 06066\, United States
CATEGORIES:Community Events,Education,Scripture
ORGANIZER;CN="Pastor Cheol":MAILTO:starcheol@gmail.com
END:VEVENT
BEGIN:VEVENT
DTSTART;TZID=America/New_York:20191211T090000
DTEND;TZID=America/New_York:20191211T113000
DTSTAMP:20260422T203659
CREATED:20190104T163116Z
LAST-MODIFIED:20190104T163116Z
UID:6335-1576054800-1576063800@www.rockumchurch.com
SUMMARY:GOM - Grumpy Old Men
DESCRIPTION:Our “Grumpy Old Men” meet on Wednesday mornings to maintain the church building\, grounds\, and parsonage.  These dedicated individuals keep our church in working order and set up the signs and banners needed for special occasions. They can always use an extra pair of hands.  Coffee\, snacks\, and fellowship are part of their weekly gatherings.
URL:https://www.rockumchurch.com/event/gom-grumpy-old-men-4-2019-12-11/
LOCATION:Rockville United Methodist Church\, 142 Grove Street\, Rockville\, CT\, 06066\, United States
CATEGORIES:Maintenance,Volunteer Opportunity
ORGANIZER;CN="Don Ross":MAILTO:rumcoffice@sbcglobla.net
END:VEVENT
BEGIN:VEVENT
DTSTART;TZID=America/New_York:20191208T100000
DTEND;TZID=America/New_York:20191208T110000
DTSTAMP:20260422T203659
CREATED:20190104T160546Z
LAST-MODIFIED:20190104T160546Z
UID:6163-1575799200-1575802800@www.rockumchurch.com
SUMMARY:Sunday School
DESCRIPTION:Sunday school begins after the Children’s Message in our worship service.  \nSunday school is free and open to kids 3 years old to High School.  
URL:https://www.rockumchurch.com/event/sunday-school-6-2019-12-08/
LOCATION:Rockville United Methodist Church\, 142 Grove Street\, Rockville\, CT\, 06066\, United States
CATEGORIES:Education,Worship,Youth
ORGANIZER;CN="Linda Shivers":MAILTO:necsvga@aol.com
END:VEVENT
BEGIN:VEVENT
DTSTART;TZID=America/New_York:20191205T100000
DTEND;TZID=America/New_York:20191205T113000
DTSTAMP:20260422T203659
CREATED:20191205T175549Z
LAST-MODIFIED:20191205T175549Z
UID:7294-1575540000-1575545400@www.rockumchurch.com
SUMMARY:Advent Bible Study
DESCRIPTION:
URL:https://www.rockumchurch.com/event/advent-bible-study-2/
LOCATION:Rockville United Methodist Church\, 142 Grove Street\, Rockville\, CT\, 06066\, United States
CATEGORIES:Community Events,Scripture
ORGANIZER;CN="Pastor Cheol":MAILTO:starcheol@gmail.com
END:VEVENT
BEGIN:VEVENT
DTSTART;TZID=America/New_York:20191204T183000
DTEND;TZID=America/New_York:20191204T200000
DTSTAMP:20260422T203659
CREATED:20191205T175303Z
LAST-MODIFIED:20191205T175303Z
UID:7290-1575484200-1575489600@www.rockumchurch.com
SUMMARY:Advent Bible Study
DESCRIPTION:
URL:https://www.rockumchurch.com/event/advent-bible-study/
LOCATION:Rockville United Methodist Church\, 142 Grove Street\, Rockville\, CT\, 06066\, United States
CATEGORIES:Community Events,Education,Scripture
ORGANIZER;CN="Pastor Cheol":MAILTO:starcheol@gmail.com
END:VEVENT
BEGIN:VEVENT
DTSTART;TZID=America/New_York:20191204T090000
DTEND;TZID=America/New_York:20191204T113000
DTSTAMP:20260422T203659
CREATED:20190104T163116Z
LAST-MODIFIED:20190104T163116Z
UID:6334-1575450000-1575459000@www.rockumchurch.com
SUMMARY:GOM - Grumpy Old Men
DESCRIPTION:Our “Grumpy Old Men” meet on Wednesday mornings to maintain the church building\, grounds\, and parsonage.  These dedicated individuals keep our church in working order and set up the signs and banners needed for special occasions. They can always use an extra pair of hands.  Coffee\, snacks\, and fellowship are part of their weekly gatherings.
URL:https://www.rockumchurch.com/event/gom-grumpy-old-men-4-2019-12-04/
LOCATION:Rockville United Methodist Church\, 142 Grove Street\, Rockville\, CT\, 06066\, United States
CATEGORIES:Maintenance,Volunteer Opportunity
ORGANIZER;CN="Don Ross":MAILTO:rumcoffice@sbcglobla.net
END:VEVENT
BEGIN:VEVENT
DTSTART;TZID=America/New_York:20191201T100000
DTEND;TZID=America/New_York:20191201T110000
DTSTAMP:20260422T203659
CREATED:20190104T160546Z
LAST-MODIFIED:20190104T160546Z
UID:6162-1575194400-1575198000@www.rockumchurch.com
SUMMARY:Sunday School
DESCRIPTION:Sunday school begins after the Children’s Message in our worship service.  \nSunday school is free and open to kids 3 years old to High School.  
URL:https://www.rockumchurch.com/event/sunday-school-6-2019-12-01/
LOCATION:Rockville United Methodist Church\, 142 Grove Street\, Rockville\, CT\, 06066\, United States
CATEGORIES:Education,Worship,Youth
ORGANIZER;CN="Linda Shivers":MAILTO:necsvga@aol.com
END:VEVENT
BEGIN:VEVENT
DTSTART;TZID=America/New_York:20191127T090000
DTEND;TZID=America/New_York:20191127T113000
DTSTAMP:20260422T203659
CREATED:20190104T163116Z
LAST-MODIFIED:20190104T163116Z
UID:6333-1574845200-1574854200@www.rockumchurch.com
SUMMARY:GOM - Grumpy Old Men
DESCRIPTION:Our “Grumpy Old Men” meet on Wednesday mornings to maintain the church building\, grounds\, and parsonage.  These dedicated individuals keep our church in working order and set up the signs and banners needed for special occasions. They can always use an extra pair of hands.  Coffee\, snacks\, and fellowship are part of their weekly gatherings.
URL:https://www.rockumchurch.com/event/gom-grumpy-old-men-4-2019-11-27/
LOCATION:Rockville United Methodist Church\, 142 Grove Street\, Rockville\, CT\, 06066\, United States
CATEGORIES:Maintenance,Volunteer Opportunity
ORGANIZER;CN="Don Ross":MAILTO:rumcoffice@sbcglobla.net
END:VEVENT
BEGIN:VEVENT
DTSTART;TZID=America/New_York:20191124T100000
DTEND;TZID=America/New_York:20191124T110000
DTSTAMP:20260422T203659
CREATED:20190104T160546Z
LAST-MODIFIED:20190104T160546Z
UID:6161-1574589600-1574593200@www.rockumchurch.com
SUMMARY:Sunday School
DESCRIPTION:Sunday school begins after the Children’s Message in our worship service.  \nSunday school is free and open to kids 3 years old to High School.  
URL:https://www.rockumchurch.com/event/sunday-school-6-2019-11-24/
LOCATION:Rockville United Methodist Church\, 142 Grove Street\, Rockville\, CT\, 06066\, United States
CATEGORIES:Education,Worship,Youth
ORGANIZER;CN="Linda Shivers":MAILTO:necsvga@aol.com
END:VEVENT
BEGIN:VEVENT
DTSTART;TZID=America/New_York:20191124T093000
DTEND;TZID=America/New_York:20191124T120000
DTSTAMP:20260422T203659
CREATED:20190926T185501Z
LAST-MODIFIED:20190926T185501Z
UID:7162-1574587800-1574596800@www.rockumchurch.com
SUMMARY:Cookies and Cake Rolls Fundraiser Pick-up Available
DESCRIPTION:
URL:https://www.rockumchurch.com/event/cookies-and-cake-rolls-fundraiser-pick-up-available/
LOCATION:Rockville United Methodist Church\, 142 Grove Street\, Rockville\, CT\, 06066\, United States
CATEGORIES:food,Fundraising
ORGANIZER;CN="Diane Lajoie":MAILTO:RockvilleUMC@outlook.com
END:VEVENT
BEGIN:VEVENT
DTSTART;TZID=America/New_York:20191120T090000
DTEND;TZID=America/New_York:20191120T113000
DTSTAMP:20260422T203659
CREATED:20190104T163116Z
LAST-MODIFIED:20190104T163116Z
UID:6332-1574240400-1574249400@www.rockumchurch.com
SUMMARY:GOM - Grumpy Old Men
DESCRIPTION:Our “Grumpy Old Men” meet on Wednesday mornings to maintain the church building\, grounds\, and parsonage.  These dedicated individuals keep our church in working order and set up the signs and banners needed for special occasions. They can always use an extra pair of hands.  Coffee\, snacks\, and fellowship are part of their weekly gatherings.
URL:https://www.rockumchurch.com/event/gom-grumpy-old-men-4-2019-11-20/
LOCATION:Rockville United Methodist Church\, 142 Grove Street\, Rockville\, CT\, 06066\, United States
CATEGORIES:Maintenance,Volunteer Opportunity
ORGANIZER;CN="Don Ross":MAILTO:rumcoffice@sbcglobla.net
END:VEVENT
END:VCALENDAR