BEGIN:VCALENDAR
VERSION:2.0
PRODID:-//Rockville United Methodist Church - ECPv6.15.20//NONSGML v1.0//EN
CALSCALE:GREGORIAN
METHOD:PUBLISH
X-ORIGINAL-URL:https://www.rockumchurch.com
X-WR-CALDESC:Events for Rockville United Methodist Church
REFRESH-INTERVAL;VALUE=DURATION:PT1H
X-Robots-Tag:noindex
X-PUBLISHED-TTL:PT1H
BEGIN:VTIMEZONE
TZID:America/New_York
BEGIN:DAYLIGHT
TZOFFSETFROM:-0500
TZOFFSETTO:-0400
TZNAME:EDT
DTSTART:20180311T070000
END:DAYLIGHT
BEGIN:STANDARD
TZOFFSETFROM:-0400
TZOFFSETTO:-0500
TZNAME:EST
DTSTART:20181104T060000
END:STANDARD
BEGIN:DAYLIGHT
TZOFFSETFROM:-0500
TZOFFSETTO:-0400
TZNAME:EDT
DTSTART:20190310T070000
END:DAYLIGHT
BEGIN:STANDARD
TZOFFSETFROM:-0400
TZOFFSETTO:-0500
TZNAME:EST
DTSTART:20191103T060000
END:STANDARD
BEGIN:DAYLIGHT
TZOFFSETFROM:-0500
TZOFFSETTO:-0400
TZNAME:EDT
DTSTART:20200308T070000
END:DAYLIGHT
BEGIN:STANDARD
TZOFFSETFROM:-0400
TZOFFSETTO:-0500
TZNAME:EST
DTSTART:20201101T060000
END:STANDARD
END:VTIMEZONE
BEGIN:VEVENT
DTSTART;TZID=America/New_York:20190214T190000
DTEND;TZID=America/New_York:20190214T203000
DTSTAMP:20260423T233625
CREATED:20190104T164236Z
LAST-MODIFIED:20190104T164239Z
UID:6399-1550170800-1550176200@www.rockumchurch.com
SUMMARY:Senior Choir
DESCRIPTION:Rehearsals on Thursday nights for Sunday morning service.  New voices are always welcome.  Come worship with us through song.
URL:https://www.rockumchurch.com/event/senior-choir-8-2019-02-14/
LOCATION:Rockville United Methodist Church\, 142 Grove Street\, Rockville\, CT\, 06066\, United States
CATEGORIES:Music,Volunteer Opportunity
END:VEVENT
BEGIN:VEVENT
DTSTART;TZID=America/New_York:20190213T090000
DTEND;TZID=America/New_York:20190213T113000
DTSTAMP:20260423T233625
CREATED:20190104T163116Z
LAST-MODIFIED:20190104T163116Z
UID:6292-1550048400-1550057400@www.rockumchurch.com
SUMMARY:GOM - Grumpy Old Men
DESCRIPTION:Our “Grumpy Old Men” meet on Wednesday mornings to maintain the church building\, grounds\, and parsonage.  These dedicated individuals keep our church in working order and set up the signs and banners needed for special occasions. They can always use an extra pair of hands.  Coffee\, snacks\, and fellowship are part of their weekly gatherings.
URL:https://www.rockumchurch.com/event/gom-grumpy-old-men-4-2019-02-13/
LOCATION:Rockville United Methodist Church\, 142 Grove Street\, Rockville\, CT\, 06066\, United States
CATEGORIES:Maintenance,Volunteer Opportunity
ORGANIZER;CN="Don Ross":MAILTO:rumcoffice@sbcglobla.net
END:VEVENT
BEGIN:VEVENT
DTSTART;TZID=America/New_York:20190210T100000
DTEND;TZID=America/New_York:20190210T110000
DTSTAMP:20260423T233625
CREATED:20190104T160546Z
LAST-MODIFIED:20190104T160554Z
UID:6119-1549792800-1549796400@www.rockumchurch.com
SUMMARY:Sunday School
DESCRIPTION:Sunday school begins after the Children’s Message in our worship service.  \nSunday school is free and open to kids 3 years old to High School.  
URL:https://www.rockumchurch.com/event/sunday-school-6-2019-02-10/
LOCATION:Rockville United Methodist Church\, 142 Grove Street\, Rockville\, CT\, 06066\, United States
CATEGORIES:Education,Worship,Youth
ORGANIZER;CN="Linda Shivers":MAILTO:necsvga@aol.com
END:VEVENT
BEGIN:VEVENT
DTSTART;TZID=America/New_York:20190210T083000
DTEND;TZID=America/New_York:20190210T093000
DTSTAMP:20260423T233625
CREATED:20190104T165837Z
LAST-MODIFIED:20190104T165838Z
UID:6420-1549787400-1549791000@www.rockumchurch.com
SUMMARY:Adult Bible Study
DESCRIPTION:Pastor Cheol will lead an adult winter bible study series. Three times for the classes a week. Sundays at 8:30 am\, Wednesdays at 7 pm\, or Thursdays at 10 am.   
URL:https://www.rockumchurch.com/event/adult-bible-study-2019-02-10/
LOCATION:Rockville United Methodist Church\, 142 Grove Street\, Rockville\, CT\, 06066\, United States
CATEGORIES:Education,Scripture
ORGANIZER;CN="SeokCheol Shin":MAILTO:starcheol@gmail.com
END:VEVENT
BEGIN:VEVENT
DTSTART;TZID=America/New_York:20190210T080000
DTEND;TZID=America/New_York:20190210T093000
DTSTAMP:20260423T233625
CREATED:20190115T174257Z
LAST-MODIFIED:20190115T174257Z
UID:6547-1549785600-1549791000@www.rockumchurch.com
SUMMARY:Valentine's Breakfast
DESCRIPTION:The Men of Rockville United Methodist Church graciously host and serve the Ladies breakfast.  The delicious meal is accompanied by a musical treat provided by the men. \nKeep an eye on the bulletin board for the sign-up sheet.
URL:https://www.rockumchurch.com/event/valentines-breakfast/
LOCATION:Rockville United Methodist Church\, 142 Grove Street\, Rockville\, CT\, 06066\, United States
CATEGORIES:food,Music
ORGANIZER;CN="David Joy":MAILTO:daveinell@gmail.com
END:VEVENT
BEGIN:VEVENT
DTSTART;TZID=America/New_York:20190207T190000
DTEND;TZID=America/New_York:20190207T203000
DTSTAMP:20260423T233625
CREATED:20190104T164236Z
LAST-MODIFIED:20190104T164239Z
UID:6398-1549566000-1549571400@www.rockumchurch.com
SUMMARY:Senior Choir
DESCRIPTION:Rehearsals on Thursday nights for Sunday morning service.  New voices are always welcome.  Come worship with us through song.
URL:https://www.rockumchurch.com/event/senior-choir-8-2019-02-07/
LOCATION:Rockville United Methodist Church\, 142 Grove Street\, Rockville\, CT\, 06066\, United States
CATEGORIES:Music,Volunteer Opportunity
END:VEVENT
BEGIN:VEVENT
DTSTART;TZID=America/New_York:20190207T100000
DTEND;TZID=America/New_York:20190207T110000
DTSTAMP:20260423T233625
CREATED:20190104T170156Z
LAST-MODIFIED:20190104T170156Z
UID:6431-1549533600-1549537200@www.rockumchurch.com
SUMMARY:Adult Bible Study
DESCRIPTION:Pastor Cheol will lead an adult winter bible study series. Three times for the classes a week. Sundays at 8:30 am\, Wednesdays at 7 pm\, or Thursdays at 10 am.
URL:https://www.rockumchurch.com/event/adult-bible-study-2-2019-02-07/
LOCATION:Rockville United Methodist Church\, 142 Grove Street\, Rockville\, CT\, 06066\, United States
CATEGORIES:Education,Scripture
ORGANIZER;CN="SeokCheol Shin":MAILTO:starcheol@gmail.com
END:VEVENT
BEGIN:VEVENT
DTSTART;TZID=America/New_York:20190206T090000
DTEND;TZID=America/New_York:20190206T113000
DTSTAMP:20260423T233625
CREATED:20190104T163116Z
LAST-MODIFIED:20190104T163116Z
UID:6291-1549443600-1549452600@www.rockumchurch.com
SUMMARY:GOM - Grumpy Old Men
DESCRIPTION:Our “Grumpy Old Men” meet on Wednesday mornings to maintain the church building\, grounds\, and parsonage.  These dedicated individuals keep our church in working order and set up the signs and banners needed for special occasions. They can always use an extra pair of hands.  Coffee\, snacks\, and fellowship are part of their weekly gatherings.
URL:https://www.rockumchurch.com/event/gom-grumpy-old-men-4-2019-02-06/
LOCATION:Rockville United Methodist Church\, 142 Grove Street\, Rockville\, CT\, 06066\, United States
CATEGORIES:Maintenance,Volunteer Opportunity
ORGANIZER;CN="Don Ross":MAILTO:rumcoffice@sbcglobla.net
END:VEVENT
BEGIN:VEVENT
DTSTART;TZID=America/New_York:20190203T110000
DTEND;TZID=America/New_York:20190203T120000
DTSTAMP:20260423T233625
CREATED:20190131T222928Z
LAST-MODIFIED:20190131T222928Z
UID:6592-1549191600-1549195200@www.rockumchurch.com
SUMMARY:Trustees
DESCRIPTION:
URL:https://www.rockumchurch.com/event/trustees-5/
LOCATION:Rockville United Methodist Church\, 142 Grove Street\, Rockville\, CT\, 06066\, United States
CATEGORIES:Maintenance,Planning
ORGANIZER;CN="Don Ross":MAILTO:rumcoffice@sbcglobla.net
END:VEVENT
BEGIN:VEVENT
DTSTART;TZID=America/New_York:20190203T100000
DTEND;TZID=America/New_York:20190203T110000
DTSTAMP:20260423T233625
CREATED:20190104T160546Z
LAST-MODIFIED:20190104T160554Z
UID:6118-1549188000-1549191600@www.rockumchurch.com
SUMMARY:Sunday School
DESCRIPTION:Sunday school begins after the Children’s Message in our worship service.  \nSunday school is free and open to kids 3 years old to High School.  
URL:https://www.rockumchurch.com/event/sunday-school-6-2019-02-03/
LOCATION:Rockville United Methodist Church\, 142 Grove Street\, Rockville\, CT\, 06066\, United States
CATEGORIES:Education,Worship,Youth
ORGANIZER;CN="Linda Shivers":MAILTO:necsvga@aol.com
END:VEVENT
BEGIN:VEVENT
DTSTART;TZID=America/New_York:20190203T083000
DTEND;TZID=America/New_York:20190203T093000
DTSTAMP:20260423T233625
CREATED:20190104T165837Z
LAST-MODIFIED:20190104T165838Z
UID:6419-1549182600-1549186200@www.rockumchurch.com
SUMMARY:Adult Bible Study
DESCRIPTION:Pastor Cheol will lead an adult winter bible study series. Three times for the classes a week. Sundays at 8:30 am\, Wednesdays at 7 pm\, or Thursdays at 10 am.   
URL:https://www.rockumchurch.com/event/adult-bible-study-2019-02-03/
LOCATION:Rockville United Methodist Church\, 142 Grove Street\, Rockville\, CT\, 06066\, United States
CATEGORIES:Education,Scripture
ORGANIZER;CN="SeokCheol Shin":MAILTO:starcheol@gmail.com
END:VEVENT
BEGIN:VEVENT
DTSTART;TZID=America/New_York:20190202T190000
DTEND;TZID=America/New_York:20190202T203000
DTSTAMP:20260423T233625
CREATED:20190131T222553Z
LAST-MODIFIED:20190131T222553Z
UID:6584-1549134000-1549139400@www.rockumchurch.com
SUMMARY:Youth Basketball
DESCRIPTION:Bring a snack. \n 
URL:https://www.rockumchurch.com/event/youth-basketball-2/
LOCATION:Wapping Community Church\, 1790 Ellington Road\, South Windsor\, CT\, 06074\, United States
CATEGORIES:Youth
ORGANIZER;CN="Linda Shivers":MAILTO:necsvga@aol.com
END:VEVENT
BEGIN:VEVENT
DTSTART;TZID=America/New_York:20190201T190000
DTEND;TZID=America/New_York:20190202T080000
DTSTAMP:20260423T233625
CREATED:20190115T173943Z
LAST-MODIFIED:20190115T173943Z
UID:6545-1549047600-1549094400@www.rockumchurch.com
SUMMARY:Youth Sleepover
DESCRIPTION:Bring a friend for some fun activities.  We will also put the finishing touch on our Youth Sunday Service. \nGrab your sleeping bag and pillow and bring a breakfast or snack item to share. \n 
URL:https://www.rockumchurch.com/event/youth-sleepover/
LOCATION:Rockville United Methodist Church\, 142 Grove Street\, Rockville\, CT\, 06066\, United States
CATEGORIES:Planning,Youth
ORGANIZER;CN="Linda Shivers":MAILTO:necsvga@aol.com
END:VEVENT
BEGIN:VEVENT
DTSTART;TZID=America/New_York:20190131T190000
DTEND;TZID=America/New_York:20190131T203000
DTSTAMP:20260423T233625
CREATED:20190104T164236Z
LAST-MODIFIED:20190104T164239Z
UID:6397-1548961200-1548966600@www.rockumchurch.com
SUMMARY:Senior Choir
DESCRIPTION:Rehearsals on Thursday nights for Sunday morning service.  New voices are always welcome.  Come worship with us through song.
URL:https://www.rockumchurch.com/event/senior-choir-8-2019-01-31/
LOCATION:Rockville United Methodist Church\, 142 Grove Street\, Rockville\, CT\, 06066\, United States
CATEGORIES:Music,Volunteer Opportunity
END:VEVENT
BEGIN:VEVENT
DTSTART;TZID=America/New_York:20190131T100000
DTEND;TZID=America/New_York:20190131T110000
DTSTAMP:20260423T233625
CREATED:20190104T170156Z
LAST-MODIFIED:20190104T170156Z
UID:6430-1548928800-1548932400@www.rockumchurch.com
SUMMARY:Adult Bible Study
DESCRIPTION:Pastor Cheol will lead an adult winter bible study series. Three times for the classes a week. Sundays at 8:30 am\, Wednesdays at 7 pm\, or Thursdays at 10 am.
URL:https://www.rockumchurch.com/event/adult-bible-study-2-2019-01-31/
LOCATION:Rockville United Methodist Church\, 142 Grove Street\, Rockville\, CT\, 06066\, United States
CATEGORIES:Education,Scripture
ORGANIZER;CN="SeokCheol Shin":MAILTO:starcheol@gmail.com
END:VEVENT
BEGIN:VEVENT
DTSTART;TZID=America/New_York:20190130T090000
DTEND;TZID=America/New_York:20190130T113000
DTSTAMP:20260423T233625
CREATED:20190104T163116Z
LAST-MODIFIED:20190104T163116Z
UID:6290-1548838800-1548847800@www.rockumchurch.com
SUMMARY:GOM - Grumpy Old Men
DESCRIPTION:Our “Grumpy Old Men” meet on Wednesday mornings to maintain the church building\, grounds\, and parsonage.  These dedicated individuals keep our church in working order and set up the signs and banners needed for special occasions. They can always use an extra pair of hands.  Coffee\, snacks\, and fellowship are part of their weekly gatherings.
URL:https://www.rockumchurch.com/event/gom-grumpy-old-men-4-2019-01-30/
LOCATION:Rockville United Methodist Church\, 142 Grove Street\, Rockville\, CT\, 06066\, United States
CATEGORIES:Maintenance,Volunteer Opportunity
ORGANIZER;CN="Don Ross":MAILTO:rumcoffice@sbcglobla.net
END:VEVENT
BEGIN:VEVENT
DTSTART;TZID=America/New_York:20190127T100000
DTEND;TZID=America/New_York:20190127T110000
DTSTAMP:20260423T233625
CREATED:20190104T160546Z
LAST-MODIFIED:20190104T160554Z
UID:6117-1548583200-1548586800@www.rockumchurch.com
SUMMARY:Sunday School
DESCRIPTION:Sunday school begins after the Children’s Message in our worship service.  \nSunday school is free and open to kids 3 years old to High School.  
URL:https://www.rockumchurch.com/event/sunday-school-6-2019-01-27/
LOCATION:Rockville United Methodist Church\, 142 Grove Street\, Rockville\, CT\, 06066\, United States
CATEGORIES:Education,Worship,Youth
ORGANIZER;CN="Linda Shivers":MAILTO:necsvga@aol.com
END:VEVENT
BEGIN:VEVENT
DTSTART;TZID=America/New_York:20190127T083000
DTEND;TZID=America/New_York:20190127T093000
DTSTAMP:20260423T233625
CREATED:20190104T165837Z
LAST-MODIFIED:20190104T165838Z
UID:6418-1548577800-1548581400@www.rockumchurch.com
SUMMARY:Adult Bible Study
DESCRIPTION:Pastor Cheol will lead an adult winter bible study series. Three times for the classes a week. Sundays at 8:30 am\, Wednesdays at 7 pm\, or Thursdays at 10 am.   
URL:https://www.rockumchurch.com/event/adult-bible-study-2019-01-27/
LOCATION:Rockville United Methodist Church\, 142 Grove Street\, Rockville\, CT\, 06066\, United States
CATEGORIES:Education,Scripture
ORGANIZER;CN="SeokCheol Shin":MAILTO:starcheol@gmail.com
END:VEVENT
BEGIN:VEVENT
DTSTART;TZID=America/New_York:20190124T190000
DTEND;TZID=America/New_York:20190124T203000
DTSTAMP:20260423T233625
CREATED:20190104T164236Z
LAST-MODIFIED:20190104T164239Z
UID:6396-1548356400-1548361800@www.rockumchurch.com
SUMMARY:Senior Choir
DESCRIPTION:Rehearsals on Thursday nights for Sunday morning service.  New voices are always welcome.  Come worship with us through song.
URL:https://www.rockumchurch.com/event/senior-choir-8-2019-01-24/
LOCATION:Rockville United Methodist Church\, 142 Grove Street\, Rockville\, CT\, 06066\, United States
CATEGORIES:Music,Volunteer Opportunity
END:VEVENT
BEGIN:VEVENT
DTSTART;TZID=America/New_York:20190124T100000
DTEND;TZID=America/New_York:20190124T110000
DTSTAMP:20260423T233625
CREATED:20190104T170156Z
LAST-MODIFIED:20190104T170156Z
UID:6429-1548324000-1548327600@www.rockumchurch.com
SUMMARY:Adult Bible Study
DESCRIPTION:Pastor Cheol will lead an adult winter bible study series. Three times for the classes a week. Sundays at 8:30 am\, Wednesdays at 7 pm\, or Thursdays at 10 am.
URL:https://www.rockumchurch.com/event/adult-bible-study-2-2019-01-24/
LOCATION:Rockville United Methodist Church\, 142 Grove Street\, Rockville\, CT\, 06066\, United States
CATEGORIES:Education,Scripture
ORGANIZER;CN="SeokCheol Shin":MAILTO:starcheol@gmail.com
END:VEVENT
BEGIN:VEVENT
DTSTART;TZID=America/New_York:20190123T090000
DTEND;TZID=America/New_York:20190123T113000
DTSTAMP:20260423T233625
CREATED:20190104T163116Z
LAST-MODIFIED:20190104T163116Z
UID:6289-1548234000-1548243000@www.rockumchurch.com
SUMMARY:GOM - Grumpy Old Men
DESCRIPTION:Our “Grumpy Old Men” meet on Wednesday mornings to maintain the church building\, grounds\, and parsonage.  These dedicated individuals keep our church in working order and set up the signs and banners needed for special occasions. They can always use an extra pair of hands.  Coffee\, snacks\, and fellowship are part of their weekly gatherings.
URL:https://www.rockumchurch.com/event/gom-grumpy-old-men-4-2019-01-23/
LOCATION:Rockville United Methodist Church\, 142 Grove Street\, Rockville\, CT\, 06066\, United States
CATEGORIES:Maintenance,Volunteer Opportunity
ORGANIZER;CN="Don Ross":MAILTO:rumcoffice@sbcglobla.net
END:VEVENT
BEGIN:VEVENT
DTSTART;TZID=America/New_York:20190120T100000
DTEND;TZID=America/New_York:20190120T110000
DTSTAMP:20260423T233625
CREATED:20190104T160546Z
LAST-MODIFIED:20190104T160554Z
UID:6116-1547978400-1547982000@www.rockumchurch.com
SUMMARY:Sunday School
DESCRIPTION:Sunday school begins after the Children’s Message in our worship service.  \nSunday school is free and open to kids 3 years old to High School.  
URL:https://www.rockumchurch.com/event/sunday-school-6-2019-01-20/
LOCATION:Rockville United Methodist Church\, 142 Grove Street\, Rockville\, CT\, 06066\, United States
CATEGORIES:Education,Worship,Youth
ORGANIZER;CN="Linda Shivers":MAILTO:necsvga@aol.com
END:VEVENT
BEGIN:VEVENT
DTSTART;TZID=America/New_York:20190120T083000
DTEND;TZID=America/New_York:20190120T093000
DTSTAMP:20260423T233625
CREATED:20190104T165837Z
LAST-MODIFIED:20190104T165838Z
UID:6417-1547973000-1547976600@www.rockumchurch.com
SUMMARY:Adult Bible Study
DESCRIPTION:Pastor Cheol will lead an adult winter bible study series. Three times for the classes a week. Sundays at 8:30 am\, Wednesdays at 7 pm\, or Thursdays at 10 am.   
URL:https://www.rockumchurch.com/event/adult-bible-study-2019-01-20/
LOCATION:Rockville United Methodist Church\, 142 Grove Street\, Rockville\, CT\, 06066\, United States
CATEGORIES:Education,Scripture
ORGANIZER;CN="SeokCheol Shin":MAILTO:starcheol@gmail.com
END:VEVENT
BEGIN:VEVENT
DTSTART;TZID=America/New_York:20190118T180000
DTEND;TZID=America/New_York:20190118T203000
DTSTAMP:20260423T233625
CREATED:20190104T171053Z
LAST-MODIFIED:20190104T171053Z
UID:6437-1547834400-1547843400@www.rockumchurch.com
SUMMARY:Youth Group Meeting
DESCRIPTION:
URL:https://www.rockumchurch.com/event/youth-group-meeting/
LOCATION:Rockville United Methodist Church\, 142 Grove Street\, Rockville\, CT\, 06066\, United States
CATEGORIES:Planning,Youth
ORGANIZER;CN="Linda Shivers":MAILTO:necsvga@aol.com
END:VEVENT
BEGIN:VEVENT
DTSTART;TZID=America/New_York:20190117T190000
DTEND;TZID=America/New_York:20190117T203000
DTSTAMP:20260423T233625
CREATED:20190104T164236Z
LAST-MODIFIED:20190104T164237Z
UID:6395-1547751600-1547757000@www.rockumchurch.com
SUMMARY:Senior Choir
DESCRIPTION:Rehearsals on Thursday nights for Sunday morning service.  New voices are always welcome.  Come worship with us through song.
URL:https://www.rockumchurch.com/event/senior-choir-8-2019-01-17/
LOCATION:Rockville United Methodist Church\, 142 Grove Street\, Rockville\, CT\, 06066\, United States
CATEGORIES:Music,Volunteer Opportunity
END:VEVENT
BEGIN:VEVENT
DTSTART;TZID=America/New_York:20190117T100000
DTEND;TZID=America/New_York:20190117T110000
DTSTAMP:20260423T233625
CREATED:20190104T170156Z
LAST-MODIFIED:20190104T170156Z
UID:6427-1547719200-1547722800@www.rockumchurch.com
SUMMARY:Adult Bible Study
DESCRIPTION:Pastor Cheol will lead an adult winter bible study series. Three times for the classes a week. Sundays at 8:30 am\, Wednesdays at 7 pm\, or Thursdays at 10 am.
URL:https://www.rockumchurch.com/event/adult-bible-study-2/
LOCATION:Rockville United Methodist Church\, 142 Grove Street\, Rockville\, CT\, 06066\, United States
CATEGORIES:Education,Scripture
ORGANIZER;CN="SeokCheol Shin":MAILTO:starcheol@gmail.com
END:VEVENT
BEGIN:VEVENT
DTSTART;TZID=America/New_York:20190116T090000
DTEND;TZID=America/New_York:20190116T113000
DTSTAMP:20260423T233625
CREATED:20190104T163116Z
LAST-MODIFIED:20190104T163116Z
UID:6288-1547629200-1547638200@www.rockumchurch.com
SUMMARY:GOM - Grumpy Old Men
DESCRIPTION:Our “Grumpy Old Men” meet on Wednesday mornings to maintain the church building\, grounds\, and parsonage.  These dedicated individuals keep our church in working order and set up the signs and banners needed for special occasions. They can always use an extra pair of hands.  Coffee\, snacks\, and fellowship are part of their weekly gatherings.
URL:https://www.rockumchurch.com/event/gom-grumpy-old-men-4-2019-01-16/
LOCATION:Rockville United Methodist Church\, 142 Grove Street\, Rockville\, CT\, 06066\, United States
CATEGORIES:Maintenance,Volunteer Opportunity
ORGANIZER;CN="Don Ross":MAILTO:rumcoffice@sbcglobla.net
END:VEVENT
BEGIN:VEVENT
DTSTART;TZID=America/New_York:20190113T113000
DTEND;TZID=America/New_York:20190113T130000
DTSTAMP:20260423T233625
CREATED:20190104T171431Z
LAST-MODIFIED:20190104T171842Z
UID:6441-1547379000-1547384400@www.rockumchurch.com
SUMMARY:UMW Breakfast Meeting
DESCRIPTION:Rockville Untied Methodist Women will meet for breakfast at Mitchell’s Restaurant.  Meeting agenda will be covered during the meal.
URL:https://www.rockumchurch.com/event/umw-breakfast-meeting/
LOCATION:Mitchell’s\, 1237 Hartford Tpke\, Vernon\, CT\, 06066\, United States
CATEGORIES:food,Planning
ORGANIZER;CN="Judie Culy":MAILTO:judie.culy@gmail.com
END:VEVENT
BEGIN:VEVENT
DTSTART;TZID=America/New_York:20190113T100000
DTEND;TZID=America/New_York:20190113T110000
DTSTAMP:20260423T233625
CREATED:20190104T160546Z
LAST-MODIFIED:20190104T160553Z
UID:6115-1547373600-1547377200@www.rockumchurch.com
SUMMARY:Sunday School
DESCRIPTION:Sunday school begins after the Children’s Message in our worship service.  \nSunday school is free and open to kids 3 years old to High School.  
URL:https://www.rockumchurch.com/event/sunday-school-6-2019-01-13/
LOCATION:Rockville United Methodist Church\, 142 Grove Street\, Rockville\, CT\, 06066\, United States
CATEGORIES:Education,Worship,Youth
ORGANIZER;CN="Linda Shivers":MAILTO:necsvga@aol.com
END:VEVENT
BEGIN:VEVENT
DTSTART;TZID=America/New_York:20190113T083000
DTEND;TZID=America/New_York:20190113T093000
DTSTAMP:20260423T233625
CREATED:20190104T165837Z
LAST-MODIFIED:20190104T165838Z
UID:6413-1547368200-1547371800@www.rockumchurch.com
SUMMARY:Adult Bible Study
DESCRIPTION:Pastor Cheol will lead an adult winter bible study series. Three times for the classes a week. Sundays at 8:30 am\, Wednesdays at 7 pm\, or Thursdays at 10 am.   
URL:https://www.rockumchurch.com/event/adult-bible-study/
LOCATION:Rockville United Methodist Church\, 142 Grove Street\, Rockville\, CT\, 06066\, United States
CATEGORIES:Education,Scripture
ORGANIZER;CN="SeokCheol Shin":MAILTO:starcheol@gmail.com
END:VEVENT
END:VCALENDAR