BEGIN:VCALENDAR
VERSION:2.0
PRODID:-//Rockville United Methodist Church - ECPv6.15.20//NONSGML v1.0//EN
CALSCALE:GREGORIAN
METHOD:PUBLISH
X-WR-CALNAME:Rockville United Methodist Church
X-ORIGINAL-URL:https://www.rockumchurch.com
X-WR-CALDESC:Events for Rockville United Methodist Church
REFRESH-INTERVAL;VALUE=DURATION:PT1H
X-Robots-Tag:noindex
X-PUBLISHED-TTL:PT1H
BEGIN:VTIMEZONE
TZID:America/New_York
BEGIN:DAYLIGHT
TZOFFSETFROM:-0500
TZOFFSETTO:-0400
TZNAME:EDT
DTSTART:20180311T070000
END:DAYLIGHT
BEGIN:STANDARD
TZOFFSETFROM:-0400
TZOFFSETTO:-0500
TZNAME:EST
DTSTART:20181104T060000
END:STANDARD
BEGIN:DAYLIGHT
TZOFFSETFROM:-0500
TZOFFSETTO:-0400
TZNAME:EDT
DTSTART:20190310T070000
END:DAYLIGHT
BEGIN:STANDARD
TZOFFSETFROM:-0400
TZOFFSETTO:-0500
TZNAME:EST
DTSTART:20191103T060000
END:STANDARD
BEGIN:DAYLIGHT
TZOFFSETFROM:-0500
TZOFFSETTO:-0400
TZNAME:EDT
DTSTART:20200308T070000
END:DAYLIGHT
BEGIN:STANDARD
TZOFFSETFROM:-0400
TZOFFSETTO:-0500
TZNAME:EST
DTSTART:20201101T060000
END:STANDARD
END:VTIMEZONE
BEGIN:VEVENT
DTSTART;TZID=America/New_York:20190508T090000
DTEND;TZID=America/New_York:20190508T113000
DTSTAMP:20260423T132224
CREATED:20190104T163116Z
LAST-MODIFIED:20190104T163116Z
UID:6304-1557306000-1557315000@www.rockumchurch.com
SUMMARY:GOM - Grumpy Old Men
DESCRIPTION:Our “Grumpy Old Men” meet on Wednesday mornings to maintain the church building\, grounds\, and parsonage.  These dedicated individuals keep our church in working order and set up the signs and banners needed for special occasions. They can always use an extra pair of hands.  Coffee\, snacks\, and fellowship are part of their weekly gatherings.
URL:https://www.rockumchurch.com/event/gom-grumpy-old-men-4-2019-05-08/
LOCATION:Rockville United Methodist Church\, 142 Grove Street\, Rockville\, CT\, 06066\, United States
CATEGORIES:Maintenance,Volunteer Opportunity
ORGANIZER;CN="Don Ross":MAILTO:rumcoffice@sbcglobla.net
END:VEVENT
BEGIN:VEVENT
DTSTART;TZID=America/New_York:20190505T100000
DTEND;TZID=America/New_York:20190505T110000
DTSTAMP:20260423T132224
CREATED:20190104T160546Z
LAST-MODIFIED:20190104T160546Z
UID:6132-1557050400-1557054000@www.rockumchurch.com
SUMMARY:Sunday School
DESCRIPTION:Sunday school begins after the Children’s Message in our worship service.  \nSunday school is free and open to kids 3 years old to High School.  
URL:https://www.rockumchurch.com/event/sunday-school-6-2019-05-05/
LOCATION:Rockville United Methodist Church\, 142 Grove Street\, Rockville\, CT\, 06066\, United States
CATEGORIES:Education,Worship,Youth
ORGANIZER;CN="Linda Shivers":MAILTO:necsvga@aol.com
END:VEVENT
BEGIN:VEVENT
DTSTART;TZID=America/New_York:20190501T090000
DTEND;TZID=America/New_York:20190501T113000
DTSTAMP:20260423T132224
CREATED:20190104T163116Z
LAST-MODIFIED:20190104T163116Z
UID:6303-1556701200-1556710200@www.rockumchurch.com
SUMMARY:GOM - Grumpy Old Men
DESCRIPTION:Our “Grumpy Old Men” meet on Wednesday mornings to maintain the church building\, grounds\, and parsonage.  These dedicated individuals keep our church in working order and set up the signs and banners needed for special occasions. They can always use an extra pair of hands.  Coffee\, snacks\, and fellowship are part of their weekly gatherings.
URL:https://www.rockumchurch.com/event/gom-grumpy-old-men-4-2019-05-01/
LOCATION:Rockville United Methodist Church\, 142 Grove Street\, Rockville\, CT\, 06066\, United States
CATEGORIES:Maintenance,Volunteer Opportunity
ORGANIZER;CN="Don Ross":MAILTO:rumcoffice@sbcglobla.net
END:VEVENT
BEGIN:VEVENT
DTSTART;TZID=America/New_York:20190428T113000
DTEND;TZID=America/New_York:20190428T130000
DTSTAMP:20260423T132224
CREATED:20190405T212117Z
LAST-MODIFIED:20190405T212117Z
UID:6800-1556451000-1556456400@www.rockumchurch.com
SUMMARY:All Congregation Meeting
DESCRIPTION:Share Your Opinion! \nThere will be an All Congregation Meeting on Sunday\, April 28\, 2019 at 11:30 AM. Please plan to attend. It is vital that everyone express his or her opinion. regarding the recent Special Session of the General Conference decisions. I know that there are diverse opinions in our congregation and it is important that all be heard. I especially invite our youth to share thoughts\, feelings\, and opinions with us – you are the future of the church. Based on these kinds of meetings and sharing of information\, a direction for our church will be established. ~Sue Lessoff\, Church Council Chairperson
URL:https://www.rockumchurch.com/event/all-congregation-meeting/
LOCATION:Rockville United Methodist Church\, 142 Grove Street\, Rockville\, CT\, 06066\, United States
CATEGORIES:RUMC Events
ORGANIZER;CN="Sue Lessoff":MAILTO:lessst#snet.net
END:VEVENT
BEGIN:VEVENT
DTSTART;TZID=America/New_York:20190428T100000
DTEND;TZID=America/New_York:20190428T110000
DTSTAMP:20260423T132224
CREATED:20190104T160546Z
LAST-MODIFIED:20190104T160546Z
UID:6131-1556445600-1556449200@www.rockumchurch.com
SUMMARY:Sunday School
DESCRIPTION:Sunday school begins after the Children’s Message in our worship service.  \nSunday school is free and open to kids 3 years old to High School.  
URL:https://www.rockumchurch.com/event/sunday-school-6-2019-04-28/
LOCATION:Rockville United Methodist Church\, 142 Grove Street\, Rockville\, CT\, 06066\, United States
CATEGORIES:Education,Worship,Youth
ORGANIZER;CN="Linda Shivers":MAILTO:necsvga@aol.com
END:VEVENT
BEGIN:VEVENT
DTSTART;TZID=America/New_York:20190426T190000
DTEND;TZID=America/New_York:20190427T080000
DTSTAMP:20260423T132224
CREATED:20190405T210842Z
LAST-MODIFIED:20190405T210842Z
UID:6783-1556305200-1556352000@www.rockumchurch.com
SUMMARY:Youth Sleepover
DESCRIPTION:Youth Sleepover \nDrop off 4/26/2019 7 pm \nPick up 4/27/2019 8 am \n \n 
URL:https://www.rockumchurch.com/event/youth-sleepover-2/
LOCATION:Rockville United Methodist Church\, 142 Grove Street\, Rockville\, CT\, 06066\, United States
CATEGORIES:Youth
ORGANIZER;CN="Linda Shivers":MAILTO:necsvga@aol.com
END:VEVENT
BEGIN:VEVENT
DTSTART;TZID=America/New_York:20190424T090000
DTEND;TZID=America/New_York:20190424T113000
DTSTAMP:20260423T132224
CREATED:20190104T163116Z
LAST-MODIFIED:20190104T163116Z
UID:6302-1556096400-1556105400@www.rockumchurch.com
SUMMARY:GOM - Grumpy Old Men
DESCRIPTION:Our “Grumpy Old Men” meet on Wednesday mornings to maintain the church building\, grounds\, and parsonage.  These dedicated individuals keep our church in working order and set up the signs and banners needed for special occasions. They can always use an extra pair of hands.  Coffee\, snacks\, and fellowship are part of their weekly gatherings.
URL:https://www.rockumchurch.com/event/gom-grumpy-old-men-4-2019-04-24/
LOCATION:Rockville United Methodist Church\, 142 Grove Street\, Rockville\, CT\, 06066\, United States
CATEGORIES:Maintenance,Volunteer Opportunity
ORGANIZER;CN="Don Ross":MAILTO:rumcoffice@sbcglobla.net
END:VEVENT
BEGIN:VEVENT
DTSTART;TZID=America/New_York:20190421T100000
DTEND;TZID=America/New_York:20190421T110000
DTSTAMP:20260423T132224
CREATED:20190104T160546Z
LAST-MODIFIED:20190104T160546Z
UID:6130-1555840800-1555844400@www.rockumchurch.com
SUMMARY:Sunday School
DESCRIPTION:Sunday school begins after the Children’s Message in our worship service.  \nSunday school is free and open to kids 3 years old to High School.  
URL:https://www.rockumchurch.com/event/sunday-school-6-2019-04-21/
LOCATION:Rockville United Methodist Church\, 142 Grove Street\, Rockville\, CT\, 06066\, United States
CATEGORIES:Education,Worship,Youth
ORGANIZER;CN="Linda Shivers":MAILTO:necsvga@aol.com
END:VEVENT
BEGIN:VEVENT
DTSTART;TZID=America/New_York:20190417T090000
DTEND;TZID=America/New_York:20190417T113000
DTSTAMP:20260423T132224
CREATED:20190104T163116Z
LAST-MODIFIED:20190104T163116Z
UID:6301-1555491600-1555500600@www.rockumchurch.com
SUMMARY:GOM - Grumpy Old Men
DESCRIPTION:Our “Grumpy Old Men” meet on Wednesday mornings to maintain the church building\, grounds\, and parsonage.  These dedicated individuals keep our church in working order and set up the signs and banners needed for special occasions. They can always use an extra pair of hands.  Coffee\, snacks\, and fellowship are part of their weekly gatherings.
URL:https://www.rockumchurch.com/event/gom-grumpy-old-men-4-2019-04-17/
LOCATION:Rockville United Methodist Church\, 142 Grove Street\, Rockville\, CT\, 06066\, United States
CATEGORIES:Maintenance,Volunteer Opportunity
ORGANIZER;CN="Don Ross":MAILTO:rumcoffice@sbcglobla.net
END:VEVENT
BEGIN:VEVENT
DTSTART;TZID=America/New_York:20190414T113000
DTEND;TZID=America/New_York:20190414T120000
DTSTAMP:20260423T132224
CREATED:20190405T211239Z
LAST-MODIFIED:20190405T211239Z
UID:6789-1555241400-1555243200@www.rockumchurch.com
SUMMARY:Easter Egg Hunt
DESCRIPTION:
URL:https://www.rockumchurch.com/event/easter-egg-hunt/
LOCATION:Rockville United Methodist Church\, 142 Grove Street\, Rockville\, CT\, 06066\, United States
CATEGORIES:Youth
ORGANIZER;CN="Linda Shivers":MAILTO:necsvga@aol.com
END:VEVENT
BEGIN:VEVENT
DTSTART;TZID=America/New_York:20190414T100000
DTEND;TZID=America/New_York:20190414T110000
DTSTAMP:20260423T132224
CREATED:20190104T160546Z
LAST-MODIFIED:20190104T160546Z
UID:6129-1555236000-1555239600@www.rockumchurch.com
SUMMARY:Sunday School
DESCRIPTION:Sunday school begins after the Children’s Message in our worship service.  \nSunday school is free and open to kids 3 years old to High School.  
URL:https://www.rockumchurch.com/event/sunday-school-6-2019-04-14/
LOCATION:Rockville United Methodist Church\, 142 Grove Street\, Rockville\, CT\, 06066\, United States
CATEGORIES:Education,Worship,Youth
ORGANIZER;CN="Linda Shivers":MAILTO:necsvga@aol.com
END:VEVENT
BEGIN:VEVENT
DTSTART;TZID=America/New_York:20190414T070000
DTEND;TZID=America/New_York:20190414T090000
DTSTAMP:20260423T132224
CREATED:20190320T183043Z
LAST-MODIFIED:20190320T183043Z
UID:6749-1555225200-1555232400@www.rockumchurch.com
SUMMARY:Men's Palm Sunday Service and Breakfast
DESCRIPTION:Men’s Palm Sunday Service and Breakfast\nApril 14\, 2019\n7 am\nat Rockville Untied Methodist Church\n$5 per person\nPastor David Martin will lead the communion service. \nThe Women of RUMC will cook and serve the breakfast.\nHosted by Rockville UMC\, Manchester UMC\, and Bolton UMC \nPlease call or email your reservation:|\n860-875-6562 or RockvilleUMC@outlook.com \n \n 
URL:https://www.rockumchurch.com/event/mens-palm-sunday-service-and-breakfast/
LOCATION:Rockville United Methodist Church\, 142 Grove Street\, Rockville\, CT\, 06066\, United States
CATEGORIES:Community Events,food,RUMC Events,Scripture,Worship
ORGANIZER;CN="Steve Yoder":MAILTO:scsjyoder@aol.com
END:VEVENT
BEGIN:VEVENT
DTSTART;TZID=America/New_York:20190410T190000
DTEND;TZID=America/New_York:20190410T203000
DTSTAMP:20260423T132224
CREATED:20190312T181541Z
LAST-MODIFIED:20190312T193528Z
UID:6681-1554922800-1554928200@www.rockumchurch.com
SUMMARY:Lenten Bible Study
DESCRIPTION:Lenten Bible Study: Wednesday at 7 pm from March 13\, 2019 to April 10\, 2019. A chance to discuss and dive deeper into the meaning and significance of the lectionary readings. Led by Stan Culy and Pastor Cheol.
URL:https://www.rockumchurch.com/event/lenten-bible-study-5/
LOCATION:Rockville United Methodist Church\, 142 Grove Street\, Rockville\, CT\, 06066\, United States
CATEGORIES:Community Events,Scripture
ORGANIZER;CN="Pastor Cheol":MAILTO:starcheol@gmail.com
END:VEVENT
BEGIN:VEVENT
DTSTART;TZID=America/New_York:20190410T090000
DTEND;TZID=America/New_York:20190410T113000
DTSTAMP:20260423T132224
CREATED:20190104T163116Z
LAST-MODIFIED:20190104T163116Z
UID:6300-1554886800-1554895800@www.rockumchurch.com
SUMMARY:GOM - Grumpy Old Men
DESCRIPTION:Our “Grumpy Old Men” meet on Wednesday mornings to maintain the church building\, grounds\, and parsonage.  These dedicated individuals keep our church in working order and set up the signs and banners needed for special occasions. They can always use an extra pair of hands.  Coffee\, snacks\, and fellowship are part of their weekly gatherings.
URL:https://www.rockumchurch.com/event/gom-grumpy-old-men-4-2019-04-10/
LOCATION:Rockville United Methodist Church\, 142 Grove Street\, Rockville\, CT\, 06066\, United States
CATEGORIES:Maintenance,Volunteer Opportunity
ORGANIZER;CN="Don Ross":MAILTO:rumcoffice@sbcglobla.net
END:VEVENT
BEGIN:VEVENT
DTSTART;TZID=America/New_York:20190407T100000
DTEND;TZID=America/New_York:20190407T110000
DTSTAMP:20260423T132224
CREATED:20190104T160546Z
LAST-MODIFIED:20190104T160546Z
UID:6128-1554631200-1554634800@www.rockumchurch.com
SUMMARY:Sunday School
DESCRIPTION:Sunday school begins after the Children’s Message in our worship service.  \nSunday school is free and open to kids 3 years old to High School.  
URL:https://www.rockumchurch.com/event/sunday-school-6-2019-04-07/
LOCATION:Rockville United Methodist Church\, 142 Grove Street\, Rockville\, CT\, 06066\, United States
CATEGORIES:Education,Worship,Youth
ORGANIZER;CN="Linda Shivers":MAILTO:necsvga@aol.com
END:VEVENT
BEGIN:VEVENT
DTSTART;TZID=America/New_York:20190403T190000
DTEND;TZID=America/New_York:20190403T203000
DTSTAMP:20260423T132224
CREATED:20190312T181450Z
LAST-MODIFIED:20190312T193459Z
UID:6679-1554318000-1554323400@www.rockumchurch.com
SUMMARY:Lenten Bible Study
DESCRIPTION:Lenten Bible Study: Wednesday at 7 pm from March 13\, 2019 to April 10\, 2019. A chance to discuss and dive deeper into the meaning and significance of the lectionary readings. Led by Stan Culy and Pastor Cheol.
URL:https://www.rockumchurch.com/event/lenten-bible-study-4/
LOCATION:Rockville United Methodist Church\, 142 Grove Street\, Rockville\, CT\, 06066\, United States
CATEGORIES:Community Events,Scripture
ORGANIZER;CN="Pastor Cheol":MAILTO:starcheol@gmail.com
END:VEVENT
BEGIN:VEVENT
DTSTART;TZID=America/New_York:20190403T090000
DTEND;TZID=America/New_York:20190403T113000
DTSTAMP:20260423T132224
CREATED:20190104T163116Z
LAST-MODIFIED:20190104T163116Z
UID:6299-1554282000-1554291000@www.rockumchurch.com
SUMMARY:GOM - Grumpy Old Men
DESCRIPTION:Our “Grumpy Old Men” meet on Wednesday mornings to maintain the church building\, grounds\, and parsonage.  These dedicated individuals keep our church in working order and set up the signs and banners needed for special occasions. They can always use an extra pair of hands.  Coffee\, snacks\, and fellowship are part of their weekly gatherings.
URL:https://www.rockumchurch.com/event/gom-grumpy-old-men-4-2019-04-03/
LOCATION:Rockville United Methodist Church\, 142 Grove Street\, Rockville\, CT\, 06066\, United States
CATEGORIES:Maintenance,Volunteer Opportunity
ORGANIZER;CN="Don Ross":MAILTO:rumcoffice@sbcglobla.net
END:VEVENT
BEGIN:VEVENT
DTSTART;TZID=America/New_York:20190331T100000
DTEND;TZID=America/New_York:20190331T110000
DTSTAMP:20260423T132224
CREATED:20190104T160546Z
LAST-MODIFIED:20190104T160546Z
UID:6127-1554026400-1554030000@www.rockumchurch.com
SUMMARY:Sunday School
DESCRIPTION:Sunday school begins after the Children’s Message in our worship service.  \nSunday school is free and open to kids 3 years old to High School.  
URL:https://www.rockumchurch.com/event/sunday-school-6-2019-03-31/
LOCATION:Rockville United Methodist Church\, 142 Grove Street\, Rockville\, CT\, 06066\, United States
CATEGORIES:Education,Worship,Youth
ORGANIZER;CN="Linda Shivers":MAILTO:necsvga@aol.com
END:VEVENT
BEGIN:VEVENT
DTSTART;VALUE=DATE:20190331
DTEND;VALUE=DATE:20190401
DTSTAMP:20260423T132224
CREATED:20190312T180712Z
LAST-MODIFIED:20190312T190620Z
UID:6671-1553990400-1554076799@www.rockumchurch.com
SUMMARY:Braided Bread Fundraiser
DESCRIPTION:Last Day to Order! \nBraided Bread Fundraiser\nMarch 3\, 2109 to March 31\, 2019\n$13 each \nWe will get them in time for Easter Sunday Brunch. \n\nCinnamon\nCream Cheese\nApple\nRaspberry\nStrawberry Cream Cheese\nCinnamon Rolls\nCaramel Rolls\nItalian Herb Bread\n\nOrder forms are available. Ask your friends if they would like to purchase some pastries. Return the order form and money by March 31\, 2019. The pastries will be available for pick-up beginning on April 9\, 2019. \n \n       \n  \n 
URL:https://www.rockumchurch.com/event/braided-bread-fundraiser-6/
LOCATION:Rockville United Methodist Church\, 142 Grove Street\, Rockville\, CT\, 06066\, United States
CATEGORIES:food,Fundraising
ORGANIZER;CN="Diane Lajoie":MAILTO:RockvilleUMC@outlook.com
END:VEVENT
BEGIN:VEVENT
DTSTART;VALUE=DATE:20190330
DTEND;VALUE=DATE:20190331
DTSTAMP:20260423T132224
CREATED:20190312T183331Z
LAST-MODIFIED:20190312T190656Z
UID:6694-1553904000-1553990399@www.rockumchurch.com
SUMMARY:Braided Bread Fundraiser
DESCRIPTION:Braided Bread Fundraiser\nMarch 3\, 2109 to March 31\, 2019\n$13 each \nWe will get them in time for Easter Sunday Brunch. \n\nCinnamon\nCream Cheese\nApple\nRaspberry\nStrawberry Cream Cheese\nCinnamon Rolls\nCaramel Rolls\nItalian Herb Bread\n\nOrder forms are available. Ask your friends if they would like to purchase some pastries. Return the order form and money by March 31\, 2019. The pastries will be available for pick-up beginning on April 9\, 2019. \n \n       \n 
URL:https://www.rockumchurch.com/event/braided-bread-fundraiser-7/
LOCATION:Rockville United Methodist Church\, 142 Grove Street\, Rockville\, CT\, 06066\, United States
CATEGORIES:food,Fundraising
ORGANIZER;CN="Diane Lajoie":MAILTO:RockvilleUMC@outlook.com
END:VEVENT
BEGIN:VEVENT
DTSTART;VALUE=DATE:20190329
DTEND;VALUE=DATE:20190330
DTSTAMP:20260423T132224
CREATED:20190312T183442Z
LAST-MODIFIED:20190312T190732Z
UID:6696-1553817600-1553903999@www.rockumchurch.com
SUMMARY:Braided Bread Fundraiser
DESCRIPTION:Braided Bread Fundraiser\nMarch 3\, 2109 to March 31\, 2019\n$13 each \nWe will get them in time for Easter Sunday Brunch. \n\nCinnamon\nCream Cheese\nApple\nRaspberry\nStrawberry Cream Cheese\nCinnamon Rolls\nCaramel Rolls\nItalian Herb Bread\n\nOrder forms are available. Ask your friends if they would like to purchase some pastries. Return the order form and money by March 31\, 2019. The pastries will be available for pick-up beginning on April 9\, 2019. \n \n       \n 
URL:https://www.rockumchurch.com/event/braided-bread-fundraiser-8/
LOCATION:Rockville United Methodist Church\, 142 Grove Street\, Rockville\, CT\, 06066\, United States
CATEGORIES:food,Fundraising
ORGANIZER;CN="Diane Lajoie":MAILTO:RockvilleUMC@outlook.com
END:VEVENT
BEGIN:VEVENT
DTSTART;VALUE=DATE:20190328
DTEND;VALUE=DATE:20190329
DTSTAMP:20260423T132224
CREATED:20190312T183941Z
LAST-MODIFIED:20190312T190802Z
UID:6702-1553731200-1553817599@www.rockumchurch.com
SUMMARY:Braided Bread Fundraiser
DESCRIPTION:Braided Bread Fundraiser\nMarch 3\, 2109 to March 31\, 2019\n$13 each \nWe will get them in time for Easter Sunday Brunch. \n\nCinnamon\nCream Cheese\nApple\nRaspberry\nStrawberry Cream Cheese\nCinnamon Rolls\nCaramel Rolls\nItalian Herb Bread\n\nOrder forms are available. Ask your friends if they would like to purchase some pastries. Return the order form and money by March 31\, 2019. The pastries will be available for pick-up beginning on April 9\, 2019. \n \n       \n 
URL:https://www.rockumchurch.com/event/braided-bread-fundraiser-11/
LOCATION:Rockville United Methodist Church\, 142 Grove Street\, Rockville\, CT\, 06066\, United States
CATEGORIES:food,Fundraising
ORGANIZER;CN="Diane Lajoie":MAILTO:RockvilleUMC@outlook.com
END:VEVENT
BEGIN:VEVENT
DTSTART;TZID=America/New_York:20190327T190000
DTEND;TZID=America/New_York:20190327T203000
DTSTAMP:20260423T132224
CREATED:20190312T181334Z
LAST-MODIFIED:20190312T193437Z
UID:6677-1553713200-1553718600@www.rockumchurch.com
SUMMARY:Lenten Bible Study
DESCRIPTION:Lenten Bible Study: Wednesday at 7 pm from March 13\, 2019 to April 10\, 2019. A chance to discuss and dive deeper into the meaning and significance of the lectionary readings. Led by Stan Culy and Pastor Cheol.
URL:https://www.rockumchurch.com/event/lenten-bible-study-3/
LOCATION:Rockville United Methodist Church\, 142 Grove Street\, Rockville\, CT\, 06066\, United States
CATEGORIES:Community Events,Scripture
ORGANIZER;CN="Pastor Cheol":MAILTO:starcheol@gmail.com
END:VEVENT
BEGIN:VEVENT
DTSTART;TZID=America/New_York:20190327T090000
DTEND;TZID=America/New_York:20190327T113000
DTSTAMP:20260423T132224
CREATED:20190104T163116Z
LAST-MODIFIED:20190104T163116Z
UID:6298-1553677200-1553686200@www.rockumchurch.com
SUMMARY:GOM - Grumpy Old Men
DESCRIPTION:Our “Grumpy Old Men” meet on Wednesday mornings to maintain the church building\, grounds\, and parsonage.  These dedicated individuals keep our church in working order and set up the signs and banners needed for special occasions. They can always use an extra pair of hands.  Coffee\, snacks\, and fellowship are part of their weekly gatherings.
URL:https://www.rockumchurch.com/event/gom-grumpy-old-men-4-2019-03-27/
LOCATION:Rockville United Methodist Church\, 142 Grove Street\, Rockville\, CT\, 06066\, United States
CATEGORIES:Maintenance,Volunteer Opportunity
ORGANIZER;CN="Don Ross":MAILTO:rumcoffice@sbcglobla.net
END:VEVENT
BEGIN:VEVENT
DTSTART;VALUE=DATE:20190327
DTEND;VALUE=DATE:20190328
DTSTAMP:20260423T132224
CREATED:20190312T183540Z
LAST-MODIFIED:20190312T190837Z
UID:6698-1553644800-1553731199@www.rockumchurch.com
SUMMARY:Braided Bread Fundraiser
DESCRIPTION:Braided Bread Fundraiser\nMarch 3\, 2109 to March 31\, 2019\n$13 each \nWe will get them in time for Easter Sunday Brunch. \n\nCinnamon\nCream Cheese\nApple\nRaspberry\nStrawberry Cream Cheese\nCinnamon Rolls\nCaramel Rolls\nItalian Herb Bread\n\nOrder forms are available. Ask your friends if they would like to purchase some pastries. Return the order form and money by March 31\, 2019. The pastries will be available for pick-up beginning on April 9\, 2019. \n \n       \n 
URL:https://www.rockumchurch.com/event/braided-bread-fundraiser-9/
LOCATION:Rockville United Methodist Church\, 142 Grove Street\, Rockville\, CT\, 06066\, United States
CATEGORIES:food,Fundraising
ORGANIZER;CN="Diane Lajoie":MAILTO:RockvilleUMC@outlook.com
END:VEVENT
BEGIN:VEVENT
DTSTART;VALUE=DATE:20190326
DTEND;VALUE=DATE:20190327
DTSTAMP:20260423T132224
CREATED:20190312T184041Z
LAST-MODIFIED:20190312T190911Z
UID:6704-1553558400-1553644799@www.rockumchurch.com
SUMMARY:Braided Bread Fundraiser
DESCRIPTION:Braided Bread Fundraiser\nMarch 3\, 2109 to March 31\, 2019\n$13 each \nWe will get them in time for Easter Sunday Brunch. \n\nCinnamon\nCream Cheese\nApple\nRaspberry\nStrawberry Cream Cheese\nCinnamon Rolls\nCaramel Rolls\nItalian Herb Bread\n\nOrder forms are available. Ask your friends if they would like to purchase some pastries. Return the order form and money by March 31\, 2019. The pastries will be available for pick-up beginning on April 9\, 2019. \n \n       \n 
URL:https://www.rockumchurch.com/event/braided-bread-fundraiser-12/
LOCATION:Rockville United Methodist Church\, 142 Grove Street\, Rockville\, CT\, 06066\, United States
CATEGORIES:food,Fundraising
ORGANIZER;CN="Diane Lajoie":MAILTO:RockvilleUMC@outlook.com
END:VEVENT
BEGIN:VEVENT
DTSTART;VALUE=DATE:20190325
DTEND;VALUE=DATE:20190326
DTSTAMP:20260423T132224
CREATED:20190312T184143Z
LAST-MODIFIED:20190312T190939Z
UID:6706-1553472000-1553558399@www.rockumchurch.com
SUMMARY:Braided Bread Fundraiser
DESCRIPTION:Braided Bread Fundraiser\nMarch 3\, 2109 to March 31\, 2019\n$13 each \nWe will get them in time for Easter Sunday Brunch. \n\nCinnamon\nCream Cheese\nApple\nRaspberry\nStrawberry Cream Cheese\nCinnamon Rolls\nCaramel Rolls\nItalian Herb Bread\n\nOrder forms are available. Ask your friends if they would like to purchase some pastries. Return the order form and money by March 31\, 2019. The pastries will be available for pick-up beginning on April 9\, 2019. \n \n       \n 
URL:https://www.rockumchurch.com/event/braided-bread-fundraiser-13/
LOCATION:Rockville United Methodist Church\, 142 Grove Street\, Rockville\, CT\, 06066\, United States
CATEGORIES:food,Fundraising
ORGANIZER;CN="Diane Lajoie":MAILTO:RockvilleUMC@outlook.com
END:VEVENT
BEGIN:VEVENT
DTSTART;TZID=America/New_York:20190324T100000
DTEND;TZID=America/New_York:20190324T110000
DTSTAMP:20260423T132224
CREATED:20190104T160546Z
LAST-MODIFIED:20190104T160546Z
UID:6126-1553421600-1553425200@www.rockumchurch.com
SUMMARY:Sunday School
DESCRIPTION:Sunday school begins after the Children’s Message in our worship service.  \nSunday school is free and open to kids 3 years old to High School.  
URL:https://www.rockumchurch.com/event/sunday-school-6-2019-03-24/
LOCATION:Rockville United Methodist Church\, 142 Grove Street\, Rockville\, CT\, 06066\, United States
CATEGORIES:Education,Worship,Youth
ORGANIZER;CN="Linda Shivers":MAILTO:necsvga@aol.com
END:VEVENT
BEGIN:VEVENT
DTSTART;VALUE=DATE:20190324
DTEND;VALUE=DATE:20190325
DTSTAMP:20260423T132224
CREATED:20190312T180531Z
LAST-MODIFIED:20190312T191013Z
UID:6669-1553385600-1553471999@www.rockumchurch.com
SUMMARY:Braided Bread Fundraiser
DESCRIPTION:Braided Bread Fundraiser\nMarch 3\, 2109 to March 31\, 2019\n$13 each \nWe will get them in time for Easter Sunday Brunch. \n\nCinnamon\nCream Cheese\nApple\nRaspberry\nStrawberry Cream Cheese\nCinnamon Rolls\nCaramel Rolls\nItalian Herb Bread\n\nOrder forms are available. Ask your friends if they would like to purchase some pastries. Return the order form and money by March 31\, 2019. The pastries will be available for pick-up beginning on April 9\, 2019. \n \n       \n  \n 
URL:https://www.rockumchurch.com/event/braided-bread-fundraiser-5/
LOCATION:Rockville United Methodist Church\, 142 Grove Street\, Rockville\, CT\, 06066\, United States
CATEGORIES:food,Fundraising
ORGANIZER;CN="Diane Lajoie":MAILTO:RockvilleUMC@outlook.com
END:VEVENT
BEGIN:VEVENT
DTSTART;VALUE=DATE:20190323
DTEND;VALUE=DATE:20190324
DTSTAMP:20260423T132224
CREATED:20190312T184318Z
LAST-MODIFIED:20190312T184318Z
UID:6708-1553299200-1553385599@www.rockumchurch.com
SUMMARY:Braided Bread Fundraiser
DESCRIPTION:Braided Bread Fundraiser\nMarch 3\, 2109 to March 31\, 2019\n$13 each \nWe will get them in time for Easter Sunday Brunch. \n\nCinnamon\nCream Cheese\nApple\nRaspberry\nStrawberry Cream Cheese\nCinnamon Rolls\nCaramel Rolls\nItalian Herb Bread\n\nOrder forms are available. Ask your friends if they would like to purchase some pastries. Return the order form and money by March 31\, 2019. The pastries will be available for pick-up beginning on April 9\, 2019. \n \n       \n 
URL:https://www.rockumchurch.com/event/braided-bread-fundraiser-14/
LOCATION:Rockville United Methodist Church\, 142 Grove Street\, Rockville\, CT\, 06066\, United States
CATEGORIES:food,Fundraising
ORGANIZER;CN="Diane Lajoie":MAILTO:RockvilleUMC@outlook.com
END:VEVENT
END:VCALENDAR