BEGIN:VCALENDAR
VERSION:2.0
PRODID:-//Rockville United Methodist Church - ECPv6.15.20//NONSGML v1.0//EN
CALSCALE:GREGORIAN
METHOD:PUBLISH
X-WR-CALNAME:Rockville United Methodist Church
X-ORIGINAL-URL:https://www.rockumchurch.com
X-WR-CALDESC:Events for Rockville United Methodist Church
REFRESH-INTERVAL;VALUE=DURATION:PT1H
X-Robots-Tag:noindex
X-PUBLISHED-TTL:PT1H
BEGIN:VTIMEZONE
TZID:America/New_York
BEGIN:DAYLIGHT
TZOFFSETFROM:-0500
TZOFFSETTO:-0400
TZNAME:EDT
DTSTART:20180311T070000
END:DAYLIGHT
BEGIN:STANDARD
TZOFFSETFROM:-0400
TZOFFSETTO:-0500
TZNAME:EST
DTSTART:20181104T060000
END:STANDARD
BEGIN:DAYLIGHT
TZOFFSETFROM:-0500
TZOFFSETTO:-0400
TZNAME:EDT
DTSTART:20190310T070000
END:DAYLIGHT
BEGIN:STANDARD
TZOFFSETFROM:-0400
TZOFFSETTO:-0500
TZNAME:EST
DTSTART:20191103T060000
END:STANDARD
BEGIN:DAYLIGHT
TZOFFSETFROM:-0500
TZOFFSETTO:-0400
TZNAME:EDT
DTSTART:20200308T070000
END:DAYLIGHT
BEGIN:STANDARD
TZOFFSETFROM:-0400
TZOFFSETTO:-0500
TZNAME:EST
DTSTART:20201101T060000
END:STANDARD
END:VTIMEZONE
BEGIN:VEVENT
DTSTART;TZID=America/New_York:20191218T090000
DTEND;TZID=America/New_York:20191218T113000
DTSTAMP:20260422T190306
CREATED:20190104T163116Z
LAST-MODIFIED:20190104T163116Z
UID:6336-1576659600-1576668600@www.rockumchurch.com
SUMMARY:GOM - Grumpy Old Men
DESCRIPTION:Our “Grumpy Old Men” meet on Wednesday mornings to maintain the church building\, grounds\, and parsonage.  These dedicated individuals keep our church in working order and set up the signs and banners needed for special occasions. They can always use an extra pair of hands.  Coffee\, snacks\, and fellowship are part of their weekly gatherings.
URL:https://www.rockumchurch.com/event/gom-grumpy-old-men-4-2019-12-18/
LOCATION:Rockville United Methodist Church\, 142 Grove Street\, Rockville\, CT\, 06066\, United States
CATEGORIES:Maintenance,Volunteer Opportunity
ORGANIZER;CN="Don Ross":MAILTO:rumcoffice@sbcglobla.net
END:VEVENT
BEGIN:VEVENT
DTSTART;TZID=America/New_York:20191211T090000
DTEND;TZID=America/New_York:20191211T113000
DTSTAMP:20260422T190306
CREATED:20190104T163116Z
LAST-MODIFIED:20190104T163116Z
UID:6335-1576054800-1576063800@www.rockumchurch.com
SUMMARY:GOM - Grumpy Old Men
DESCRIPTION:Our “Grumpy Old Men” meet on Wednesday mornings to maintain the church building\, grounds\, and parsonage.  These dedicated individuals keep our church in working order and set up the signs and banners needed for special occasions. They can always use an extra pair of hands.  Coffee\, snacks\, and fellowship are part of their weekly gatherings.
URL:https://www.rockumchurch.com/event/gom-grumpy-old-men-4-2019-12-11/
LOCATION:Rockville United Methodist Church\, 142 Grove Street\, Rockville\, CT\, 06066\, United States
CATEGORIES:Maintenance,Volunteer Opportunity
ORGANIZER;CN="Don Ross":MAILTO:rumcoffice@sbcglobla.net
END:VEVENT
BEGIN:VEVENT
DTSTART;TZID=America/New_York:20191204T090000
DTEND;TZID=America/New_York:20191204T113000
DTSTAMP:20260422T190306
CREATED:20190104T163116Z
LAST-MODIFIED:20190104T163116Z
UID:6334-1575450000-1575459000@www.rockumchurch.com
SUMMARY:GOM - Grumpy Old Men
DESCRIPTION:Our “Grumpy Old Men” meet on Wednesday mornings to maintain the church building\, grounds\, and parsonage.  These dedicated individuals keep our church in working order and set up the signs and banners needed for special occasions. They can always use an extra pair of hands.  Coffee\, snacks\, and fellowship are part of their weekly gatherings.
URL:https://www.rockumchurch.com/event/gom-grumpy-old-men-4-2019-12-04/
LOCATION:Rockville United Methodist Church\, 142 Grove Street\, Rockville\, CT\, 06066\, United States
CATEGORIES:Maintenance,Volunteer Opportunity
ORGANIZER;CN="Don Ross":MAILTO:rumcoffice@sbcglobla.net
END:VEVENT
BEGIN:VEVENT
DTSTART;TZID=America/New_York:20191127T090000
DTEND;TZID=America/New_York:20191127T113000
DTSTAMP:20260422T190306
CREATED:20190104T163116Z
LAST-MODIFIED:20190104T163116Z
UID:6333-1574845200-1574854200@www.rockumchurch.com
SUMMARY:GOM - Grumpy Old Men
DESCRIPTION:Our “Grumpy Old Men” meet on Wednesday mornings to maintain the church building\, grounds\, and parsonage.  These dedicated individuals keep our church in working order and set up the signs and banners needed for special occasions. They can always use an extra pair of hands.  Coffee\, snacks\, and fellowship are part of their weekly gatherings.
URL:https://www.rockumchurch.com/event/gom-grumpy-old-men-4-2019-11-27/
LOCATION:Rockville United Methodist Church\, 142 Grove Street\, Rockville\, CT\, 06066\, United States
CATEGORIES:Maintenance,Volunteer Opportunity
ORGANIZER;CN="Don Ross":MAILTO:rumcoffice@sbcglobla.net
END:VEVENT
BEGIN:VEVENT
DTSTART;TZID=America/New_York:20191120T090000
DTEND;TZID=America/New_York:20191120T113000
DTSTAMP:20260422T190306
CREATED:20190104T163116Z
LAST-MODIFIED:20190104T163116Z
UID:6332-1574240400-1574249400@www.rockumchurch.com
SUMMARY:GOM - Grumpy Old Men
DESCRIPTION:Our “Grumpy Old Men” meet on Wednesday mornings to maintain the church building\, grounds\, and parsonage.  These dedicated individuals keep our church in working order and set up the signs and banners needed for special occasions. They can always use an extra pair of hands.  Coffee\, snacks\, and fellowship are part of their weekly gatherings.
URL:https://www.rockumchurch.com/event/gom-grumpy-old-men-4-2019-11-20/
LOCATION:Rockville United Methodist Church\, 142 Grove Street\, Rockville\, CT\, 06066\, United States
CATEGORIES:Maintenance,Volunteer Opportunity
ORGANIZER;CN="Don Ross":MAILTO:rumcoffice@sbcglobla.net
END:VEVENT
BEGIN:VEVENT
DTSTART;TZID=America/New_York:20191113T090000
DTEND;TZID=America/New_York:20191113T113000
DTSTAMP:20260422T190306
CREATED:20190104T163116Z
LAST-MODIFIED:20190104T163116Z
UID:6331-1573635600-1573644600@www.rockumchurch.com
SUMMARY:GOM - Grumpy Old Men
DESCRIPTION:Our “Grumpy Old Men” meet on Wednesday mornings to maintain the church building\, grounds\, and parsonage.  These dedicated individuals keep our church in working order and set up the signs and banners needed for special occasions. They can always use an extra pair of hands.  Coffee\, snacks\, and fellowship are part of their weekly gatherings.
URL:https://www.rockumchurch.com/event/gom-grumpy-old-men-4-2019-11-13/
LOCATION:Rockville United Methodist Church\, 142 Grove Street\, Rockville\, CT\, 06066\, United States
CATEGORIES:Maintenance,Volunteer Opportunity
ORGANIZER;CN="Don Ross":MAILTO:rumcoffice@sbcglobla.net
END:VEVENT
BEGIN:VEVENT
DTSTART;TZID=America/New_York:20191106T090000
DTEND;TZID=America/New_York:20191106T113000
DTSTAMP:20260422T190306
CREATED:20190104T163116Z
LAST-MODIFIED:20190104T163116Z
UID:6330-1573030800-1573039800@www.rockumchurch.com
SUMMARY:GOM - Grumpy Old Men
DESCRIPTION:Our “Grumpy Old Men” meet on Wednesday mornings to maintain the church building\, grounds\, and parsonage.  These dedicated individuals keep our church in working order and set up the signs and banners needed for special occasions. They can always use an extra pair of hands.  Coffee\, snacks\, and fellowship are part of their weekly gatherings.
URL:https://www.rockumchurch.com/event/gom-grumpy-old-men-4-2019-11-06/
LOCATION:Rockville United Methodist Church\, 142 Grove Street\, Rockville\, CT\, 06066\, United States
CATEGORIES:Maintenance,Volunteer Opportunity
ORGANIZER;CN="Don Ross":MAILTO:rumcoffice@sbcglobla.net
END:VEVENT
BEGIN:VEVENT
DTSTART;TZID=America/New_York:20191030T090000
DTEND;TZID=America/New_York:20191030T113000
DTSTAMP:20260422T190306
CREATED:20190104T163116Z
LAST-MODIFIED:20190104T163116Z
UID:6329-1572426000-1572435000@www.rockumchurch.com
SUMMARY:GOM - Grumpy Old Men
DESCRIPTION:Our “Grumpy Old Men” meet on Wednesday mornings to maintain the church building\, grounds\, and parsonage.  These dedicated individuals keep our church in working order and set up the signs and banners needed for special occasions. They can always use an extra pair of hands.  Coffee\, snacks\, and fellowship are part of their weekly gatherings.
URL:https://www.rockumchurch.com/event/gom-grumpy-old-men-4-2019-10-30/
LOCATION:Rockville United Methodist Church\, 142 Grove Street\, Rockville\, CT\, 06066\, United States
CATEGORIES:Maintenance,Volunteer Opportunity
ORGANIZER;CN="Don Ross":MAILTO:rumcoffice@sbcglobla.net
END:VEVENT
BEGIN:VEVENT
DTSTART;TZID=America/New_York:20191023T090000
DTEND;TZID=America/New_York:20191023T113000
DTSTAMP:20260422T190306
CREATED:20190104T163116Z
LAST-MODIFIED:20190104T163116Z
UID:6328-1571821200-1571830200@www.rockumchurch.com
SUMMARY:GOM - Grumpy Old Men
DESCRIPTION:Our “Grumpy Old Men” meet on Wednesday mornings to maintain the church building\, grounds\, and parsonage.  These dedicated individuals keep our church in working order and set up the signs and banners needed for special occasions. They can always use an extra pair of hands.  Coffee\, snacks\, and fellowship are part of their weekly gatherings.
URL:https://www.rockumchurch.com/event/gom-grumpy-old-men-4-2019-10-23/
LOCATION:Rockville United Methodist Church\, 142 Grove Street\, Rockville\, CT\, 06066\, United States
CATEGORIES:Maintenance,Volunteer Opportunity
ORGANIZER;CN="Don Ross":MAILTO:rumcoffice@sbcglobla.net
END:VEVENT
BEGIN:VEVENT
DTSTART;TZID=America/New_York:20191016T090000
DTEND;TZID=America/New_York:20191016T113000
DTSTAMP:20260422T190306
CREATED:20190104T163116Z
LAST-MODIFIED:20190104T163116Z
UID:6327-1571216400-1571225400@www.rockumchurch.com
SUMMARY:GOM - Grumpy Old Men
DESCRIPTION:Our “Grumpy Old Men” meet on Wednesday mornings to maintain the church building\, grounds\, and parsonage.  These dedicated individuals keep our church in working order and set up the signs and banners needed for special occasions. They can always use an extra pair of hands.  Coffee\, snacks\, and fellowship are part of their weekly gatherings.
URL:https://www.rockumchurch.com/event/gom-grumpy-old-men-4-2019-10-16/
LOCATION:Rockville United Methodist Church\, 142 Grove Street\, Rockville\, CT\, 06066\, United States
CATEGORIES:Maintenance,Volunteer Opportunity
ORGANIZER;CN="Don Ross":MAILTO:rumcoffice@sbcglobla.net
END:VEVENT
BEGIN:VEVENT
DTSTART;TZID=America/New_York:20191009T090000
DTEND;TZID=America/New_York:20191009T113000
DTSTAMP:20260422T190306
CREATED:20190104T163116Z
LAST-MODIFIED:20190104T163116Z
UID:6326-1570611600-1570620600@www.rockumchurch.com
SUMMARY:GOM - Grumpy Old Men
DESCRIPTION:Our “Grumpy Old Men” meet on Wednesday mornings to maintain the church building\, grounds\, and parsonage.  These dedicated individuals keep our church in working order and set up the signs and banners needed for special occasions. They can always use an extra pair of hands.  Coffee\, snacks\, and fellowship are part of their weekly gatherings.
URL:https://www.rockumchurch.com/event/gom-grumpy-old-men-4-2019-10-09/
LOCATION:Rockville United Methodist Church\, 142 Grove Street\, Rockville\, CT\, 06066\, United States
CATEGORIES:Maintenance,Volunteer Opportunity
ORGANIZER;CN="Don Ross":MAILTO:rumcoffice@sbcglobla.net
END:VEVENT
BEGIN:VEVENT
DTSTART;TZID=America/New_York:20191002T090000
DTEND;TZID=America/New_York:20191002T113000
DTSTAMP:20260422T190306
CREATED:20190104T163116Z
LAST-MODIFIED:20190104T163116Z
UID:6325-1570006800-1570015800@www.rockumchurch.com
SUMMARY:GOM - Grumpy Old Men
DESCRIPTION:Our “Grumpy Old Men” meet on Wednesday mornings to maintain the church building\, grounds\, and parsonage.  These dedicated individuals keep our church in working order and set up the signs and banners needed for special occasions. They can always use an extra pair of hands.  Coffee\, snacks\, and fellowship are part of their weekly gatherings.
URL:https://www.rockumchurch.com/event/gom-grumpy-old-men-4-2019-10-02/
LOCATION:Rockville United Methodist Church\, 142 Grove Street\, Rockville\, CT\, 06066\, United States
CATEGORIES:Maintenance,Volunteer Opportunity
ORGANIZER;CN="Don Ross":MAILTO:rumcoffice@sbcglobla.net
END:VEVENT
BEGIN:VEVENT
DTSTART;TZID=America/New_York:20190925T090000
DTEND;TZID=America/New_York:20190925T113000
DTSTAMP:20260422T190306
CREATED:20190104T163116Z
LAST-MODIFIED:20190104T163116Z
UID:6324-1569402000-1569411000@www.rockumchurch.com
SUMMARY:GOM - Grumpy Old Men
DESCRIPTION:Our “Grumpy Old Men” meet on Wednesday mornings to maintain the church building\, grounds\, and parsonage.  These dedicated individuals keep our church in working order and set up the signs and banners needed for special occasions. They can always use an extra pair of hands.  Coffee\, snacks\, and fellowship are part of their weekly gatherings.
URL:https://www.rockumchurch.com/event/gom-grumpy-old-men-4-2019-09-25/
LOCATION:Rockville United Methodist Church\, 142 Grove Street\, Rockville\, CT\, 06066\, United States
CATEGORIES:Maintenance,Volunteer Opportunity
ORGANIZER;CN="Don Ross":MAILTO:rumcoffice@sbcglobla.net
END:VEVENT
BEGIN:VEVENT
DTSTART;TZID=America/New_York:20190918T090000
DTEND;TZID=America/New_York:20190918T113000
DTSTAMP:20260422T190306
CREATED:20190104T163116Z
LAST-MODIFIED:20190104T163116Z
UID:6323-1568797200-1568806200@www.rockumchurch.com
SUMMARY:GOM - Grumpy Old Men
DESCRIPTION:Our “Grumpy Old Men” meet on Wednesday mornings to maintain the church building\, grounds\, and parsonage.  These dedicated individuals keep our church in working order and set up the signs and banners needed for special occasions. They can always use an extra pair of hands.  Coffee\, snacks\, and fellowship are part of their weekly gatherings.
URL:https://www.rockumchurch.com/event/gom-grumpy-old-men-4-2019-09-18/
LOCATION:Rockville United Methodist Church\, 142 Grove Street\, Rockville\, CT\, 06066\, United States
CATEGORIES:Maintenance,Volunteer Opportunity
ORGANIZER;CN="Don Ross":MAILTO:rumcoffice@sbcglobla.net
END:VEVENT
BEGIN:VEVENT
DTSTART;TZID=America/New_York:20190911T090000
DTEND;TZID=America/New_York:20190911T113000
DTSTAMP:20260422T190306
CREATED:20190104T163116Z
LAST-MODIFIED:20190104T163116Z
UID:6322-1568192400-1568201400@www.rockumchurch.com
SUMMARY:GOM - Grumpy Old Men
DESCRIPTION:Our “Grumpy Old Men” meet on Wednesday mornings to maintain the church building\, grounds\, and parsonage.  These dedicated individuals keep our church in working order and set up the signs and banners needed for special occasions. They can always use an extra pair of hands.  Coffee\, snacks\, and fellowship are part of their weekly gatherings.
URL:https://www.rockumchurch.com/event/gom-grumpy-old-men-4-2019-09-11/
LOCATION:Rockville United Methodist Church\, 142 Grove Street\, Rockville\, CT\, 06066\, United States
CATEGORIES:Maintenance,Volunteer Opportunity
ORGANIZER;CN="Don Ross":MAILTO:rumcoffice@sbcglobla.net
END:VEVENT
BEGIN:VEVENT
DTSTART;TZID=America/New_York:20190904T090000
DTEND;TZID=America/New_York:20190904T113000
DTSTAMP:20260422T190306
CREATED:20190104T163116Z
LAST-MODIFIED:20190104T163116Z
UID:6321-1567587600-1567596600@www.rockumchurch.com
SUMMARY:GOM - Grumpy Old Men
DESCRIPTION:Our “Grumpy Old Men” meet on Wednesday mornings to maintain the church building\, grounds\, and parsonage.  These dedicated individuals keep our church in working order and set up the signs and banners needed for special occasions. They can always use an extra pair of hands.  Coffee\, snacks\, and fellowship are part of their weekly gatherings.
URL:https://www.rockumchurch.com/event/gom-grumpy-old-men-4-2019-09-04/
LOCATION:Rockville United Methodist Church\, 142 Grove Street\, Rockville\, CT\, 06066\, United States
CATEGORIES:Maintenance,Volunteer Opportunity
ORGANIZER;CN="Don Ross":MAILTO:rumcoffice@sbcglobla.net
END:VEVENT
BEGIN:VEVENT
DTSTART;TZID=America/New_York:20190828T090000
DTEND;TZID=America/New_York:20190828T113000
DTSTAMP:20260422T190306
CREATED:20190104T163116Z
LAST-MODIFIED:20190104T163116Z
UID:6320-1566982800-1566991800@www.rockumchurch.com
SUMMARY:GOM - Grumpy Old Men
DESCRIPTION:Our “Grumpy Old Men” meet on Wednesday mornings to maintain the church building\, grounds\, and parsonage.  These dedicated individuals keep our church in working order and set up the signs and banners needed for special occasions. They can always use an extra pair of hands.  Coffee\, snacks\, and fellowship are part of their weekly gatherings.
URL:https://www.rockumchurch.com/event/gom-grumpy-old-men-4-2019-08-28/
LOCATION:Rockville United Methodist Church\, 142 Grove Street\, Rockville\, CT\, 06066\, United States
CATEGORIES:Maintenance,Volunteer Opportunity
ORGANIZER;CN="Don Ross":MAILTO:rumcoffice@sbcglobla.net
END:VEVENT
BEGIN:VEVENT
DTSTART;TZID=America/New_York:20190821T090000
DTEND;TZID=America/New_York:20190821T113000
DTSTAMP:20260422T190306
CREATED:20190104T163116Z
LAST-MODIFIED:20190104T163116Z
UID:6319-1566378000-1566387000@www.rockumchurch.com
SUMMARY:GOM - Grumpy Old Men
DESCRIPTION:Our “Grumpy Old Men” meet on Wednesday mornings to maintain the church building\, grounds\, and parsonage.  These dedicated individuals keep our church in working order and set up the signs and banners needed for special occasions. They can always use an extra pair of hands.  Coffee\, snacks\, and fellowship are part of their weekly gatherings.
URL:https://www.rockumchurch.com/event/gom-grumpy-old-men-4-2019-08-21/
LOCATION:Rockville United Methodist Church\, 142 Grove Street\, Rockville\, CT\, 06066\, United States
CATEGORIES:Maintenance,Volunteer Opportunity
ORGANIZER;CN="Don Ross":MAILTO:rumcoffice@sbcglobla.net
END:VEVENT
BEGIN:VEVENT
DTSTART;TZID=America/New_York:20190814T090000
DTEND;TZID=America/New_York:20190814T113000
DTSTAMP:20260422T190306
CREATED:20190104T163116Z
LAST-MODIFIED:20190104T163116Z
UID:6318-1565773200-1565782200@www.rockumchurch.com
SUMMARY:GOM - Grumpy Old Men
DESCRIPTION:Our “Grumpy Old Men” meet on Wednesday mornings to maintain the church building\, grounds\, and parsonage.  These dedicated individuals keep our church in working order and set up the signs and banners needed for special occasions. They can always use an extra pair of hands.  Coffee\, snacks\, and fellowship are part of their weekly gatherings.
URL:https://www.rockumchurch.com/event/gom-grumpy-old-men-4-2019-08-14/
LOCATION:Rockville United Methodist Church\, 142 Grove Street\, Rockville\, CT\, 06066\, United States
CATEGORIES:Maintenance,Volunteer Opportunity
ORGANIZER;CN="Don Ross":MAILTO:rumcoffice@sbcglobla.net
END:VEVENT
BEGIN:VEVENT
DTSTART;TZID=America/New_York:20190807T090000
DTEND;TZID=America/New_York:20190807T113000
DTSTAMP:20260422T190306
CREATED:20190104T163116Z
LAST-MODIFIED:20190104T163116Z
UID:6317-1565168400-1565177400@www.rockumchurch.com
SUMMARY:GOM - Grumpy Old Men
DESCRIPTION:Our “Grumpy Old Men” meet on Wednesday mornings to maintain the church building\, grounds\, and parsonage.  These dedicated individuals keep our church in working order and set up the signs and banners needed for special occasions. They can always use an extra pair of hands.  Coffee\, snacks\, and fellowship are part of their weekly gatherings.
URL:https://www.rockumchurch.com/event/gom-grumpy-old-men-4-2019-08-07/
LOCATION:Rockville United Methodist Church\, 142 Grove Street\, Rockville\, CT\, 06066\, United States
CATEGORIES:Maintenance,Volunteer Opportunity
ORGANIZER;CN="Don Ross":MAILTO:rumcoffice@sbcglobla.net
END:VEVENT
BEGIN:VEVENT
DTSTART;TZID=America/New_York:20190731T090000
DTEND;TZID=America/New_York:20190731T113000
DTSTAMP:20260422T190306
CREATED:20190104T163116Z
LAST-MODIFIED:20190104T163116Z
UID:6316-1564563600-1564572600@www.rockumchurch.com
SUMMARY:GOM - Grumpy Old Men
DESCRIPTION:Our “Grumpy Old Men” meet on Wednesday mornings to maintain the church building\, grounds\, and parsonage.  These dedicated individuals keep our church in working order and set up the signs and banners needed for special occasions. They can always use an extra pair of hands.  Coffee\, snacks\, and fellowship are part of their weekly gatherings.
URL:https://www.rockumchurch.com/event/gom-grumpy-old-men-4-2019-07-31/
LOCATION:Rockville United Methodist Church\, 142 Grove Street\, Rockville\, CT\, 06066\, United States
CATEGORIES:Maintenance,Volunteer Opportunity
ORGANIZER;CN="Don Ross":MAILTO:rumcoffice@sbcglobla.net
END:VEVENT
BEGIN:VEVENT
DTSTART;TZID=America/New_York:20190724T090000
DTEND;TZID=America/New_York:20190724T113000
DTSTAMP:20260422T190306
CREATED:20190104T163116Z
LAST-MODIFIED:20190104T163116Z
UID:6315-1563958800-1563967800@www.rockumchurch.com
SUMMARY:GOM - Grumpy Old Men
DESCRIPTION:Our “Grumpy Old Men” meet on Wednesday mornings to maintain the church building\, grounds\, and parsonage.  These dedicated individuals keep our church in working order and set up the signs and banners needed for special occasions. They can always use an extra pair of hands.  Coffee\, snacks\, and fellowship are part of their weekly gatherings.
URL:https://www.rockumchurch.com/event/gom-grumpy-old-men-4-2019-07-24/
LOCATION:Rockville United Methodist Church\, 142 Grove Street\, Rockville\, CT\, 06066\, United States
CATEGORIES:Maintenance,Volunteer Opportunity
ORGANIZER;CN="Don Ross":MAILTO:rumcoffice@sbcglobla.net
END:VEVENT
BEGIN:VEVENT
DTSTART;TZID=America/New_York:20190717T090000
DTEND;TZID=America/New_York:20190717T113000
DTSTAMP:20260422T190306
CREATED:20190104T163116Z
LAST-MODIFIED:20190104T163116Z
UID:6314-1563354000-1563363000@www.rockumchurch.com
SUMMARY:GOM - Grumpy Old Men
DESCRIPTION:Our “Grumpy Old Men” meet on Wednesday mornings to maintain the church building\, grounds\, and parsonage.  These dedicated individuals keep our church in working order and set up the signs and banners needed for special occasions. They can always use an extra pair of hands.  Coffee\, snacks\, and fellowship are part of their weekly gatherings.
URL:https://www.rockumchurch.com/event/gom-grumpy-old-men-4-2019-07-17/
LOCATION:Rockville United Methodist Church\, 142 Grove Street\, Rockville\, CT\, 06066\, United States
CATEGORIES:Maintenance,Volunteer Opportunity
ORGANIZER;CN="Don Ross":MAILTO:rumcoffice@sbcglobla.net
END:VEVENT
BEGIN:VEVENT
DTSTART;TZID=America/New_York:20190710T090000
DTEND;TZID=America/New_York:20190710T113000
DTSTAMP:20260422T190306
CREATED:20190104T163116Z
LAST-MODIFIED:20190104T163116Z
UID:6313-1562749200-1562758200@www.rockumchurch.com
SUMMARY:GOM - Grumpy Old Men
DESCRIPTION:Our “Grumpy Old Men” meet on Wednesday mornings to maintain the church building\, grounds\, and parsonage.  These dedicated individuals keep our church in working order and set up the signs and banners needed for special occasions. They can always use an extra pair of hands.  Coffee\, snacks\, and fellowship are part of their weekly gatherings.
URL:https://www.rockumchurch.com/event/gom-grumpy-old-men-4-2019-07-10/
LOCATION:Rockville United Methodist Church\, 142 Grove Street\, Rockville\, CT\, 06066\, United States
CATEGORIES:Maintenance,Volunteer Opportunity
ORGANIZER;CN="Don Ross":MAILTO:rumcoffice@sbcglobla.net
END:VEVENT
BEGIN:VEVENT
DTSTART;TZID=America/New_York:20190703T090000
DTEND;TZID=America/New_York:20190703T113000
DTSTAMP:20260422T190306
CREATED:20190104T163116Z
LAST-MODIFIED:20190104T163116Z
UID:6312-1562144400-1562153400@www.rockumchurch.com
SUMMARY:GOM - Grumpy Old Men
DESCRIPTION:Our “Grumpy Old Men” meet on Wednesday mornings to maintain the church building\, grounds\, and parsonage.  These dedicated individuals keep our church in working order and set up the signs and banners needed for special occasions. They can always use an extra pair of hands.  Coffee\, snacks\, and fellowship are part of their weekly gatherings.
URL:https://www.rockumchurch.com/event/gom-grumpy-old-men-4-2019-07-03/
LOCATION:Rockville United Methodist Church\, 142 Grove Street\, Rockville\, CT\, 06066\, United States
CATEGORIES:Maintenance,Volunteer Opportunity
ORGANIZER;CN="Don Ross":MAILTO:rumcoffice@sbcglobla.net
END:VEVENT
BEGIN:VEVENT
DTSTART;TZID=America/New_York:20190626T090000
DTEND;TZID=America/New_York:20190626T113000
DTSTAMP:20260422T190306
CREATED:20190104T163116Z
LAST-MODIFIED:20190104T163116Z
UID:6311-1561539600-1561548600@www.rockumchurch.com
SUMMARY:GOM - Grumpy Old Men
DESCRIPTION:Our “Grumpy Old Men” meet on Wednesday mornings to maintain the church building\, grounds\, and parsonage.  These dedicated individuals keep our church in working order and set up the signs and banners needed for special occasions. They can always use an extra pair of hands.  Coffee\, snacks\, and fellowship are part of their weekly gatherings.
URL:https://www.rockumchurch.com/event/gom-grumpy-old-men-4-2019-06-26/
LOCATION:Rockville United Methodist Church\, 142 Grove Street\, Rockville\, CT\, 06066\, United States
CATEGORIES:Maintenance,Volunteer Opportunity
ORGANIZER;CN="Don Ross":MAILTO:rumcoffice@sbcglobla.net
END:VEVENT
BEGIN:VEVENT
DTSTART;TZID=America/New_York:20190619T090000
DTEND;TZID=America/New_York:20190619T113000
DTSTAMP:20260422T190306
CREATED:20190104T163116Z
LAST-MODIFIED:20190104T163116Z
UID:6310-1560934800-1560943800@www.rockumchurch.com
SUMMARY:GOM - Grumpy Old Men
DESCRIPTION:Our “Grumpy Old Men” meet on Wednesday mornings to maintain the church building\, grounds\, and parsonage.  These dedicated individuals keep our church in working order and set up the signs and banners needed for special occasions. They can always use an extra pair of hands.  Coffee\, snacks\, and fellowship are part of their weekly gatherings.
URL:https://www.rockumchurch.com/event/gom-grumpy-old-men-4-2019-06-19/
LOCATION:Rockville United Methodist Church\, 142 Grove Street\, Rockville\, CT\, 06066\, United States
CATEGORIES:Maintenance,Volunteer Opportunity
ORGANIZER;CN="Don Ross":MAILTO:rumcoffice@sbcglobla.net
END:VEVENT
BEGIN:VEVENT
DTSTART;TZID=America/New_York:20190612T090000
DTEND;TZID=America/New_York:20190612T113000
DTSTAMP:20260422T190306
CREATED:20190104T163116Z
LAST-MODIFIED:20190104T163116Z
UID:6309-1560330000-1560339000@www.rockumchurch.com
SUMMARY:GOM - Grumpy Old Men
DESCRIPTION:Our “Grumpy Old Men” meet on Wednesday mornings to maintain the church building\, grounds\, and parsonage.  These dedicated individuals keep our church in working order and set up the signs and banners needed for special occasions. They can always use an extra pair of hands.  Coffee\, snacks\, and fellowship are part of their weekly gatherings.
URL:https://www.rockumchurch.com/event/gom-grumpy-old-men-4-2019-06-12/
LOCATION:Rockville United Methodist Church\, 142 Grove Street\, Rockville\, CT\, 06066\, United States
CATEGORIES:Maintenance,Volunteer Opportunity
ORGANIZER;CN="Don Ross":MAILTO:rumcoffice@sbcglobla.net
END:VEVENT
BEGIN:VEVENT
DTSTART;TZID=America/New_York:20190605T090000
DTEND;TZID=America/New_York:20190605T113000
DTSTAMP:20260422T190306
CREATED:20190104T163116Z
LAST-MODIFIED:20190104T163116Z
UID:6308-1559725200-1559734200@www.rockumchurch.com
SUMMARY:GOM - Grumpy Old Men
DESCRIPTION:Our “Grumpy Old Men” meet on Wednesday mornings to maintain the church building\, grounds\, and parsonage.  These dedicated individuals keep our church in working order and set up the signs and banners needed for special occasions. They can always use an extra pair of hands.  Coffee\, snacks\, and fellowship are part of their weekly gatherings.
URL:https://www.rockumchurch.com/event/gom-grumpy-old-men-4-2019-06-05/
LOCATION:Rockville United Methodist Church\, 142 Grove Street\, Rockville\, CT\, 06066\, United States
CATEGORIES:Maintenance,Volunteer Opportunity
ORGANIZER;CN="Don Ross":MAILTO:rumcoffice@sbcglobla.net
END:VEVENT
BEGIN:VEVENT
DTSTART;TZID=America/New_York:20190529T090000
DTEND;TZID=America/New_York:20190529T113000
DTSTAMP:20260422T190306
CREATED:20190104T163116Z
LAST-MODIFIED:20190104T163116Z
UID:6307-1559120400-1559129400@www.rockumchurch.com
SUMMARY:GOM - Grumpy Old Men
DESCRIPTION:Our “Grumpy Old Men” meet on Wednesday mornings to maintain the church building\, grounds\, and parsonage.  These dedicated individuals keep our church in working order and set up the signs and banners needed for special occasions. They can always use an extra pair of hands.  Coffee\, snacks\, and fellowship are part of their weekly gatherings.
URL:https://www.rockumchurch.com/event/gom-grumpy-old-men-4-2019-05-29/
LOCATION:Rockville United Methodist Church\, 142 Grove Street\, Rockville\, CT\, 06066\, United States
CATEGORIES:Maintenance,Volunteer Opportunity
ORGANIZER;CN="Don Ross":MAILTO:rumcoffice@sbcglobla.net
END:VEVENT
END:VCALENDAR