BEGIN:VCALENDAR
VERSION:2.0
PRODID:-//Rockville United Methodist Church - ECPv6.15.20//NONSGML v1.0//EN
CALSCALE:GREGORIAN
METHOD:PUBLISH
X-WR-CALNAME:Rockville United Methodist Church
X-ORIGINAL-URL:https://www.rockumchurch.com
X-WR-CALDESC:Events for Rockville United Methodist Church
REFRESH-INTERVAL;VALUE=DURATION:PT1H
X-Robots-Tag:noindex
X-PUBLISHED-TTL:PT1H
BEGIN:VTIMEZONE
TZID:America/New_York
BEGIN:DAYLIGHT
TZOFFSETFROM:-0500
TZOFFSETTO:-0400
TZNAME:EDT
DTSTART:20160313T070000
END:DAYLIGHT
BEGIN:STANDARD
TZOFFSETFROM:-0400
TZOFFSETTO:-0500
TZNAME:EST
DTSTART:20161106T060000
END:STANDARD
BEGIN:DAYLIGHT
TZOFFSETFROM:-0500
TZOFFSETTO:-0400
TZNAME:EDT
DTSTART:20170312T070000
END:DAYLIGHT
BEGIN:STANDARD
TZOFFSETFROM:-0400
TZOFFSETTO:-0500
TZNAME:EST
DTSTART:20171105T060000
END:STANDARD
BEGIN:DAYLIGHT
TZOFFSETFROM:-0500
TZOFFSETTO:-0400
TZNAME:EDT
DTSTART:20180311T070000
END:DAYLIGHT
BEGIN:STANDARD
TZOFFSETFROM:-0400
TZOFFSETTO:-0500
TZNAME:EST
DTSTART:20181104T060000
END:STANDARD
BEGIN:DAYLIGHT
TZOFFSETFROM:-0500
TZOFFSETTO:-0400
TZNAME:EDT
DTSTART:20190310T070000
END:DAYLIGHT
BEGIN:STANDARD
TZOFFSETFROM:-0400
TZOFFSETTO:-0500
TZNAME:EST
DTSTART:20191103T060000
END:STANDARD
BEGIN:DAYLIGHT
TZOFFSETFROM:-0500
TZOFFSETTO:-0400
TZNAME:EDT
DTSTART:20200308T070000
END:DAYLIGHT
BEGIN:STANDARD
TZOFFSETFROM:-0400
TZOFFSETTO:-0500
TZNAME:EST
DTSTART:20201101T060000
END:STANDARD
END:VTIMEZONE
BEGIN:VEVENT
DTSTART;TZID=America/New_York:20191116T090000
DTEND;TZID=America/New_York:20191116T140000
DTSTAMP:20260422T202835
CREATED:20190926T172745Z
LAST-MODIFIED:20190926T172745Z
UID:7104-1573894800-1573912800@www.rockumchurch.com
SUMMARY:Holiday Bazaar
DESCRIPTION:Start your Holiday Shopping early! \n \nStay for lunch!
URL:https://www.rockumchurch.com/event/holiday-bazaar/
LOCATION:Rockville United Methodist Church\, 142 Grove Street\, Rockville\, CT\, 06066\, United States
CATEGORIES:bazaar,Community Events,food,RUMC Events
END:VEVENT
BEGIN:VEVENT
DTSTART;TZID=America/New_York:20181117T090000
DTEND;TZID=America/New_York:20181117T140000
DTSTAMP:20260422T202835
CREATED:20181025T194737Z
LAST-MODIFIED:20181025T194737Z
UID:5795-1542445200-1542463200@www.rockumchurch.com
SUMMARY:RUMC 2018 Holiday Bazaar
DESCRIPTION:RUMC 2018 Holiday Bazaar\nSaturday\, November 17th 9 am-2 pm\nLuncheon at 11:30 am \nHandmade Baked Goods\, Fancy Cookies\, Silent Auction\,\nGrandma’s Attic\, Christmas tables\, Jewelry\, books\, puzzles\, and more!\nDetails will be updated on our website https://www.rockumchurch.com/holiday-bazaar/. \nIt is time for our annual Holiday Bazaar at Rockville United Methodist Church–142 Grove Street\, Rockville\, CT 06066–on Saturday\, November 17th from 9 am to 2 pm. Holiday gifts\, silent auction\, fancy cookies\, baked goods\, handmade craft items\, …there’s something for everyone! Don’t forget to stop by for lunch during your busy day for a treat that never disappoints. For more information and updates\, check our website at https://www.rockumchurch.com/holiday-bazaar/. \nRockville United Methodist Church is a small but very active church located at 142 Grove Street\, Rockville\, CT 06066. Our members volunteer to help the community year round. Sunday service is at 10:00 am. Guests are always welcome to our services. Our Fellowship hall is available for rent; we have full kitchen facilities. https://www.rockumchurch.com/home/.
URL:https://www.rockumchurch.com/event/rumc-2018-holiday-bazaar/
LOCATION:Rockville United Methodist Church\, 142 Grove Street\, Rockville\, CT\, 06066\, United States
CATEGORIES:bazaar,Community Events,food,Fundraising
END:VEVENT
BEGIN:VEVENT
DTSTART;TZID=America/New_York:20171118T090000
DTEND;TZID=America/New_York:20171118T140000
DTSTAMP:20260422T202835
CREATED:20171102T165843Z
LAST-MODIFIED:20171102T170140Z
UID:4675-1510995600-1511013600@www.rockumchurch.com
SUMMARY:2017 Holiday Bazaar
DESCRIPTION:RUMC 2017 Holiday Bazaar\nSaturday November 18\, 2017\n9 am to 2 pm \n  \nOur annual Holiday Bazaar is a great chance to start your holiday shopping. Bid on that something special at our silent auction\, find that perfect homemade item at our craft tables\, purchase a cookie or brownie mix at our youth table\, find a fresh-baked treat at our baked goods table\, purchase a retail gift card at our gift card table\, and don’t forget our fancy cookies for all of your holiday gatherings. We also have jewelry\, used books\, puzzles & dvds\, and Grandma’s Attic. Exhausted from all this shopping? Take a break with a delicious lunch once again created by Gretchen Ross Hutton.
URL:https://www.rockumchurch.com/event/2017-holiday-bazaar/
LOCATION:Rockville United Methodist Church\, 142 Grove Street\, Rockville\, CT\, 06066\, United States
CATEGORIES:bazaar,Community Events,food,RUMC Events
ORGANIZER;CN="Judie Culy":MAILTO:judie.culy@gmail.com
END:VEVENT
END:VCALENDAR