BEGIN:VCALENDAR
VERSION:2.0
PRODID:-//Rockville United Methodist Church - ECPv6.15.20//NONSGML v1.0//EN
CALSCALE:GREGORIAN
METHOD:PUBLISH
X-WR-CALNAME:Rockville United Methodist Church
X-ORIGINAL-URL:https://www.rockumchurch.com
X-WR-CALDESC:Events for Rockville United Methodist Church
REFRESH-INTERVAL;VALUE=DURATION:PT1H
X-Robots-Tag:noindex
X-PUBLISHED-TTL:PT1H
BEGIN:VTIMEZONE
TZID:America/New_York
BEGIN:DAYLIGHT
TZOFFSETFROM:-0500
TZOFFSETTO:-0400
TZNAME:EDT
DTSTART:20160313T070000
END:DAYLIGHT
BEGIN:STANDARD
TZOFFSETFROM:-0400
TZOFFSETTO:-0500
TZNAME:EST
DTSTART:20161106T060000
END:STANDARD
BEGIN:DAYLIGHT
TZOFFSETFROM:-0500
TZOFFSETTO:-0400
TZNAME:EDT
DTSTART:20170312T070000
END:DAYLIGHT
BEGIN:STANDARD
TZOFFSETFROM:-0400
TZOFFSETTO:-0500
TZNAME:EST
DTSTART:20171105T060000
END:STANDARD
BEGIN:DAYLIGHT
TZOFFSETFROM:-0500
TZOFFSETTO:-0400
TZNAME:EDT
DTSTART:20180311T070000
END:DAYLIGHT
BEGIN:STANDARD
TZOFFSETFROM:-0400
TZOFFSETTO:-0500
TZNAME:EST
DTSTART:20181104T060000
END:STANDARD
BEGIN:DAYLIGHT
TZOFFSETFROM:-0500
TZOFFSETTO:-0400
TZNAME:EDT
DTSTART:20190310T070000
END:DAYLIGHT
BEGIN:STANDARD
TZOFFSETFROM:-0400
TZOFFSETTO:-0500
TZNAME:EST
DTSTART:20191103T060000
END:STANDARD
END:VTIMEZONE
BEGIN:VEVENT
DTSTART;TZID=America/New_York:20180930T110000
DTEND;TZID=America/New_York:20180930T113000
DTSTAMP:20260423T062116
CREATED:20180911T163945Z
LAST-MODIFIED:20180911T164309Z
UID:5664-1538305200-1538307000@www.rockumchurch.com
SUMMARY:Youth Bells Rehearsal
DESCRIPTION:Please join us as we begin Youth Bells Rehearsal for the 2018 Holiday Season.  Open to Youth and adults 5th grade and up.  First rehearsal is September 16th after service until 11:30 am in the music room. \n 
URL:https://www.rockumchurch.com/event/youth-bells-rehearsal-2018-09-30/
LOCATION:Rockville United Methodist Church\, 142 Grove Street\, Rockville\, CT\, 06066\, United States
CATEGORIES:Music,Planning
ORGANIZER;CN="Allison Corne":MAILTO:dupreesgal@yahoo.com
END:VEVENT
BEGIN:VEVENT
DTSTART;TZID=America/New_York:20180927T190000
DTEND;TZID=America/New_York:20180927T210000
DTSTAMP:20260423T062116
CREATED:20180814T155635Z
LAST-MODIFIED:20180814T155635Z
UID:5532-1538074800-1538082000@www.rockumchurch.com
SUMMARY:Leap of Faith Rehearsal
DESCRIPTION:Rehearsals for our Leap of Faith Concert on Saturday\, October 27\, 2018.  Rehearsals are every Thursday and every other Tuesday.
URL:https://www.rockumchurch.com/event/leap-of-faith-rehearsal-2018-09-27/
LOCATION:Rockville United Methodist Church\, 142 Grove Street\, Rockville\, CT\, 06066\, United States
CATEGORIES:Community Events,Music,Planning,RUMC Events,Volunteer Opportunity
END:VEVENT
BEGIN:VEVENT
DTSTART;TZID=America/New_York:20180925T190000
DTEND;TZID=America/New_York:20180925T210000
DTSTAMP:20260423T062116
CREATED:20180906T174006Z
LAST-MODIFIED:20180906T174006Z
UID:5639-1537902000-1537909200@www.rockumchurch.com
SUMMARY:Women's Sectional Rehearsal
DESCRIPTION:  \n \nWomen’s rehearsal for the Leap of Faith Concert.
URL:https://www.rockumchurch.com/event/mens-sectional-rehearsal-2018-09-25/
LOCATION:Rockville United Methodist Church\, 142 Grove Street\, Rockville\, CT\, 06066\, United States
CATEGORIES:Music,Planning
END:VEVENT
BEGIN:VEVENT
DTSTART;TZID=America/New_York:20180920T190000
DTEND;TZID=America/New_York:20180920T210000
DTSTAMP:20260423T062116
CREATED:20180814T155635Z
LAST-MODIFIED:20180814T160153Z
UID:5525-1537470000-1537477200@www.rockumchurch.com
SUMMARY:Leap of Faith Rehearsal
DESCRIPTION:Rehearsals for our Leap of Faith Concert on Saturday\, October 27\, 2018.  Rehearsals are every Thursday and every other Tuesday.
URL:https://www.rockumchurch.com/event/leap-of-faith-rehearsal/
LOCATION:Rockville United Methodist Church\, 142 Grove Street\, Rockville\, CT\, 06066\, United States
CATEGORIES:Community Events,Music,Planning,RUMC Events,Volunteer Opportunity
END:VEVENT
BEGIN:VEVENT
DTSTART;TZID=America/New_York:20180918T190000
DTEND;TZID=America/New_York:20180918T210000
DTSTAMP:20260423T062116
CREATED:20180906T174804Z
LAST-MODIFIED:20180906T174804Z
UID:5642-1537297200-1537304400@www.rockumchurch.com
SUMMARY:Men's Sectional Rehearsal
DESCRIPTION:Men’s rehearsal for the Leap of Faith Concert. \n 
URL:https://www.rockumchurch.com/event/mens-sectional-rehearsal-2/
LOCATION:Rockville United Methodist Church\, 142 Grove Street\, Rockville\, CT\, 06066\, United States
CATEGORIES:Music,Planning
END:VEVENT
BEGIN:VEVENT
DTSTART;TZID=America/New_York:20180916T110000
DTEND;TZID=America/New_York:20180916T120000
DTSTAMP:20260423T062116
CREATED:20180906T175112Z
LAST-MODIFIED:20180906T175112Z
UID:5648-1537095600-1537099200@www.rockumchurch.com
SUMMARY:Church Council
DESCRIPTION:
URL:https://www.rockumchurch.com/event/church-council-5/
LOCATION:Rockville United Methodist Church\, 142 Grove Street\, Rockville\, CT\, 06066\, United States
CATEGORIES:Planning
ORGANIZER;CN="Sue Lessoff":MAILTO:lessst#snet.net
END:VEVENT
BEGIN:VEVENT
DTSTART;TZID=America/New_York:20180916T110000
DTEND;TZID=America/New_York:20180916T113000
DTSTAMP:20260423T062116
CREATED:20180911T163945Z
LAST-MODIFIED:20180911T164309Z
UID:5661-1537095600-1537097400@www.rockumchurch.com
SUMMARY:Youth Bells Rehearsal
DESCRIPTION:Please join us as we begin Youth Bells Rehearsal for the 2018 Holiday Season.  Open to Youth and adults 5th grade and up.  First rehearsal is September 16th after service until 11:30 am in the music room. \n 
URL:https://www.rockumchurch.com/event/youth-bells-rehearsal/
LOCATION:Rockville United Methodist Church\, 142 Grove Street\, Rockville\, CT\, 06066\, United States
CATEGORIES:Music,Planning
ORGANIZER;CN="Allison Corne":MAILTO:dupreesgal@yahoo.com
END:VEVENT
BEGIN:VEVENT
DTSTART;TZID=America/New_York:20180913T190000
DTEND;TZID=America/New_York:20180913T210000
DTSTAMP:20260423T062116
CREATED:20180814T160752Z
LAST-MODIFIED:20180814T160752Z
UID:5540-1536865200-1536872400@www.rockumchurch.com
SUMMARY:Leap of Faith Concert Rehearsal
DESCRIPTION:Singers are needed for our Leap of Faith Concert on Saturday\, October 27\, 2018. Rehearsals are every Thursday and every other Tuesday.  You don’t need to be a Methodist\, just have a sense of fun.  
URL:https://www.rockumchurch.com/event/leap-of-faith-concert-rehearsal-2018-09-13/
LOCATION:Rockville United Methodist Church\, 142 Grove Street\, Rockville\, CT\, 06066\, United States
CATEGORIES:Community Events,Music,Planning,RUMC Events,Volunteer Opportunity
END:VEVENT
BEGIN:VEVENT
DTSTART;TZID=America/New_York:20180911T190000
DTEND;TZID=America/New_York:20180911T210000
DTSTAMP:20260423T062116
CREATED:20180906T174006Z
LAST-MODIFIED:20180906T174228Z
UID:5633-1536692400-1536699600@www.rockumchurch.com
SUMMARY:Women's Sectional Rehearsal
DESCRIPTION:  \n \nWomen’s rehearsal for the Leap of Faith Concert.
URL:https://www.rockumchurch.com/event/mens-sectional-rehearsal/
LOCATION:Rockville United Methodist Church\, 142 Grove Street\, Rockville\, CT\, 06066\, United States
CATEGORIES:Music,Planning
END:VEVENT
BEGIN:VEVENT
DTSTART;TZID=America/New_York:20180906T190000
DTEND;TZID=America/New_York:20180906T210000
DTSTAMP:20260423T062116
CREATED:20180814T160752Z
LAST-MODIFIED:20180814T160752Z
UID:5539-1536260400-1536267600@www.rockumchurch.com
SUMMARY:Leap of Faith Concert Rehearsal
DESCRIPTION:Singers are needed for our Leap of Faith Concert on Saturday\, October 27\, 2018. Rehearsals are every Thursday and every other Tuesday.  You don’t need to be a Methodist\, just have a sense of fun.  
URL:https://www.rockumchurch.com/event/leap-of-faith-concert-rehearsal-2018-09-06/
LOCATION:Rockville United Methodist Church\, 142 Grove Street\, Rockville\, CT\, 06066\, United States
CATEGORIES:Community Events,Music,Planning,RUMC Events,Volunteer Opportunity
END:VEVENT
BEGIN:VEVENT
DTSTART;TZID=America/New_York:20180906T133000
DTEND;TZID=America/New_York:20180906T143000
DTSTAMP:20260423T062116
CREATED:20180906T175305Z
LAST-MODIFIED:20180906T175519Z
UID:5650-1536240600-1536244200@www.rockumchurch.com
SUMMARY:Refugee Meeting
DESCRIPTION:
URL:https://www.rockumchurch.com/event/sprc-2/
LOCATION:Rockville United Methodist Church\, 142 Grove Street\, Rockville\, CT\, 06066\, United States
CATEGORIES:Planning,Volunteer Opportunity
ORGANIZER;CN="Stan Culy":MAILTO:stan.culy@gmail.com
END:VEVENT
BEGIN:VEVENT
DTSTART;TZID=America/New_York:20180830T190000
DTEND;TZID=America/New_York:20180830T210000
DTSTAMP:20260423T062116
CREATED:20180814T160752Z
LAST-MODIFIED:20180814T160752Z
UID:5537-1535655600-1535662800@www.rockumchurch.com
SUMMARY:Leap of Faith Concert Rehearsal
DESCRIPTION:Singers are needed for our Leap of Faith Concert on Saturday\, October 27\, 2018. Rehearsals are every Thursday and every other Tuesday.  You don’t need to be a Methodist\, just have a sense of fun.  
URL:https://www.rockumchurch.com/event/leap-of-faith-concert-rehearsal/
LOCATION:Rockville United Methodist Church\, 142 Grove Street\, Rockville\, CT\, 06066\, United States
CATEGORIES:Community Events,Music,Planning,RUMC Events,Volunteer Opportunity
END:VEVENT
BEGIN:VEVENT
DTSTART;TZID=America/New_York:20180708T113000
DTEND;TZID=America/New_York:20180708T123000
DTSTAMP:20260423T062116
CREATED:20180515T181535Z
LAST-MODIFIED:20180515T181535Z
UID:5243-1531049400-1531053000@www.rockumchurch.com
SUMMARY:Church Council
DESCRIPTION:
URL:https://www.rockumchurch.com/event/church-council-4/
LOCATION:Rockville United Methodist Church\, 142 Grove Street\, Rockville\, CT\, 06066\, United States
CATEGORIES:Planning
ORGANIZER;CN="Sue Lessoff":MAILTO:lessst#snet.net
END:VEVENT
BEGIN:VEVENT
DTSTART;TZID=America/New_York:20180610T113000
DTEND;TZID=America/New_York:20180610T130000
DTSTAMP:20260423T062116
CREATED:20180531T154916Z
LAST-MODIFIED:20180531T154916Z
UID:5299-1528630200-1528635600@www.rockumchurch.com
SUMMARY:Women's Breakfast Brunch
DESCRIPTION:at Mitchell’s
URL:https://www.rockumchurch.com/event/womens-breakfast-brunch/
LOCATION:Mitchell’s\, 1237 Hartford Tpke\, Vernon\, CT\, 06066\, United States
CATEGORIES:Planning,Volunteer Opportunity
ORGANIZER;CN="Judie Culy":MAILTO:judie.culy@gmail.com
END:VEVENT
BEGIN:VEVENT
DTSTART;TZID=America/New_York:20180608T190000
DTEND;TZID=America/New_York:20180609T080000
DTSTAMP:20260423T062116
CREATED:20180531T155312Z
LAST-MODIFIED:20180531T155312Z
UID:5302-1528484400-1528531200@www.rockumchurch.com
SUMMARY:SBS Sleepover
DESCRIPTION:Bring your sleeping bag and a snack or breakfast to share.  See Linda Shivers to sign up.
URL:https://www.rockumchurch.com/event/sbs-sleepover/
LOCATION:Rockville United Methodist Church\, 142 Grove Street\, Rockville\, CT\, 06066\, United States
CATEGORIES:Planning,Youth
ORGANIZER;CN="Linda Shivers":MAILTO:necsvga@aol.com
END:VEVENT
BEGIN:VEVENT
DTSTART;TZID=America/New_York:20180603T113000
DTEND;TZID=America/New_York:20180603T123000
DTSTAMP:20260423T062116
CREATED:20180515T181430Z
LAST-MODIFIED:20180515T181430Z
UID:5241-1528025400-1528029000@www.rockumchurch.com
SUMMARY:Church Council
DESCRIPTION:
URL:https://www.rockumchurch.com/event/church-council-3/
LOCATION:Rockville United Methodist Church\, 142 Grove Street\, Rockville\, CT\, 06066\, United States
CATEGORIES:Planning
ORGANIZER;CN="Sue Lessoff":MAILTO:lessst#snet.net
END:VEVENT
BEGIN:VEVENT
DTSTART;TZID=America/New_York:20180517T180000
DTEND;TZID=America/New_York:20180517T190000
DTSTAMP:20260423T062116
CREATED:20180504T215752Z
LAST-MODIFIED:20180504T215752Z
UID:5204-1526580000-1526583600@www.rockumchurch.com
SUMMARY:GSM Concert Planning Meeting
DESCRIPTION:
URL:https://www.rockumchurch.com/event/gsm-concert-planning-meeting/
LOCATION:Rockville United Methodist Church\, 142 Grove Street\, Rockville\, CT\, 06066\, United States
CATEGORIES:Planning
ORGANIZER;CN="Geoff Gerow":MAILTO:geoffgerow@gmail.com
END:VEVENT
BEGIN:VEVENT
DTSTART;TZID=America/New_York:20180506T110000
DTEND;TZID=America/New_York:20180506T120000
DTSTAMP:20260423T062116
CREATED:20180504T220146Z
LAST-MODIFIED:20180504T220146Z
UID:5211-1525604400-1525608000@www.rockumchurch.com
SUMMARY:Chruch Council
DESCRIPTION:
URL:https://www.rockumchurch.com/event/chruch-council/
LOCATION:Rockville United Methodist Church\, 142 Grove Street\, Rockville\, CT\, 06066\, United States
CATEGORIES:Planning
ORGANIZER;CN="Sue Lessoff":MAILTO:lessst#snet.net
END:VEVENT
BEGIN:VEVENT
DTSTART;TZID=America/New_York:20180218T110000
DTEND;TZID=America/New_York:20180218T120000
DTSTAMP:20260423T062116
CREATED:20180202T192837Z
LAST-MODIFIED:20180202T192837Z
UID:4973-1518951600-1518955200@www.rockumchurch.com
SUMMARY:Church Council
DESCRIPTION:
URL:https://www.rockumchurch.com/event/church-council-2/
LOCATION:Rockville United Methodist Church\, 142 Grove Street\, Rockville\, CT\, 06066\, United States
CATEGORIES:Planning
ORGANIZER;CN="Sue Lessoff":MAILTO:lessst#snet.net
END:VEVENT
BEGIN:VEVENT
DTSTART;TZID=America/New_York:20180207T190000
DTEND;TZID=America/New_York:20180207T200000
DTSTAMP:20260423T062116
CREATED:20180202T200639Z
LAST-MODIFIED:20180202T200639Z
UID:5004-1518030000-1518033600@www.rockumchurch.com
SUMMARY:Good Friday Walk Committee
DESCRIPTION:
URL:https://www.rockumchurch.com/event/good-friday-walk-committee/
LOCATION:Rockville United Methodist Church\, 142 Grove Street\, Rockville\, CT\, 06066\, United States
CATEGORIES:Planning
ORGANIZER;CN="Judie Culy":MAILTO:judie.culy@gmail.com
END:VEVENT
BEGIN:VEVENT
DTSTART;TZID=America/New_York:20180114T110000
DTEND;TZID=America/New_York:20180114T120000
DTSTAMP:20260423T062116
CREATED:20180111T164109Z
LAST-MODIFIED:20180111T164109Z
UID:4829-1515927600-1515931200@www.rockumchurch.com
SUMMARY:Trustees
DESCRIPTION:
URL:https://www.rockumchurch.com/event/trustees-2/
LOCATION:Rockville United Methodist Church\, 142 Grove Street\, Rockville\, CT\, 06066\, United States
CATEGORIES:Planning
ORGANIZER;CN="Don Ross":MAILTO:rumcoffice@sbcglobla.net
END:VEVENT
BEGIN:VEVENT
DTSTART;TZID=America/New_York:20180102T190000
DTEND;TZID=America/New_York:20180102T210000
DTSTAMP:20260423T062116
CREATED:20171130T202932Z
LAST-MODIFIED:20171130T202932Z
UID:4770-1514919600-1514926800@www.rockumchurch.com
SUMMARY:Church Conference
DESCRIPTION:Annual meeting with the District Superintendent.
URL:https://www.rockumchurch.com/event/church-conference/
LOCATION:Rockville United Methodist Church\, 142 Grove Street\, Rockville\, CT\, 06066\, United States
CATEGORIES:Planning
ORGANIZER;CN="Paul O'Neil":MAILTO:pastorpaul0202@gmail.com
END:VEVENT
BEGIN:VEVENT
DTSTART;TZID=America/New_York:20180102T180000
DTEND;TZID=America/New_York:20180102T190000
DTSTAMP:20260423T062116
CREATED:20171130T203104Z
LAST-MODIFIED:20171130T203104Z
UID:4773-1514916000-1514919600@www.rockumchurch.com
SUMMARY:SPRC
DESCRIPTION:with the DS \n  \n 
URL:https://www.rockumchurch.com/event/sprc/
LOCATION:Rockville United Methodist Church\, 142 Grove Street\, Rockville\, CT\, 06066\, United States
CATEGORIES:Planning
ORGANIZER;CN="Paul O'Neil":MAILTO:pastorpaul0202@gmail.com
END:VEVENT
BEGIN:VEVENT
DTSTART;TZID=America/New_York:20171217T110000
DTEND;TZID=America/New_York:20171217T120000
DTSTAMP:20260423T062116
CREATED:20171130T202642Z
LAST-MODIFIED:20171130T202642Z
UID:4767-1513508400-1513512000@www.rockumchurch.com
SUMMARY:Church Council
DESCRIPTION:
URL:https://www.rockumchurch.com/event/church-council/
LOCATION:Rockville United Methodist Church\, 142 Grove Street\, Rockville\, CT\, 06066\, United States
CATEGORIES:Planning
ORGANIZER;CN="Sue Lessoff":MAILTO:lessst#snet.net
END:VEVENT
BEGIN:VEVENT
DTSTART;TZID=America/New_York:20171214T160000
DTEND;TZID=America/New_York:20171214T170000
DTSTAMP:20260423T062116
CREATED:20171201T183528Z
LAST-MODIFIED:20171201T183528Z
UID:4782-1513267200-1513270800@www.rockumchurch.com
SUMMARY:Seekers
DESCRIPTION:At Ray Clark’s House
URL:https://www.rockumchurch.com/event/seekers-2/
LOCATION:CT
CATEGORIES:Planning,Scripture
ORGANIZER;CN="Paul O'Neil":MAILTO:pastorpaul0202@gmail.com
END:VEVENT
BEGIN:VEVENT
DTSTART;TZID=America/New_York:20171126T110000
DTEND;TZID=America/New_York:20171126T130000
DTSTAMP:20260423T062116
CREATED:20171103T221003Z
LAST-MODIFIED:20171103T221003Z
UID:4707-1511694000-1511701200@www.rockumchurch.com
SUMMARY:Sunday School Teachers Meeting
DESCRIPTION:
URL:https://www.rockumchurch.com/event/sunday-school-teachers-meeting-2/
LOCATION:Rockville United Methodist Church\, 142 Grove Street\, Rockville\, CT\, 06066\, United States
CATEGORIES:Education,Planning
END:VEVENT
BEGIN:VEVENT
DTSTART;TZID=America/New_York:20171112T110000
DTEND;TZID=America/New_York:20171112T120000
DTSTAMP:20260423T062116
CREATED:20171103T215900Z
LAST-MODIFIED:20171103T215900Z
UID:4689-1510484400-1510488000@www.rockumchurch.com
SUMMARY:Trustees
DESCRIPTION:
URL:https://www.rockumchurch.com/event/trustees/
LOCATION:CT
CATEGORIES:Maintenance,Planning
ORGANIZER;CN="Don Ross":MAILTO:rumcoffice@sbcglobla.net
END:VEVENT
BEGIN:VEVENT
DTSTART;TZID=America/New_York:20171029T113000
DTEND;TZID=America/New_York:20171029T123000
DTSTAMP:20260423T062116
CREATED:20171012T173235Z
LAST-MODIFIED:20171012T173235Z
UID:4648-1509276600-1509280200@www.rockumchurch.com
SUMMARY:Sunday School Teachers' Meeting
DESCRIPTION:
URL:https://www.rockumchurch.com/event/sunday-school-teachers-meeting/
LOCATION:Rockville United Methodist Church\, 142 Grove Street\, Rockville\, CT\, 06066\, United States
CATEGORIES:Planning
ORGANIZER;CN="Linda Shivers":MAILTO:necsvga@aol.com
END:VEVENT
BEGIN:VEVENT
DTSTART;TZID=America/New_York:20171022T180000
DTEND;TZID=America/New_York:20171022T190000
DTSTAMP:20260423T062116
CREATED:20171012T170250Z
LAST-MODIFIED:20171012T174905Z
UID:4612-1508695200-1508698800@www.rockumchurch.com
SUMMARY:Trunk or Treat Planning
DESCRIPTION:
URL:https://www.rockumchurch.com/event/trunk-or-treat-planning/
LOCATION:Rockville United Methodist Church\, 142 Grove Street\, Rockville\, CT\, 06066\, United States
CATEGORIES:Planning,RUMC Events,Youth
ORGANIZER;CN="Linda Shivers":MAILTO:necsvga@aol.com
END:VEVENT
BEGIN:VEVENT
DTSTART;TZID=America/New_York:20171013T130000
DTEND;TZID=America/New_York:20171013T140000
DTSTAMP:20260423T062116
CREATED:20171012T175026Z
LAST-MODIFIED:20171012T175026Z
UID:4650-1507899600-1507903200@www.rockumchurch.com
SUMMARY:Dinner Church Meeting
DESCRIPTION:Planning meeting for the next dinner church.
URL:https://www.rockumchurch.com/event/dinner-church-meeting/
LOCATION:Rockville United Methodist Church\, 142 Grove Street\, Rockville\, CT\, 06066\, United States
CATEGORIES:food,Planning,Scripture
ORGANIZER;CN="Paul O'Neil":MAILTO:pastorpaul0202@gmail.com
END:VEVENT
END:VCALENDAR