BEGIN:VCALENDAR
VERSION:2.0
PRODID:-//Rockville United Methodist Church - ECPv6.15.20//NONSGML v1.0//EN
CALSCALE:GREGORIAN
METHOD:PUBLISH
X-WR-CALNAME:Rockville United Methodist Church
X-ORIGINAL-URL:https://www.rockumchurch.com
X-WR-CALDESC:Events for Rockville United Methodist Church
REFRESH-INTERVAL;VALUE=DURATION:PT1H
X-Robots-Tag:noindex
X-PUBLISHED-TTL:PT1H
BEGIN:VTIMEZONE
TZID:America/New_York
BEGIN:DAYLIGHT
TZOFFSETFROM:-0500
TZOFFSETTO:-0400
TZNAME:EDT
DTSTART:20170312T070000
END:DAYLIGHT
BEGIN:STANDARD
TZOFFSETFROM:-0400
TZOFFSETTO:-0500
TZNAME:EST
DTSTART:20171105T060000
END:STANDARD
BEGIN:DAYLIGHT
TZOFFSETFROM:-0500
TZOFFSETTO:-0400
TZNAME:EDT
DTSTART:20180311T070000
END:DAYLIGHT
BEGIN:STANDARD
TZOFFSETFROM:-0400
TZOFFSETTO:-0500
TZNAME:EST
DTSTART:20181104T060000
END:STANDARD
BEGIN:DAYLIGHT
TZOFFSETFROM:-0500
TZOFFSETTO:-0400
TZNAME:EDT
DTSTART:20190310T070000
END:DAYLIGHT
BEGIN:STANDARD
TZOFFSETFROM:-0400
TZOFFSETTO:-0500
TZNAME:EST
DTSTART:20191103T060000
END:STANDARD
BEGIN:DAYLIGHT
TZOFFSETFROM:-0500
TZOFFSETTO:-0400
TZNAME:EDT
DTSTART:20200308T070000
END:DAYLIGHT
BEGIN:STANDARD
TZOFFSETFROM:-0400
TZOFFSETTO:-0500
TZNAME:EST
DTSTART:20201101T060000
END:STANDARD
END:VTIMEZONE
BEGIN:VEVENT
DTSTART;TZID=America/New_York:20190904T180000
DTEND;TZID=America/New_York:20190904T190000
DTSTAMP:20260422T220939
CREATED:20190830T185608Z
LAST-MODIFIED:20190830T185608Z
UID:7031-1567620000-1567623600@www.rockumchurch.com
SUMMARY:Finance Committee
DESCRIPTION:
URL:https://www.rockumchurch.com/event/finance-committee-2/
LOCATION:Rockville United Methodist Church\, 142 Grove Street\, Rockville\, CT\, 06066\, United States
CATEGORIES:Planning
ORGANIZER;CN="Judie Culy":MAILTO:judie.culy@gmail.com
END:VEVENT
BEGIN:VEVENT
DTSTART;TZID=America/New_York:20190825T111500
DTEND;TZID=America/New_York:20190825T123000
DTSTAMP:20260422T220939
CREATED:20190730T182457Z
LAST-MODIFIED:20190730T182553Z
UID:7001-1566731700-1566736200@www.rockumchurch.com
SUMMARY:Church Council
DESCRIPTION:
URL:https://www.rockumchurch.com/event/church-council-11/
LOCATION:Rockville United Methodist Church\, 142 Grove Street\, Rockville\, CT\, 06066\, United States
CATEGORIES:Planning
ORGANIZER;CN="Sue Lessoff":MAILTO:lessst#snet.net
END:VEVENT
BEGIN:VEVENT
DTSTART;TZID=America/New_York:20190331T110000
DTEND;TZID=America/New_York:20190331T120000
DTSTAMP:20260422T220939
CREATED:20190312T183057Z
LAST-MODIFIED:20190312T183057Z
UID:6691-1554030000-1554033600@www.rockumchurch.com
SUMMARY:Church Council
DESCRIPTION:Church Council\nMarch 31\, 2019\n11:00 am
URL:https://www.rockumchurch.com/event/church-council-10/
LOCATION:Rockville United Methodist Church\, 142 Grove Street\, Rockville\, CT\, 06066\, United States
CATEGORIES:Planning
ORGANIZER;CN="Sue Lessoff":MAILTO:lessst#snet.net
END:VEVENT
BEGIN:VEVENT
DTSTART;TZID=America/New_York:20190224T110000
DTEND;TZID=America/New_York:20190224T120000
DTSTAMP:20260422T220939
CREATED:20190131T223453Z
LAST-MODIFIED:20190131T223512Z
UID:6599-1551006000-1551009600@www.rockumchurch.com
SUMMARY:Church Council
DESCRIPTION:
URL:https://www.rockumchurch.com/event/church-council-9/
LOCATION:Rockville United Methodist Church\, 142 Grove Street\, Rockville\, CT\, 06066\, United States
CATEGORIES:Planning
ORGANIZER;CN="Sue Lessoff":MAILTO:lessst#snet.net
END:VEVENT
BEGIN:VEVENT
DTSTART;TZID=America/New_York:20190217T110000
DTEND;TZID=America/New_York:20190217T120000
DTSTAMP:20260422T220939
CREATED:20190131T223344Z
LAST-MODIFIED:20190131T223344Z
UID:6595-1550401200-1550404800@www.rockumchurch.com
SUMMARY:Visitation Committee
DESCRIPTION:Send cards\, visit the homebound\, make a phone call…find out what it is all about. 
URL:https://www.rockumchurch.com/event/visitation-committee/
LOCATION:Rockville United Methodist Church\, 142 Grove Street\, Rockville\, CT\, 06066\, United States
CATEGORIES:Planning,Volunteer Opportunity
ORGANIZER;CN="Judie Culy":MAILTO:judie.culy@gmail.com
END:VEVENT
BEGIN:VEVENT
DTSTART;TZID=America/New_York:20190212T190000
DTEND;TZID=America/New_York:20190212T203000
DTSTAMP:20260422T220939
CREATED:20181129T193221Z
LAST-MODIFIED:20181129T193943Z
UID:5952-1549998000-1550003400@www.rockumchurch.com
SUMMARY:GFW Organizational Meeting
DESCRIPTION:Help us plan our multi-town\, 20-mile walk to benefit Sharing Inc. and Cornerstone Foundation.
URL:https://www.rockumchurch.com/event/gfw-organizational-meeting/
LOCATION:Rockville United Methodist Church\, 142 Grove Street\, Rockville\, CT\, 06066\, United States
CATEGORIES:Community Events,Fundraising,Planning,Volunteer Opportunity
ORGANIZER;CN="Judie Culy":MAILTO:judie.culy@gmail.com
END:VEVENT
BEGIN:VEVENT
DTSTART;TZID=America/New_York:20190206T190000
DTEND;TZID=America/New_York:20190206T200000
DTSTAMP:20260422T220939
CREATED:20190116T223403Z
LAST-MODIFIED:20190117T203117Z
UID:6559-1549479600-1549483200@www.rockumchurch.com
SUMMARY:Missions Meeting
DESCRIPTION:
URL:https://www.rockumchurch.com/event/missions-meeting/
LOCATION:Rockville United Methodist Church\, 142 Grove Street\, Rockville\, CT\, 06066\, United States
CATEGORIES:Planning
END:VEVENT
BEGIN:VEVENT
DTSTART;TZID=America/New_York:20190203T110000
DTEND;TZID=America/New_York:20190203T120000
DTSTAMP:20260422T220939
CREATED:20190131T222928Z
LAST-MODIFIED:20190131T222928Z
UID:6592-1549191600-1549195200@www.rockumchurch.com
SUMMARY:Trustees
DESCRIPTION:
URL:https://www.rockumchurch.com/event/trustees-5/
LOCATION:Rockville United Methodist Church\, 142 Grove Street\, Rockville\, CT\, 06066\, United States
CATEGORIES:Maintenance,Planning
ORGANIZER;CN="Don Ross":MAILTO:rumcoffice@sbcglobla.net
END:VEVENT
BEGIN:VEVENT
DTSTART;TZID=America/New_York:20190201T190000
DTEND;TZID=America/New_York:20190202T080000
DTSTAMP:20260422T220939
CREATED:20190115T173943Z
LAST-MODIFIED:20190115T173943Z
UID:6545-1549047600-1549094400@www.rockumchurch.com
SUMMARY:Youth Sleepover
DESCRIPTION:Bring a friend for some fun activities.  We will also put the finishing touch on our Youth Sunday Service. \nGrab your sleeping bag and pillow and bring a breakfast or snack item to share. \n 
URL:https://www.rockumchurch.com/event/youth-sleepover/
LOCATION:Rockville United Methodist Church\, 142 Grove Street\, Rockville\, CT\, 06066\, United States
CATEGORIES:Planning,Youth
ORGANIZER;CN="Linda Shivers":MAILTO:necsvga@aol.com
END:VEVENT
BEGIN:VEVENT
DTSTART;TZID=America/New_York:20190127T111500
DTEND;TZID=America/New_York:20190127T123000
DTSTAMP:20260422T220939
CREATED:20190104T172826Z
LAST-MODIFIED:20190104T172826Z
UID:6451-1548587700-1548592200@www.rockumchurch.com
SUMMARY:Church Council
DESCRIPTION:
URL:https://www.rockumchurch.com/event/church-council-8/
LOCATION:Rockville United Methodist Church\, 142 Grove Street\, Rockville\, CT\, 06066\, United States
CATEGORIES:Planning
ORGANIZER;CN="Sue Lessoff":MAILTO:lessst#snet.net
END:VEVENT
BEGIN:VEVENT
DTSTART;TZID=America/New_York:20190127T110000
DTEND;TZID=America/New_York:20190127T120000
DTSTAMP:20260422T220939
CREATED:20190115T172356Z
LAST-MODIFIED:20190115T172356Z
UID:6540-1548586800-1548590400@www.rockumchurch.com
SUMMARY:Teachers' Meeting
DESCRIPTION:
URL:https://www.rockumchurch.com/event/teachers-meeting/
LOCATION:Rockville United Methodist Church\, 142 Grove Street\, Rockville\, CT\, 06066\, United States
CATEGORIES:Education,Planning
ORGANIZER;CN="Linda Shivers":MAILTO:necsvga@aol.com
END:VEVENT
BEGIN:VEVENT
DTSTART;TZID=America/New_York:20190120T113000
DTEND;TZID=America/New_York:20190120T130000
DTSTAMP:20260422T220939
CREATED:20190104T172549Z
LAST-MODIFIED:20190104T172549Z
UID:6447-1547983800-1547989200@www.rockumchurch.com
SUMMARY:SPRC
DESCRIPTION:
URL:https://www.rockumchurch.com/event/sprc-4/
LOCATION:Rockville United Methodist Church\, 142 Grove Street\, Rockville\, CT\, 06066\, United States
CATEGORIES:Planning
ORGANIZER;CN="Sandy Gallup":MAILTO:sgallups139@comcast.net
END:VEVENT
BEGIN:VEVENT
DTSTART;TZID=America/New_York:20190120T110000
DTEND;TZID=America/New_York:20190120T120000
DTSTAMP:20260422T220939
CREATED:20190115T172236Z
LAST-MODIFIED:20190115T172236Z
UID:6538-1547982000-1547985600@www.rockumchurch.com
SUMMARY:Trustees
DESCRIPTION:
URL:https://www.rockumchurch.com/event/trustees-4/
LOCATION:Rockville United Methodist Church\, 142 Grove Street\, Rockville\, CT\, 06066\, United States
CATEGORIES:Planning
END:VEVENT
BEGIN:VEVENT
DTSTART;TZID=America/New_York:20190118T180000
DTEND;TZID=America/New_York:20190118T203000
DTSTAMP:20260422T220939
CREATED:20190104T171053Z
LAST-MODIFIED:20190104T171053Z
UID:6437-1547834400-1547843400@www.rockumchurch.com
SUMMARY:Youth Group Meeting
DESCRIPTION:
URL:https://www.rockumchurch.com/event/youth-group-meeting/
LOCATION:Rockville United Methodist Church\, 142 Grove Street\, Rockville\, CT\, 06066\, United States
CATEGORIES:Planning,Youth
ORGANIZER;CN="Linda Shivers":MAILTO:necsvga@aol.com
END:VEVENT
BEGIN:VEVENT
DTSTART;TZID=America/New_York:20190117T174500
DTEND;TZID=America/New_York:20190117T183000
DTSTAMP:20260422T220939
CREATED:20190115T172120Z
LAST-MODIFIED:20190115T172120Z
UID:6536-1547747100-1547749800@www.rockumchurch.com
SUMMARY:Worship Comittee
DESCRIPTION:
URL:https://www.rockumchurch.com/event/worship-comittee/
LOCATION:Rockville United Methodist Church\, 142 Grove Street\, Rockville\, CT\, 06066\, United States
CATEGORIES:Planning
END:VEVENT
BEGIN:VEVENT
DTSTART;TZID=America/New_York:20190116T160000
DTEND;TZID=America/New_York:20190116T170000
DTSTAMP:20260422T220939
CREATED:20190115T171940Z
LAST-MODIFIED:20190115T171940Z
UID:6534-1547654400-1547658000@www.rockumchurch.com
SUMMARY:Lenten Mission Meeting
DESCRIPTION:
URL:https://www.rockumchurch.com/event/lenten-mission-meeting/
LOCATION:Rockville United Methodist Church\, 142 Grove Street\, Rockville\, CT\, 06066\, United States
CATEGORIES:Planning
END:VEVENT
BEGIN:VEVENT
DTSTART;TZID=America/New_York:20190113T113000
DTEND;TZID=America/New_York:20190113T130000
DTSTAMP:20260422T220939
CREATED:20190104T171431Z
LAST-MODIFIED:20190104T171842Z
UID:6441-1547379000-1547384400@www.rockumchurch.com
SUMMARY:UMW Breakfast Meeting
DESCRIPTION:Rockville Untied Methodist Women will meet for breakfast at Mitchell’s Restaurant.  Meeting agenda will be covered during the meal.
URL:https://www.rockumchurch.com/event/umw-breakfast-meeting/
LOCATION:Mitchell’s\, 1237 Hartford Tpke\, Vernon\, CT\, 06066\, United States
CATEGORIES:food,Planning
ORGANIZER;CN="Judie Culy":MAILTO:judie.culy@gmail.com
END:VEVENT
BEGIN:VEVENT
DTSTART;TZID=America/New_York:20190106T110000
DTEND;TZID=America/New_York:20190106T120000
DTSTAMP:20260422T220939
CREATED:20190104T164524Z
LAST-MODIFIED:20190104T164524Z
UID:6411-1546772400-1546776000@www.rockumchurch.com
SUMMARY:Finance Update for All Church Members
DESCRIPTION:The Finance Committee will update all church members on the current condition of our budget and district mission shares shortfall.
URL:https://www.rockumchurch.com/event/finance-update-for-all-church-members/
LOCATION:Rockville United Methodist Church\, 142 Grove Street\, Rockville\, CT\, 06066\, United States
CATEGORIES:Fundraising,Planning
ORGANIZER;CN="Judie Culy":MAILTO:judie.culy@gmail.com
END:VEVENT
BEGIN:VEVENT
DTSTART;TZID=America/New_York:20181220T190000
DTEND;TZID=America/New_York:20181220T203000
DTSTAMP:20260422T220939
CREATED:20181109T021404Z
LAST-MODIFIED:20181213T210452Z
UID:5853-1545332400-1545337800@www.rockumchurch.com
SUMMARY:Senior Choir
DESCRIPTION:
URL:https://www.rockumchurch.com/event/senior-choir-7-2018-12-20/
LOCATION:Rockville United Methodist Church\, 142 Grove Street\, Rockville\, CT\, 06066\, United States
CATEGORIES:Music,Planning
END:VEVENT
BEGIN:VEVENT
DTSTART;TZID=America/New_York:20181216T110000
DTEND;TZID=America/New_York:20181216T113000
DTSTAMP:20260422T220939
CREATED:20180911T164530Z
LAST-MODIFIED:20180911T164530Z
UID:5676-1544958000-1544959800@www.rockumchurch.com
SUMMARY:Youth Bells Rehearsal
DESCRIPTION:Please join us as we begin Youth Bells Rehearsal for the 2018 Holiday Season.  Open to Youth and adults 5th grade and up.  First rehearsal is September 16th after service until 11:30 am in the music room.
URL:https://www.rockumchurch.com/event/youth-bells-rehearsal-2-2018-12-16/
LOCATION:Rockville United Methodist Church\, 142 Grove Street\, Rockville\, CT\, 06066\, United States
CATEGORIES:Music,Planning
ORGANIZER;CN="Allison Corne":MAILTO:dupreesgal@yahoo.com
END:VEVENT
BEGIN:VEVENT
DTSTART;TZID=America/New_York:20181213T190000
DTEND;TZID=America/New_York:20181213T203000
DTSTAMP:20260422T220939
CREATED:20181109T021404Z
LAST-MODIFIED:20181213T210452Z
UID:5852-1544727600-1544733000@www.rockumchurch.com
SUMMARY:Senior Choir
DESCRIPTION:
URL:https://www.rockumchurch.com/event/senior-choir-7-2018-12-13/
LOCATION:Rockville United Methodist Church\, 142 Grove Street\, Rockville\, CT\, 06066\, United States
CATEGORIES:Music,Planning
END:VEVENT
BEGIN:VEVENT
DTSTART;TZID=America/New_York:20181209T110000
DTEND;TZID=America/New_York:20181209T113000
DTSTAMP:20260422T220939
CREATED:20180911T164634Z
LAST-MODIFIED:20180911T164634Z
UID:5677-1544353200-1544355000@www.rockumchurch.com
SUMMARY:Youth Bells Rehearsal
DESCRIPTION:Please join us as we begin Youth Bells Rehearsal for the 2018 Holiday Season.  Open to Youth and adults 5th grade and up.  First rehearsal is September 16th after service until 11:30 am in the music room.
URL:https://www.rockumchurch.com/event/youth-bells-rehearsal-3/
LOCATION:Rockville United Methodist Church\, 142 Grove Street\, Rockville\, CT\, 06066\, United States
CATEGORIES:Music,Planning
ORGANIZER;CN="Allison Corne":MAILTO:dupreesgal@yahoo.com
END:VEVENT
BEGIN:VEVENT
DTSTART;TZID=America/New_York:20181206T190000
DTEND;TZID=America/New_York:20181206T203000
DTSTAMP:20260422T220939
CREATED:20181109T021404Z
LAST-MODIFIED:20181213T210452Z
UID:5851-1544122800-1544128200@www.rockumchurch.com
SUMMARY:Senior Choir
DESCRIPTION:
URL:https://www.rockumchurch.com/event/senior-choir-7-2018-12-06/
LOCATION:Rockville United Methodist Church\, 142 Grove Street\, Rockville\, CT\, 06066\, United States
CATEGORIES:Music,Planning
END:VEVENT
BEGIN:VEVENT
DTSTART;TZID=America/New_York:20181202T110000
DTEND;TZID=America/New_York:20181202T113000
DTSTAMP:20260422T220939
CREATED:20180911T164530Z
LAST-MODIFIED:20180911T164530Z
UID:5675-1543748400-1543750200@www.rockumchurch.com
SUMMARY:Youth Bells Rehearsal
DESCRIPTION:Please join us as we begin Youth Bells Rehearsal for the 2018 Holiday Season.  Open to Youth and adults 5th grade and up.  First rehearsal is September 16th after service until 11:30 am in the music room.
URL:https://www.rockumchurch.com/event/youth-bells-rehearsal-2-2018-12-02/
LOCATION:Rockville United Methodist Church\, 142 Grove Street\, Rockville\, CT\, 06066\, United States
CATEGORIES:Music,Planning
ORGANIZER;CN="Allison Corne":MAILTO:dupreesgal@yahoo.com
END:VEVENT
BEGIN:VEVENT
DTSTART;TZID=America/New_York:20181129T190000
DTEND;TZID=America/New_York:20181129T203000
DTSTAMP:20260422T220939
CREATED:20181109T021404Z
LAST-MODIFIED:20181213T210452Z
UID:5849-1543518000-1543523400@www.rockumchurch.com
SUMMARY:Senior Choir
DESCRIPTION:
URL:https://www.rockumchurch.com/event/senior-choir-7/
LOCATION:Rockville United Methodist Church\, 142 Grove Street\, Rockville\, CT\, 06066\, United States
CATEGORIES:Music,Planning
END:VEVENT
BEGIN:VEVENT
DTSTART;TZID=America/New_York:20181118T110000
DTEND;TZID=America/New_York:20181118T120000
DTSTAMP:20260422T220939
CREATED:20181109T020714Z
LAST-MODIFIED:20181109T020714Z
UID:5840-1542538800-1542542400@www.rockumchurch.com
SUMMARY:Church Council
DESCRIPTION:
URL:https://www.rockumchurch.com/event/church-council-7/
LOCATION:Rockville United Methodist Church\, 142 Grove Street\, Rockville\, CT\, 06066\, United States
CATEGORIES:Planning
ORGANIZER;CN="Sue Lessoff":MAILTO:lessst#snet.net
END:VEVENT
BEGIN:VEVENT
DTSTART;TZID=America/New_York:20181118T110000
DTEND;TZID=America/New_York:20181118T113000
DTSTAMP:20260422T220939
CREATED:20180911T164530Z
LAST-MODIFIED:20180911T164530Z
UID:5673-1542538800-1542540600@www.rockumchurch.com
SUMMARY:Youth Bells Rehearsal
DESCRIPTION:Please join us as we begin Youth Bells Rehearsal for the 2018 Holiday Season.  Open to Youth and adults 5th grade and up.  First rehearsal is September 16th after service until 11:30 am in the music room.
URL:https://www.rockumchurch.com/event/youth-bells-rehearsal-2/
LOCATION:Rockville United Methodist Church\, 142 Grove Street\, Rockville\, CT\, 06066\, United States
CATEGORIES:Music,Planning
ORGANIZER;CN="Allison Corne":MAILTO:dupreesgal@yahoo.com
END:VEVENT
BEGIN:VEVENT
DTSTART;TZID=America/New_York:20181115T190000
DTEND;TZID=America/New_York:20181115T203000
DTSTAMP:20260422T220939
CREATED:20181109T013739Z
LAST-MODIFIED:20181109T013739Z
UID:5813-1542308400-1542313800@www.rockumchurch.com
SUMMARY:Senior Choir
DESCRIPTION:Rehearsal for Sunday’s Choir performance.
URL:https://www.rockumchurch.com/event/senior-choir-6-2018-11-15/
LOCATION:Rockville United Methodist Church\, 142 Grove Street\, Rockville\, CT\, 06066\, United States
CATEGORIES:Music,Planning
END:VEVENT
BEGIN:VEVENT
DTSTART;TZID=America/New_York:20181111T110000
DTEND;TZID=America/New_York:20181111T120000
DTSTAMP:20260422T220939
CREATED:20181109T021013Z
LAST-MODIFIED:20181109T021013Z
UID:5844-1541934000-1541937600@www.rockumchurch.com
SUMMARY:SPRC
DESCRIPTION:
URL:https://www.rockumchurch.com/event/sprc-3/
LOCATION:Rockville United Methodist Church\, 142 Grove Street\, Rockville\, CT\, 06066\, United States
CATEGORIES:Planning
ORGANIZER;CN="Sandy Gallup":MAILTO:sgallups139@comcast.net
END:VEVENT
BEGIN:VEVENT
DTSTART;TZID=America/New_York:20181111T110000
DTEND;TZID=America/New_York:20181111T120000
DTSTAMP:20260422T220939
CREATED:20181109T020817Z
LAST-MODIFIED:20181109T020817Z
UID:5842-1541934000-1541937600@www.rockumchurch.com
SUMMARY:Trustees
DESCRIPTION:
URL:https://www.rockumchurch.com/event/trustees-3/
LOCATION:Rockville United Methodist Church\, 142 Grove Street\, Rockville\, CT\, 06066\, United States
CATEGORIES:Maintenance,Planning
ORGANIZER;CN="Don Ross":MAILTO:rumcoffice@sbcglobla.net
END:VEVENT
END:VCALENDAR