BEGIN:VCALENDAR
VERSION:2.0
PRODID:-//Rockville United Methodist Church - ECPv6.15.20//NONSGML v1.0//EN
CALSCALE:GREGORIAN
METHOD:PUBLISH
X-ORIGINAL-URL:https://www.rockumchurch.com
X-WR-CALDESC:Events for Rockville United Methodist Church
REFRESH-INTERVAL;VALUE=DURATION:PT1H
X-Robots-Tag:noindex
X-PUBLISHED-TTL:PT1H
BEGIN:VTIMEZONE
TZID:America/New_York
BEGIN:DAYLIGHT
TZOFFSETFROM:-0500
TZOFFSETTO:-0400
TZNAME:EDT
DTSTART:20180311T070000
END:DAYLIGHT
BEGIN:STANDARD
TZOFFSETFROM:-0400
TZOFFSETTO:-0500
TZNAME:EST
DTSTART:20181104T060000
END:STANDARD
BEGIN:DAYLIGHT
TZOFFSETFROM:-0500
TZOFFSETTO:-0400
TZNAME:EDT
DTSTART:20190310T070000
END:DAYLIGHT
BEGIN:STANDARD
TZOFFSETFROM:-0400
TZOFFSETTO:-0500
TZNAME:EST
DTSTART:20191103T060000
END:STANDARD
BEGIN:DAYLIGHT
TZOFFSETFROM:-0500
TZOFFSETTO:-0400
TZNAME:EDT
DTSTART:20200308T070000
END:DAYLIGHT
BEGIN:STANDARD
TZOFFSETFROM:-0400
TZOFFSETTO:-0500
TZNAME:EST
DTSTART:20201101T060000
END:STANDARD
BEGIN:DAYLIGHT
TZOFFSETFROM:-0500
TZOFFSETTO:-0400
TZNAME:EDT
DTSTART:20210314T070000
END:DAYLIGHT
BEGIN:STANDARD
TZOFFSETFROM:-0400
TZOFFSETTO:-0500
TZNAME:EST
DTSTART:20211107T060000
END:STANDARD
END:VTIMEZONE
BEGIN:VEVENT
DTSTART;TZID=America/New_York:20200326T190000
DTEND;TZID=America/New_York:20200326T210000
DTSTAMP:20260422T170755
CREATED:20200206T193510Z
LAST-MODIFIED:20200206T193510Z
UID:7480-1585249200-1585256400@www.rockumchurch.com
SUMMARY:Senior Choir
DESCRIPTION:The Senior Choir practices on Thursday nights; they sing during Sunday worship. 
URL:https://www.rockumchurch.com/event/senior-choir-16/
LOCATION:Rockville United Methodist Church\, 142 Grove Street\, Rockville\, CT\, 06066\, United States
CATEGORIES:Music,Planning
END:VEVENT
BEGIN:VEVENT
DTSTART;TZID=America/New_York:20200319T190000
DTEND;TZID=America/New_York:20200319T210000
DTSTAMP:20260422T170755
CREATED:20200206T193408Z
LAST-MODIFIED:20200206T193408Z
UID:7478-1584644400-1584651600@www.rockumchurch.com
SUMMARY:Senior Choir
DESCRIPTION:The Senior Choir practices on Thursday nights; they sing during Sunday worship. 
URL:https://www.rockumchurch.com/event/senior-choir-15/
LOCATION:Rockville United Methodist Church\, 142 Grove Street\, Rockville\, CT\, 06066\, United States
CATEGORIES:Music,Planning
END:VEVENT
BEGIN:VEVENT
DTSTART;TZID=America/New_York:20200312T190000
DTEND;TZID=America/New_York:20200312T210000
DTSTAMP:20260422T170755
CREATED:20200206T193315Z
LAST-MODIFIED:20200206T193315Z
UID:7476-1584039600-1584046800@www.rockumchurch.com
SUMMARY:Senior Choir
DESCRIPTION:The Senior Choir practices on Thursday nights; they sing during Sunday worship. 
URL:https://www.rockumchurch.com/event/senior-choir-14/
LOCATION:Rockville United Methodist Church\, 142 Grove Street\, Rockville\, CT\, 06066\, United States
CATEGORIES:Music,Planning
END:VEVENT
BEGIN:VEVENT
DTSTART;TZID=America/New_York:20200305T190000
DTEND;TZID=America/New_York:20200305T210000
DTSTAMP:20260422T170755
CREATED:20200206T193221Z
LAST-MODIFIED:20200206T193221Z
UID:7474-1583434800-1583442000@www.rockumchurch.com
SUMMARY:Senior Choir
DESCRIPTION:The Senior Choir practices on Thursday nights; they sing during Sunday worship. 
URL:https://www.rockumchurch.com/event/senior-choir-13/
LOCATION:Rockville United Methodist Church\, 142 Grove Street\, Rockville\, CT\, 06066\, United States
CATEGORIES:Music,Planning
END:VEVENT
BEGIN:VEVENT
DTSTART;TZID=America/New_York:20200301T110000
DTEND;TZID=America/New_York:20200301T120000
DTSTAMP:20260422T170755
CREATED:20200206T193638Z
LAST-MODIFIED:20200206T193638Z
UID:7482-1583060400-1583064000@www.rockumchurch.com
SUMMARY:SPRC
DESCRIPTION:
URL:https://www.rockumchurch.com/event/sprc-5/
LOCATION:Rockville United Methodist Church\, 142 Grove Street\, Rockville\, CT\, 06066\, United States
CATEGORIES:Planning
ORGANIZER;CN="Sandy Gallup":MAILTO:sgallups139@comcast.net
END:VEVENT
BEGIN:VEVENT
DTSTART;TZID=America/New_York:20200227T190000
DTEND;TZID=America/New_York:20200227T210000
DTSTAMP:20260422T170755
CREATED:20200206T193116Z
LAST-MODIFIED:20200206T193116Z
UID:7472-1582830000-1582837200@www.rockumchurch.com
SUMMARY:Senior Choir
DESCRIPTION:The Senior Choir practices on Thursday nights; they sing during Sunday worship. 
URL:https://www.rockumchurch.com/event/senior-choir-12/
LOCATION:Rockville United Methodist Church\, 142 Grove Street\, Rockville\, CT\, 06066\, United States
CATEGORIES:Music,Planning
END:VEVENT
BEGIN:VEVENT
DTSTART;TZID=America/New_York:20200220T190000
DTEND;TZID=America/New_York:20200220T210000
DTSTAMP:20260422T170755
CREATED:20200206T193032Z
LAST-MODIFIED:20200206T193032Z
UID:7470-1582225200-1582232400@www.rockumchurch.com
SUMMARY:Senior Choir
DESCRIPTION:The Senior Choir practices on Thursday nights; they sing during Sunday worship. 
URL:https://www.rockumchurch.com/event/senior-choir-11/
LOCATION:Rockville United Methodist Church\, 142 Grove Street\, Rockville\, CT\, 06066\, United States
CATEGORIES:Music,Planning
END:VEVENT
BEGIN:VEVENT
DTSTART;TZID=America/New_York:20200213T190000
DTEND;TZID=America/New_York:20200213T210000
DTSTAMP:20260422T170755
CREATED:20200206T192920Z
LAST-MODIFIED:20200206T192920Z
UID:7468-1581620400-1581627600@www.rockumchurch.com
SUMMARY:Senior Choir
DESCRIPTION:The Senior Choir practices on Thursday nights; they sing during Sunday worship. 
URL:https://www.rockumchurch.com/event/senior-choir-10/
LOCATION:Rockville United Methodist Church\, 142 Grove Street\, Rockville\, CT\, 06066\, United States
CATEGORIES:Music,Planning
END:VEVENT
BEGIN:VEVENT
DTSTART;TZID=America/New_York:20200206T190000
DTEND;TZID=America/New_York:20200206T210000
DTSTAMP:20260422T170755
CREATED:20200206T192833Z
LAST-MODIFIED:20200206T192833Z
UID:7466-1581015600-1581022800@www.rockumchurch.com
SUMMARY:Senior Choir
DESCRIPTION:The Senior Choir practices on Thursday nights; they sing during Sunday worship.
URL:https://www.rockumchurch.com/event/senior-choir-9/
LOCATION:Rockville United Methodist Church\, 142 Grove Street\, Rockville\, CT\, 06066\, United States
CATEGORIES:Music,Planning
END:VEVENT
BEGIN:VEVENT
DTSTART;TZID=America/New_York:20200205T190000
DTEND;TZID=America/New_York:20200205T200000
DTSTAMP:20260422T170755
CREATED:20200206T191708Z
LAST-MODIFIED:20200206T191708Z
UID:7452-1580929200-1580932800@www.rockumchurch.com
SUMMARY:Worship Committee
DESCRIPTION:
URL:https://www.rockumchurch.com/event/worship-committee-4/
LOCATION:Rockville United Methodist Church\, 142 Grove Street\, Rockville\, CT\, 06066\, United States
CATEGORIES:Planning
END:VEVENT
BEGIN:VEVENT
DTSTART;TZID=America/New_York:20191216T190000
DTEND;TZID=America/New_York:20191216T200000
DTSTAMP:20260422T170755
CREATED:20191206T175318Z
LAST-MODIFIED:20191206T175318Z
UID:7322-1576522800-1576526400@www.rockumchurch.com
SUMMARY:Finance Committee
DESCRIPTION:
URL:https://www.rockumchurch.com/event/finance-committee-3/
LOCATION:Rockville United Methodist Church\, 142 Grove Street\, Rockville\, CT\, 06066\, United States
CATEGORIES:Planning
END:VEVENT
BEGIN:VEVENT
DTSTART;TZID=America/New_York:20191207T090000
DTEND;TZID=America/New_York:20191207T120000
DTSTAMP:20260422T170755
CREATED:20191205T173307Z
LAST-MODIFIED:20191205T173307Z
UID:7284-1575709200-1575720000@www.rockumchurch.com
SUMMARY:Chruch Decorating Day
DESCRIPTION:Help us create our Christmas displays in the Sanctuary\, Fellowship Hall\, and Narthex.  All are welcome!
URL:https://www.rockumchurch.com/event/chruch-decorating-day/
LOCATION:Rockville United Methodist Church\, 142 Grove Street\, Rockville\, CT\, 06066\, United States
CATEGORIES:Planning,Volunteer Opportunity
END:VEVENT
BEGIN:VEVENT
DTSTART;TZID=America/New_York:20191117T113000
DTEND;TZID=America/New_York:20191117T123000
DTSTAMP:20260422T170755
CREATED:20191108T223550Z
LAST-MODIFIED:20191108T223550Z
UID:7271-1573990200-1573993800@www.rockumchurch.com
SUMMARY:Worship Committee
DESCRIPTION:
URL:https://www.rockumchurch.com/event/worship-committee-3/
LOCATION:Rockville United Methodist Church\, 142 Grove Street\, Rockville\, CT\, 06066\, United States
CATEGORIES:Music,Planning,Scripture
END:VEVENT
BEGIN:VEVENT
DTSTART;TZID=America/New_York:20191110T113000
DTEND;TZID=America/New_York:20191110T123000
DTSTAMP:20260422T170755
CREATED:20191108T223654Z
LAST-MODIFIED:20191108T223654Z
UID:7273-1573385400-1573389000@www.rockumchurch.com
SUMMARY:Church Council
DESCRIPTION:
URL:https://www.rockumchurch.com/event/church-council-12/
LOCATION:Rockville United Methodist Church\, 142 Grove Street\, Rockville\, CT\, 06066\, United States
CATEGORIES:Planning
ORGANIZER;CN="Judie Culy":MAILTO:judie.culy@gmail.com
END:VEVENT
BEGIN:VEVENT
DTSTART;TZID=America/New_York:20191110T110000
DTEND;TZID=America/New_York:20191110T120000
DTSTAMP:20260422T170755
CREATED:20191108T223759Z
LAST-MODIFIED:20191108T223759Z
UID:7275-1573383600-1573387200@www.rockumchurch.com
SUMMARY:Sunday School Teachers' Meeting
DESCRIPTION:
URL:https://www.rockumchurch.com/event/sunday-school-teachers-meeting-3/
LOCATION:Rockville United Methodist Church\, 142 Grove Street\, Rockville\, CT\, 06066\, United States
CATEGORIES:Planning,Youth
ORGANIZER;CN="Linda Shivers":MAILTO:necsvga@aol.com
END:VEVENT
BEGIN:VEVENT
DTSTART;TZID=America/New_York:20191029T190000
DTEND;TZID=America/New_York:20191029T210000
DTSTAMP:20260422T170755
CREATED:20190717T184151Z
LAST-MODIFIED:20191008T223310Z
UID:6933-1572375600-1572382800@www.rockumchurch.com
SUMMARY:Leap of Faith Rehearsal
DESCRIPTION:Only three days left until our Leap of Faith Concert Sunday morning at 10 am. \n \n  \n  \n 
URL:https://www.rockumchurch.com/event/leap-of-faith-rehearsal-2/
LOCATION:Rockville United Methodist Church\, 142 Grove Street\, Rockville\, CT\, 06066\, United States
CATEGORIES:Music,Planning
END:VEVENT
BEGIN:VEVENT
DTSTART;TZID=America/New_York:20191024T190000
DTEND;TZID=America/New_York:20191024T210000
DTSTAMP:20260422T170755
CREATED:20190717T184322Z
LAST-MODIFIED:20190717T184322Z
UID:6936-1571943600-1571950800@www.rockumchurch.com
SUMMARY:Leap of Faith Rehearsal
DESCRIPTION:
URL:https://www.rockumchurch.com/event/leap-of-faith-rehearsal-3/
LOCATION:Rockville United Methodist Church\, 142 Grove Street\, Rockville\, CT\, 06066\, United States
CATEGORIES:Music,Planning
END:VEVENT
BEGIN:VEVENT
DTSTART;TZID=America/New_York:20191022T190000
DTEND;TZID=America/New_York:20191022T210000
DTSTAMP:20260422T170755
CREATED:20190926T173155Z
LAST-MODIFIED:20190926T173347Z
UID:7108-1571770800-1571778000@www.rockumchurch.com
SUMMARY:Charge Conference
DESCRIPTION:DS Meeting with SPRC at 6pm \nAll Church Conference with the DS at 7 pm
URL:https://www.rockumchurch.com/event/charge-conference/
LOCATION:Rockville United Methodist Church\, 142 Grove Street\, Rockville\, CT\, 06066\, United States
CATEGORIES:Planning
ORGANIZER;CN="SeokCheol Shin":MAILTO:starcheol@gmail.com
END:VEVENT
BEGIN:VEVENT
DTSTART;TZID=America/New_York:20191017T190000
DTEND;TZID=America/New_York:20191017T210000
DTSTAMP:20260422T170755
CREATED:20190717T184501Z
LAST-MODIFIED:20190717T184501Z
UID:6939-1571338800-1571346000@www.rockumchurch.com
SUMMARY:Leap of Faith Rehearsal
DESCRIPTION:
URL:https://www.rockumchurch.com/event/leap-of-faith-rehearsal-4/
LOCATION:Rockville United Methodist Church\, 142 Grove Street\, Rockville\, CT\, 06066\, United States
CATEGORIES:Music,Planning
END:VEVENT
BEGIN:VEVENT
DTSTART;TZID=America/New_York:20191015T190000
DTEND;TZID=America/New_York:20191015T210000
DTSTAMP:20260422T170755
CREATED:20190926T182908Z
LAST-MODIFIED:20190926T182908Z
UID:7146-1571166000-1571173200@www.rockumchurch.com
SUMMARY:Men's Rehearsal
DESCRIPTION:
URL:https://www.rockumchurch.com/event/mens-rehearsal-2/
LOCATION:Rockville United Methodist Church\, 142 Grove Street\, Rockville\, CT\, 06066\, United States
CATEGORIES:Music,Planning
END:VEVENT
BEGIN:VEVENT
DTSTART;TZID=America/New_York:20191010T190000
DTEND;TZID=America/New_York:20191010T210000
DTSTAMP:20260422T170755
CREATED:20190717T184628Z
LAST-MODIFIED:20190717T184628Z
UID:6942-1570734000-1570741200@www.rockumchurch.com
SUMMARY:Leap of Faith Rehearsal
DESCRIPTION:
URL:https://www.rockumchurch.com/event/leap-of-faith-rehearsal-5/
LOCATION:Rockville United Methodist Church\, 142 Grove Street\, Rockville\, CT\, 06066\, United States
CATEGORIES:Music,Planning
END:VEVENT
BEGIN:VEVENT
DTSTART;TZID=America/New_York:20191008T190000
DTEND;TZID=America/New_York:20191008T210000
DTSTAMP:20260422T170755
CREATED:20190926T183142Z
LAST-MODIFIED:20190926T183142Z
UID:7150-1570561200-1570568400@www.rockumchurch.com
SUMMARY:Women's Rehearsal
DESCRIPTION:
URL:https://www.rockumchurch.com/event/womens-rehearsal/
LOCATION:Rockville United Methodist Church\, 142 Grove Street\, Rockville\, CT\, 06066\, United States
CATEGORIES:Music,Planning
END:VEVENT
BEGIN:VEVENT
DTSTART;TZID=America/New_York:20191006T113000
DTEND;TZID=America/New_York:20191006T130000
DTSTAMP:20260422T170755
CREATED:20190926T171348Z
LAST-MODIFIED:20190926T171348Z
UID:7100-1570361400-1570366800@www.rockumchurch.com
SUMMARY:UMW Breakfast Meeting
DESCRIPTION:Breakfast Meeting at Mitchell’s Restaurant 11:30 am. \nDiscussion will be on the Harvest Supper and Holiday Bazaar. \n  \n 
URL:https://www.rockumchurch.com/event/umw-breakfast-meeting-2/
LOCATION:Mitchell’s\, 1237 Hartford Tpke\, Vernon\, CT\, 06066\, United States
CATEGORIES:Planning
ORGANIZER;CN="Judie Culy":MAILTO:judie.culy@gmail.com
END:VEVENT
BEGIN:VEVENT
DTSTART;TZID=America/New_York:20191003T190000
DTEND;TZID=America/New_York:20191003T210000
DTSTAMP:20260422T170755
CREATED:20190717T184842Z
LAST-MODIFIED:20190717T184842Z
UID:6945-1570129200-1570136400@www.rockumchurch.com
SUMMARY:Leap of Faith Rehearsal
DESCRIPTION:
URL:https://www.rockumchurch.com/event/leap-of-faith-rehearsal-6/
LOCATION:Rockville United Methodist Church\, 142 Grove Street\, Rockville\, CT\, 06066\, United States
CATEGORIES:Music,Planning
END:VEVENT
BEGIN:VEVENT
DTSTART;TZID=America/New_York:20191001T190000
DTEND;TZID=America/New_York:20191001T210000
DTSTAMP:20260422T170755
CREATED:20190926T182804Z
LAST-MODIFIED:20190926T182804Z
UID:7144-1569956400-1569963600@www.rockumchurch.com
SUMMARY:Men's Rehearsal
DESCRIPTION:
URL:https://www.rockumchurch.com/event/mens-rehearsal/
LOCATION:Rockville United Methodist Church\, 142 Grove Street\, Rockville\, CT\, 06066\, United States
CATEGORIES:Music,Planning
END:VEVENT
BEGIN:VEVENT
DTSTART;TZID=America/New_York:20190924T190000
DTEND;TZID=America/New_York:20190924T210000
DTSTAMP:20260422T170755
CREATED:20190717T185007Z
LAST-MODIFIED:20190906T204513Z
UID:6951-1569351600-1569358800@www.rockumchurch.com
SUMMARY:Leap of Faith Rehearsal
DESCRIPTION:Full Choir Rehearsal \n 
URL:https://www.rockumchurch.com/event/leap-of-faith-rehearsal-7/
LOCATION:Rockville United Methodist Church\, 142 Grove Street\, Rockville\, CT\, 06066\, United States
CATEGORIES:Music,Planning
END:VEVENT
BEGIN:VEVENT
DTSTART;TZID=America/New_York:20190919T190000
DTEND;TZID=America/New_York:20190919T210000
DTSTAMP:20260422T170755
CREATED:20190717T185124Z
LAST-MODIFIED:20190717T185124Z
UID:6953-1568919600-1568926800@www.rockumchurch.com
SUMMARY:Leap of Faith Rehearsal
DESCRIPTION:
URL:https://www.rockumchurch.com/event/leap-of-faith-rehearsal-8/
LOCATION:Rockville United Methodist Church\, 142 Grove Street\, Rockville\, CT\, 06066\, United States
CATEGORIES:Music,Planning
END:VEVENT
BEGIN:VEVENT
DTSTART;TZID=America/New_York:20190912T190000
DTEND;TZID=America/New_York:20190912T210000
DTSTAMP:20260422T170755
CREATED:20190717T185229Z
LAST-MODIFIED:20190717T185229Z
UID:6955-1568314800-1568322000@www.rockumchurch.com
SUMMARY:Leap of Faith Rehearsal
DESCRIPTION:
URL:https://www.rockumchurch.com/event/leap-of-faith-rehearsal-9/
LOCATION:Rockville United Methodist Church\, 142 Grove Street\, Rockville\, CT\, 06066\, United States
CATEGORIES:Music,Planning
END:VEVENT
BEGIN:VEVENT
DTSTART;TZID=America/New_York:20190910T190000
DTEND;TZID=America/New_York:20190910T200000
DTSTAMP:20260422T170755
CREATED:20190906T205352Z
LAST-MODIFIED:20190906T205352Z
UID:7083-1568142000-1568145600@www.rockumchurch.com
SUMMARY:Men's Leap of Faith Rehearsal
DESCRIPTION:
URL:https://www.rockumchurch.com/event/mens-leap-of-faith-rehearsal/
LOCATION:Rockville United Methodist Church\, 142 Grove Street\, Rockville\, CT\, 06066\, United States
CATEGORIES:Music,Planning
END:VEVENT
BEGIN:VEVENT
DTSTART;TZID=America/New_York:20190905T190000
DTEND;TZID=America/New_York:20190905T210000
DTSTAMP:20260422T170755
CREATED:20190717T185504Z
LAST-MODIFIED:20190717T185504Z
UID:6957-1567710000-1567717200@www.rockumchurch.com
SUMMARY:Leap of Faith Rehearsal
DESCRIPTION:Practice begins tonight for our Leap of Faith Concert.  Rehearsals are Thursday nights with sectionals on Tuesday nights.  The concert will be Sunday morning\, November 3\, 2109 at 10 am. \n \n 
URL:https://www.rockumchurch.com/event/leap-of-faith-rehearsal-10/
LOCATION:Rockville United Methodist Church\, 142 Grove Street\, Rockville\, CT\, 06066\, United States
CATEGORIES:Music,Planning
END:VEVENT
END:VCALENDAR