BEGIN:VCALENDAR
VERSION:2.0
PRODID:-//Rockville United Methodist Church - ECPv6.15.20//NONSGML v1.0//EN
CALSCALE:GREGORIAN
METHOD:PUBLISH
X-ORIGINAL-URL:https://www.rockumchurch.com
X-WR-CALDESC:Events for Rockville United Methodist Church
REFRESH-INTERVAL;VALUE=DURATION:PT1H
X-Robots-Tag:noindex
X-PUBLISHED-TTL:PT1H
BEGIN:VTIMEZONE
TZID:America/New_York
BEGIN:DAYLIGHT
TZOFFSETFROM:-0500
TZOFFSETTO:-0400
TZNAME:EDT
DTSTART:20180311T070000
END:DAYLIGHT
BEGIN:STANDARD
TZOFFSETFROM:-0400
TZOFFSETTO:-0500
TZNAME:EST
DTSTART:20181104T060000
END:STANDARD
BEGIN:DAYLIGHT
TZOFFSETFROM:-0500
TZOFFSETTO:-0400
TZNAME:EDT
DTSTART:20190310T070000
END:DAYLIGHT
BEGIN:STANDARD
TZOFFSETFROM:-0400
TZOFFSETTO:-0500
TZNAME:EST
DTSTART:20191103T060000
END:STANDARD
BEGIN:DAYLIGHT
TZOFFSETFROM:-0500
TZOFFSETTO:-0400
TZNAME:EDT
DTSTART:20200308T070000
END:DAYLIGHT
BEGIN:STANDARD
TZOFFSETFROM:-0400
TZOFFSETTO:-0500
TZNAME:EST
DTSTART:20201101T060000
END:STANDARD
END:VTIMEZONE
BEGIN:VEVENT
DTSTART;TZID=America/New_York:20191015T113000
DTEND;TZID=America/New_York:20191015T153000
DTSTAMP:20260422T235718
CREATED:20190926T180527Z
LAST-MODIFIED:20190926T180527Z
UID:7122-1571139000-1571153400@www.rockumchurch.com
SUMMARY:Vernon Adult Education
DESCRIPTION:
URL:https://www.rockumchurch.com/event/vernon-adult-education-23/
LOCATION:Rockville United Methodist Church\, 142 Grove Street\, Rockville\, CT\, 06066\, United States
CATEGORIES:Education
ORGANIZER;CN="Svetlana Smith":MAILTO:svetlana.smith@vernonct.org
END:VEVENT
BEGIN:VEVENT
DTSTART;TZID=America/New_York:20191013T100000
DTEND;TZID=America/New_York:20191013T110000
DTSTAMP:20260422T235718
CREATED:20190104T160546Z
LAST-MODIFIED:20190104T160546Z
UID:6155-1570960800-1570964400@www.rockumchurch.com
SUMMARY:Sunday School
DESCRIPTION:Sunday school begins after the Children’s Message in our worship service.  \nSunday school is free and open to kids 3 years old to High School.  
URL:https://www.rockumchurch.com/event/sunday-school-6-2019-10-13/
LOCATION:Rockville United Methodist Church\, 142 Grove Street\, Rockville\, CT\, 06066\, United States
CATEGORIES:Education,Worship,Youth
ORGANIZER;CN="Linda Shivers":MAILTO:necsvga@aol.com
END:VEVENT
BEGIN:VEVENT
DTSTART;TZID=America/New_York:20191010T113000
DTEND;TZID=America/New_York:20191010T153000
DTSTAMP:20260422T235718
CREATED:20190926T180320Z
LAST-MODIFIED:20190926T180320Z
UID:7120-1570707000-1570721400@www.rockumchurch.com
SUMMARY:Vernon Adult Education
DESCRIPTION:
URL:https://www.rockumchurch.com/event/vernon-adult-education-22/
LOCATION:Rockville United Methodist Church\, 142 Grove Street\, Rockville\, CT\, 06066\, United States
CATEGORIES:Education
ORGANIZER;CN="Svetlana Smith":MAILTO:svetlana.smith@vernonct.org
END:VEVENT
BEGIN:VEVENT
DTSTART;TZID=America/New_York:20191009T113000
DTEND;TZID=America/New_York:20191009T153000
DTSTAMP:20260422T235718
CREATED:20190926T180216Z
LAST-MODIFIED:20190926T180216Z
UID:7118-1570620600-1570635000@www.rockumchurch.com
SUMMARY:Vernon Adult Education
DESCRIPTION:
URL:https://www.rockumchurch.com/event/vernon-adult-education-21/
LOCATION:Rockville United Methodist Church\, 142 Grove Street\, Rockville\, CT\, 06066\, United States
CATEGORIES:Education
ORGANIZER;CN="Svetlana Smith":MAILTO:svetlana.smith@vernonct.org
END:VEVENT
BEGIN:VEVENT
DTSTART;TZID=America/New_York:20191008T113000
DTEND;TZID=America/New_York:20191008T153000
DTSTAMP:20260422T235718
CREATED:20190926T180100Z
LAST-MODIFIED:20190926T180100Z
UID:7116-1570534200-1570548600@www.rockumchurch.com
SUMMARY:Vernon Adult Education
DESCRIPTION:
URL:https://www.rockumchurch.com/event/vernon-adult-education-20/
LOCATION:Rockville United Methodist Church\, 142 Grove Street\, Rockville\, CT\, 06066\, United States
CATEGORIES:Education
ORGANIZER;CN="Svetlana Smith":MAILTO:svetlana.smith@vernonct.org
END:VEVENT
BEGIN:VEVENT
DTSTART;TZID=America/New_York:20191006T100000
DTEND;TZID=America/New_York:20191006T110000
DTSTAMP:20260422T235718
CREATED:20190104T160546Z
LAST-MODIFIED:20190104T160546Z
UID:6154-1570356000-1570359600@www.rockumchurch.com
SUMMARY:Sunday School
DESCRIPTION:Sunday school begins after the Children’s Message in our worship service.  \nSunday school is free and open to kids 3 years old to High School.  
URL:https://www.rockumchurch.com/event/sunday-school-6-2019-10-06/
LOCATION:Rockville United Methodist Church\, 142 Grove Street\, Rockville\, CT\, 06066\, United States
CATEGORIES:Education,Worship,Youth
ORGANIZER;CN="Linda Shivers":MAILTO:necsvga@aol.com
END:VEVENT
BEGIN:VEVENT
DTSTART;TZID=America/New_York:20191003T113000
DTEND;TZID=America/New_York:20191003T153000
DTSTAMP:20260422T235718
CREATED:20190926T175931Z
LAST-MODIFIED:20190926T175931Z
UID:7114-1570102200-1570116600@www.rockumchurch.com
SUMMARY:Vernon Adult Education
DESCRIPTION:
URL:https://www.rockumchurch.com/event/vernon-adult-education-19/
LOCATION:Rockville United Methodist Church\, 142 Grove Street\, Rockville\, CT\, 06066\, United States
CATEGORIES:Education
ORGANIZER;CN="Svetlana Smith":MAILTO:svetlana.smith@vernonct.org
END:VEVENT
BEGIN:VEVENT
DTSTART;TZID=America/New_York:20191002T113000
DTEND;TZID=America/New_York:20191002T153000
DTSTAMP:20260422T235718
CREATED:20190926T175815Z
LAST-MODIFIED:20190926T175815Z
UID:7112-1570015800-1570030200@www.rockumchurch.com
SUMMARY:Vernon Adult Education
DESCRIPTION:
URL:https://www.rockumchurch.com/event/vernon-adult-education-18/
LOCATION:Rockville United Methodist Church\, 142 Grove Street\, Rockville\, CT\, 06066\, United States
CATEGORIES:Education
ORGANIZER;CN="Svetlana Smith":MAILTO:svetlana.smith@vernonct.org
END:VEVENT
BEGIN:VEVENT
DTSTART;TZID=America/New_York:20191001T113000
DTEND;TZID=America/New_York:20191001T153000
DTSTAMP:20260422T235718
CREATED:20190926T173900Z
LAST-MODIFIED:20190926T173900Z
UID:7110-1569929400-1569943800@www.rockumchurch.com
SUMMARY:Vernon Adult Ed
DESCRIPTION:
URL:https://www.rockumchurch.com/event/vernon-adult-ed-13/
LOCATION:Rockville United Methodist Church\, 142 Grove Street\, Rockville\, CT\, 06066\, United States
CATEGORIES:Community Events,Education
ORGANIZER;CN="Svetlana Smith":MAILTO:svetlana.smith@vernonct.org
END:VEVENT
BEGIN:VEVENT
DTSTART;TZID=America/New_York:20190929T100000
DTEND;TZID=America/New_York:20190929T110000
DTSTAMP:20260422T235718
CREATED:20190104T160546Z
LAST-MODIFIED:20190104T160546Z
UID:6153-1569751200-1569754800@www.rockumchurch.com
SUMMARY:Sunday School
DESCRIPTION:Sunday school begins after the Children’s Message in our worship service.  \nSunday school is free and open to kids 3 years old to High School.  
URL:https://www.rockumchurch.com/event/sunday-school-6-2019-09-29/
LOCATION:Rockville United Methodist Church\, 142 Grove Street\, Rockville\, CT\, 06066\, United States
CATEGORIES:Education,Worship,Youth
ORGANIZER;CN="Linda Shivers":MAILTO:necsvga@aol.com
END:VEVENT
BEGIN:VEVENT
DTSTART;TZID=America/New_York:20190926T114500
DTEND;TZID=America/New_York:20190926T150000
DTSTAMP:20260422T235718
CREATED:20190830T191452Z
LAST-MODIFIED:20190830T191452Z
UID:7057-1569498300-1569510000@www.rockumchurch.com
SUMMARY:Vernon Adult Ed
DESCRIPTION:
URL:https://www.rockumchurch.com/event/vernon-adult-ed-12/
LOCATION:Rockville United Methodist Church\, 142 Grove Street\, Rockville\, CT\, 06066\, United States
CATEGORIES:Education
ORGANIZER;CN="Svetlana Smith":MAILTO:svetlana.smith@vernonct.org
END:VEVENT
BEGIN:VEVENT
DTSTART;TZID=America/New_York:20190925T114500
DTEND;TZID=America/New_York:20190925T150000
DTSTAMP:20260422T235718
CREATED:20190830T191405Z
LAST-MODIFIED:20190830T191405Z
UID:7055-1569411900-1569423600@www.rockumchurch.com
SUMMARY:Vernon Adult Ed
DESCRIPTION:
URL:https://www.rockumchurch.com/event/vernon-adult-ed-11/
LOCATION:Rockville United Methodist Church\, 142 Grove Street\, Rockville\, CT\, 06066\, United States
CATEGORIES:Education
ORGANIZER;CN="Svetlana Smith":MAILTO:svetlana.smith@vernonct.org
END:VEVENT
BEGIN:VEVENT
DTSTART;TZID=America/New_York:20190924T114500
DTEND;TZID=America/New_York:20190924T150000
DTSTAMP:20260422T235718
CREATED:20190830T191321Z
LAST-MODIFIED:20190830T191321Z
UID:7053-1569325500-1569337200@www.rockumchurch.com
SUMMARY:Vernon Adult Ed
DESCRIPTION:
URL:https://www.rockumchurch.com/event/vernon-adult-ed-10/
LOCATION:Rockville United Methodist Church\, 142 Grove Street\, Rockville\, CT\, 06066\, United States
CATEGORIES:Education
ORGANIZER;CN="Svetlana Smith":MAILTO:svetlana.smith@vernonct.org
END:VEVENT
BEGIN:VEVENT
DTSTART;TZID=America/New_York:20190922T100000
DTEND;TZID=America/New_York:20190922T110000
DTSTAMP:20260422T235718
CREATED:20190104T160546Z
LAST-MODIFIED:20190104T160546Z
UID:6152-1569146400-1569150000@www.rockumchurch.com
SUMMARY:Sunday School
DESCRIPTION:Sunday school begins after the Children’s Message in our worship service.  \nSunday school is free and open to kids 3 years old to High School.  
URL:https://www.rockumchurch.com/event/sunday-school-6-2019-09-22/
LOCATION:Rockville United Methodist Church\, 142 Grove Street\, Rockville\, CT\, 06066\, United States
CATEGORIES:Education,Worship,Youth
ORGANIZER;CN="Linda Shivers":MAILTO:necsvga@aol.com
END:VEVENT
BEGIN:VEVENT
DTSTART;TZID=America/New_York:20190919T114500
DTEND;TZID=America/New_York:20190919T150000
DTSTAMP:20260422T235718
CREATED:20190830T191226Z
LAST-MODIFIED:20190830T191226Z
UID:7051-1568893500-1568905200@www.rockumchurch.com
SUMMARY:Vernon Adult Ed
DESCRIPTION:
URL:https://www.rockumchurch.com/event/vernon-adult-ed-9/
LOCATION:Rockville United Methodist Church\, 142 Grove Street\, Rockville\, CT\, 06066\, United States
CATEGORIES:Education
ORGANIZER;CN="Svetlana Smith":MAILTO:svetlana.smith@vernonct.org
END:VEVENT
BEGIN:VEVENT
DTSTART;TZID=America/New_York:20190918T114500
DTEND;TZID=America/New_York:20190918T150000
DTSTAMP:20260422T235718
CREATED:20190830T191138Z
LAST-MODIFIED:20190830T191138Z
UID:7049-1568807100-1568818800@www.rockumchurch.com
SUMMARY:Vernon Adult Ed
DESCRIPTION:
URL:https://www.rockumchurch.com/event/vernon-adult-ed-8/
LOCATION:Rockville United Methodist Church\, 142 Grove Street\, Rockville\, CT\, 06066\, United States
CATEGORIES:Education
ORGANIZER;CN="Svetlana Smith":MAILTO:svetlana.smith@vernonct.org
END:VEVENT
BEGIN:VEVENT
DTSTART;TZID=America/New_York:20190917T114500
DTEND;TZID=America/New_York:20190917T150000
DTSTAMP:20260422T235718
CREATED:20190830T191034Z
LAST-MODIFIED:20190830T191034Z
UID:7047-1568720700-1568732400@www.rockumchurch.com
SUMMARY:Vernon Adult Ed
DESCRIPTION:
URL:https://www.rockumchurch.com/event/vernon-adult-ed-7/
LOCATION:Rockville United Methodist Church\, 142 Grove Street\, Rockville\, CT\, 06066\, United States
CATEGORIES:Education
ORGANIZER;CN="Svetlana Smith":MAILTO:svetlana.smith@vernonct.org
END:VEVENT
BEGIN:VEVENT
DTSTART;TZID=America/New_York:20190915T100000
DTEND;TZID=America/New_York:20190915T110000
DTSTAMP:20260422T235718
CREATED:20190104T160546Z
LAST-MODIFIED:20190104T160546Z
UID:6151-1568541600-1568545200@www.rockumchurch.com
SUMMARY:Sunday School
DESCRIPTION:Sunday school begins after the Children’s Message in our worship service.  \nSunday school is free and open to kids 3 years old to High School.  
URL:https://www.rockumchurch.com/event/sunday-school-6-2019-09-15/
LOCATION:Rockville United Methodist Church\, 142 Grove Street\, Rockville\, CT\, 06066\, United States
CATEGORIES:Education,Worship,Youth
ORGANIZER;CN="Linda Shivers":MAILTO:necsvga@aol.com
END:VEVENT
BEGIN:VEVENT
DTSTART;TZID=America/New_York:20190912T114500
DTEND;TZID=America/New_York:20190912T150000
DTSTAMP:20260422T235718
CREATED:20190830T190927Z
LAST-MODIFIED:20190830T190927Z
UID:7045-1568288700-1568300400@www.rockumchurch.com
SUMMARY:Vernon Adult Ed
DESCRIPTION:
URL:https://www.rockumchurch.com/event/vernon-adult-ed-6/
LOCATION:Rockville United Methodist Church\, 142 Grove Street\, Rockville\, CT\, 06066\, United States
CATEGORIES:Education
ORGANIZER;CN="Svetlana Smith":MAILTO:svetlana.smith@vernonct.org
END:VEVENT
BEGIN:VEVENT
DTSTART;TZID=America/New_York:20190911T114500
DTEND;TZID=America/New_York:20190911T150000
DTSTAMP:20260422T235718
CREATED:20190830T190837Z
LAST-MODIFIED:20190830T190837Z
UID:7043-1568202300-1568214000@www.rockumchurch.com
SUMMARY:Vernon Adult Ed
DESCRIPTION:
URL:https://www.rockumchurch.com/event/vernon-adult-ed-5/
LOCATION:Rockville United Methodist Church\, 142 Grove Street\, Rockville\, CT\, 06066\, United States
CATEGORIES:Education
ORGANIZER;CN="Svetlana Smith":MAILTO:svetlana.smith@vernonct.org
END:VEVENT
BEGIN:VEVENT
DTSTART;TZID=America/New_York:20190910T114500
DTEND;TZID=America/New_York:20190910T150000
DTSTAMP:20260422T235718
CREATED:20190830T190745Z
LAST-MODIFIED:20190830T190745Z
UID:7041-1568115900-1568127600@www.rockumchurch.com
SUMMARY:Vernon Adult Ed
DESCRIPTION:
URL:https://www.rockumchurch.com/event/vernon-adult-ed-4/
LOCATION:Rockville United Methodist Church\, 142 Grove Street\, Rockville\, CT\, 06066\, United States
CATEGORIES:Education
ORGANIZER;CN="Svetlana Smith":MAILTO:svetlana.smith@vernonct.org
END:VEVENT
BEGIN:VEVENT
DTSTART;TZID=America/New_York:20190908T100000
DTEND;TZID=America/New_York:20190908T110000
DTSTAMP:20260422T235718
CREATED:20190104T160546Z
LAST-MODIFIED:20190104T160546Z
UID:6150-1567936800-1567940400@www.rockumchurch.com
SUMMARY:Sunday School
DESCRIPTION:Sunday school begins after the Children’s Message in our worship service.  \nSunday school is free and open to kids 3 years old to High School.  
URL:https://www.rockumchurch.com/event/sunday-school-6-2019-09-08/
LOCATION:Rockville United Methodist Church\, 142 Grove Street\, Rockville\, CT\, 06066\, United States
CATEGORIES:Education,Worship,Youth
ORGANIZER;CN="Linda Shivers":MAILTO:necsvga@aol.com
END:VEVENT
BEGIN:VEVENT
DTSTART;TZID=America/New_York:20190905T114500
DTEND;TZID=America/New_York:20190905T150000
DTSTAMP:20260422T235718
CREATED:20190830T190639Z
LAST-MODIFIED:20190830T190639Z
UID:7039-1567683900-1567695600@www.rockumchurch.com
SUMMARY:Vernon Adult Ed
DESCRIPTION:
URL:https://www.rockumchurch.com/event/vernon-adult-ed-3/
LOCATION:Rockville United Methodist Church\, 142 Grove Street\, Rockville\, CT\, 06066\, United States
CATEGORIES:Education
ORGANIZER;CN="Svetlana Smith":MAILTO:svetlana.smith@vernonct.org
END:VEVENT
BEGIN:VEVENT
DTSTART;TZID=America/New_York:20190904T114500
DTEND;TZID=America/New_York:20190904T150000
DTSTAMP:20260422T235718
CREATED:20190830T190539Z
LAST-MODIFIED:20190830T190539Z
UID:7037-1567597500-1567609200@www.rockumchurch.com
SUMMARY:Vernon Adult Ed
DESCRIPTION:
URL:https://www.rockumchurch.com/event/vernon-adult-ed-2/
LOCATION:Rockville United Methodist Church\, 142 Grove Street\, Rockville\, CT\, 06066\, United States
CATEGORIES:Education
ORGANIZER;CN="Svetlana Smith":MAILTO:svetlana.smith@vernonct.org
END:VEVENT
BEGIN:VEVENT
DTSTART;TZID=America/New_York:20190903T114500
DTEND;TZID=America/New_York:20190903T150000
DTSTAMP:20260422T235718
CREATED:20190830T190437Z
LAST-MODIFIED:20190830T190437Z
UID:7035-1567511100-1567522800@www.rockumchurch.com
SUMMARY:Vernon Adult Ed
DESCRIPTION:
URL:https://www.rockumchurch.com/event/vernon-adult-ed/
LOCATION:Rockville United Methodist Church\, 142 Grove Street\, Rockville\, CT\, 06066\, United States
CATEGORIES:Education
ORGANIZER;CN="Svetlana Smith":MAILTO:svetlana.smith@vernonct.org
END:VEVENT
BEGIN:VEVENT
DTSTART;TZID=America/New_York:20190728T100000
DTEND;TZID=America/New_York:20190728T110000
DTSTAMP:20260422T235718
CREATED:20190104T160546Z
LAST-MODIFIED:20190104T160546Z
UID:6144-1564308000-1564311600@www.rockumchurch.com
SUMMARY:Sunday School
DESCRIPTION:Sunday school begins after the Children’s Message in our worship service.  \nSunday school is free and open to kids 3 years old to High School.  
URL:https://www.rockumchurch.com/event/sunday-school-6-2019-07-28/
LOCATION:Rockville United Methodist Church\, 142 Grove Street\, Rockville\, CT\, 06066\, United States
CATEGORIES:Education,Worship,Youth
ORGANIZER;CN="Linda Shivers":MAILTO:necsvga@aol.com
END:VEVENT
BEGIN:VEVENT
DTSTART;TZID=America/New_York:20190721T100000
DTEND;TZID=America/New_York:20190721T110000
DTSTAMP:20260422T235718
CREATED:20190104T160546Z
LAST-MODIFIED:20190104T160546Z
UID:6143-1563703200-1563706800@www.rockumchurch.com
SUMMARY:Sunday School
DESCRIPTION:Sunday school begins after the Children’s Message in our worship service.  \nSunday school is free and open to kids 3 years old to High School.  
URL:https://www.rockumchurch.com/event/sunday-school-6-2019-07-21/
LOCATION:Rockville United Methodist Church\, 142 Grove Street\, Rockville\, CT\, 06066\, United States
CATEGORIES:Education,Worship,Youth
ORGANIZER;CN="Linda Shivers":MAILTO:necsvga@aol.com
END:VEVENT
BEGIN:VEVENT
DTSTART;TZID=America/New_York:20190714T100000
DTEND;TZID=America/New_York:20190714T110000
DTSTAMP:20260422T235718
CREATED:20190104T160546Z
LAST-MODIFIED:20190104T160546Z
UID:6142-1563098400-1563102000@www.rockumchurch.com
SUMMARY:Sunday School
DESCRIPTION:Sunday school begins after the Children’s Message in our worship service.  \nSunday school is free and open to kids 3 years old to High School.  
URL:https://www.rockumchurch.com/event/sunday-school-6-2019-07-14/
LOCATION:Rockville United Methodist Church\, 142 Grove Street\, Rockville\, CT\, 06066\, United States
CATEGORIES:Education,Worship,Youth
ORGANIZER;CN="Linda Shivers":MAILTO:necsvga@aol.com
END:VEVENT
BEGIN:VEVENT
DTSTART;TZID=America/New_York:20190707T100000
DTEND;TZID=America/New_York:20190707T110000
DTSTAMP:20260422T235718
CREATED:20190104T160546Z
LAST-MODIFIED:20190104T160546Z
UID:6141-1562493600-1562497200@www.rockumchurch.com
SUMMARY:Sunday School
DESCRIPTION:Sunday school begins after the Children’s Message in our worship service.  \nSunday school is free and open to kids 3 years old to High School.  
URL:https://www.rockumchurch.com/event/sunday-school-6-2019-07-07/
LOCATION:Rockville United Methodist Church\, 142 Grove Street\, Rockville\, CT\, 06066\, United States
CATEGORIES:Education,Worship,Youth
ORGANIZER;CN="Linda Shivers":MAILTO:necsvga@aol.com
END:VEVENT
BEGIN:VEVENT
DTSTART;TZID=America/New_York:20190630T100000
DTEND;TZID=America/New_York:20190630T110000
DTSTAMP:20260422T235718
CREATED:20190104T160546Z
LAST-MODIFIED:20190104T160546Z
UID:6140-1561888800-1561892400@www.rockumchurch.com
SUMMARY:Sunday School
DESCRIPTION:Sunday school begins after the Children’s Message in our worship service.  \nSunday school is free and open to kids 3 years old to High School.  
URL:https://www.rockumchurch.com/event/sunday-school-6-2019-06-30/
LOCATION:Rockville United Methodist Church\, 142 Grove Street\, Rockville\, CT\, 06066\, United States
CATEGORIES:Education,Worship,Youth
ORGANIZER;CN="Linda Shivers":MAILTO:necsvga@aol.com
END:VEVENT
END:VCALENDAR