BEGIN:VCALENDAR
VERSION:2.0
PRODID:-//Rockville United Methodist Church - ECPv6.15.20//NONSGML v1.0//EN
CALSCALE:GREGORIAN
METHOD:PUBLISH
X-WR-CALNAME:Rockville United Methodist Church
X-ORIGINAL-URL:https://www.rockumchurch.com
X-WR-CALDESC:Events for Rockville United Methodist Church
REFRESH-INTERVAL;VALUE=DURATION:PT1H
X-Robots-Tag:noindex
X-PUBLISHED-TTL:PT1H
BEGIN:VTIMEZONE
TZID:America/New_York
BEGIN:DAYLIGHT
TZOFFSETFROM:-0500
TZOFFSETTO:-0400
TZNAME:EDT
DTSTART:20180311T070000
END:DAYLIGHT
BEGIN:STANDARD
TZOFFSETFROM:-0400
TZOFFSETTO:-0500
TZNAME:EST
DTSTART:20181104T060000
END:STANDARD
BEGIN:DAYLIGHT
TZOFFSETFROM:-0500
TZOFFSETTO:-0400
TZNAME:EDT
DTSTART:20190310T070000
END:DAYLIGHT
BEGIN:STANDARD
TZOFFSETFROM:-0400
TZOFFSETTO:-0500
TZNAME:EST
DTSTART:20191103T060000
END:STANDARD
BEGIN:DAYLIGHT
TZOFFSETFROM:-0500
TZOFFSETTO:-0400
TZNAME:EDT
DTSTART:20200308T070000
END:DAYLIGHT
BEGIN:STANDARD
TZOFFSETFROM:-0400
TZOFFSETTO:-0500
TZNAME:EST
DTSTART:20201101T060000
END:STANDARD
END:VTIMEZONE
BEGIN:VEVENT
DTSTART;TZID=America/New_York:20191210T113000
DTEND;TZID=America/New_York:20191210T153000
DTSTAMP:20260422T190105
CREATED:20190926T191827Z
LAST-MODIFIED:20190926T191827Z
UID:7196-1575977400-1575991800@www.rockumchurch.com
SUMMARY:Vernon Adult Education
DESCRIPTION:
URL:https://www.rockumchurch.com/event/vernon-adult-education-47/
LOCATION:Rockville United Methodist Church\, 142 Grove Street\, Rockville\, CT\, 06066\, United States
CATEGORIES:Education
ORGANIZER;CN="Svetlana Smith":MAILTO:svetlana.smith@vernonct.org
END:VEVENT
BEGIN:VEVENT
DTSTART;TZID=America/New_York:20191208T100000
DTEND;TZID=America/New_York:20191208T110000
DTSTAMP:20260422T190105
CREATED:20190104T160546Z
LAST-MODIFIED:20190104T160546Z
UID:6163-1575799200-1575802800@www.rockumchurch.com
SUMMARY:Sunday School
DESCRIPTION:Sunday school begins after the Children’s Message in our worship service.  \nSunday school is free and open to kids 3 years old to High School.  
URL:https://www.rockumchurch.com/event/sunday-school-6-2019-12-08/
LOCATION:Rockville United Methodist Church\, 142 Grove Street\, Rockville\, CT\, 06066\, United States
CATEGORIES:Education,Worship,Youth
ORGANIZER;CN="Linda Shivers":MAILTO:necsvga@aol.com
END:VEVENT
BEGIN:VEVENT
DTSTART;TZID=America/New_York:20191204T183000
DTEND;TZID=America/New_York:20191204T200000
DTSTAMP:20260422T190105
CREATED:20191205T175303Z
LAST-MODIFIED:20191205T175303Z
UID:7290-1575484200-1575489600@www.rockumchurch.com
SUMMARY:Advent Bible Study
DESCRIPTION:
URL:https://www.rockumchurch.com/event/advent-bible-study/
LOCATION:Rockville United Methodist Church\, 142 Grove Street\, Rockville\, CT\, 06066\, United States
CATEGORIES:Community Events,Education,Scripture
ORGANIZER;CN="Pastor Cheol":MAILTO:starcheol@gmail.com
END:VEVENT
BEGIN:VEVENT
DTSTART;TZID=America/New_York:20191204T113000
DTEND;TZID=America/New_York:20191204T153000
DTSTAMP:20260422T190105
CREATED:20190926T191913Z
LAST-MODIFIED:20190926T191913Z
UID:7198-1575459000-1575473400@www.rockumchurch.com
SUMMARY:Vernon Adult Education
DESCRIPTION:
URL:https://www.rockumchurch.com/event/vernon-adult-education-48/
LOCATION:Rockville United Methodist Church\, 142 Grove Street\, Rockville\, CT\, 06066\, United States
CATEGORIES:Education
ORGANIZER;CN="Svetlana Smith":MAILTO:svetlana.smith@vernonct.org
END:VEVENT
BEGIN:VEVENT
DTSTART;TZID=America/New_York:20191203T113000
DTEND;TZID=America/New_York:20191203T153000
DTSTAMP:20260422T190105
CREATED:20190926T191956Z
LAST-MODIFIED:20190926T191956Z
UID:7200-1575372600-1575387000@www.rockumchurch.com
SUMMARY:Vernon Adult Education
DESCRIPTION:
URL:https://www.rockumchurch.com/event/vernon-adult-education-49/
LOCATION:Rockville United Methodist Church\, 142 Grove Street\, Rockville\, CT\, 06066\, United States
CATEGORIES:Education
ORGANIZER;CN="Svetlana Smith":MAILTO:svetlana.smith@vernonct.org
END:VEVENT
BEGIN:VEVENT
DTSTART;TZID=America/New_York:20191201T100000
DTEND;TZID=America/New_York:20191201T110000
DTSTAMP:20260422T190105
CREATED:20190104T160546Z
LAST-MODIFIED:20190104T160546Z
UID:6162-1575194400-1575198000@www.rockumchurch.com
SUMMARY:Sunday School
DESCRIPTION:Sunday school begins after the Children’s Message in our worship service.  \nSunday school is free and open to kids 3 years old to High School.  
URL:https://www.rockumchurch.com/event/sunday-school-6-2019-12-01/
LOCATION:Rockville United Methodist Church\, 142 Grove Street\, Rockville\, CT\, 06066\, United States
CATEGORIES:Education,Worship,Youth
ORGANIZER;CN="Linda Shivers":MAILTO:necsvga@aol.com
END:VEVENT
BEGIN:VEVENT
DTSTART;TZID=America/New_York:20191126T080000
DTEND;TZID=America/New_York:20191126T170000
DTSTAMP:20260422T190105
CREATED:20190926T190011Z
LAST-MODIFIED:20190926T190011Z
UID:7164-1574755200-1574787600@www.rockumchurch.com
SUMMARY:Vernon Adult Education
DESCRIPTION:
URL:https://www.rockumchurch.com/event/vernon-adult-education-31/
LOCATION:Rockville United Methodist Church\, 142 Grove Street\, Rockville\, CT\, 06066\, United States
CATEGORIES:Education
ORGANIZER;CN="Svetlana Smith":MAILTO:svetlana.smith@vernonct.org
END:VEVENT
BEGIN:VEVENT
DTSTART;TZID=America/New_York:20191124T100000
DTEND;TZID=America/New_York:20191124T110000
DTSTAMP:20260422T190105
CREATED:20190104T160546Z
LAST-MODIFIED:20190104T160546Z
UID:6161-1574589600-1574593200@www.rockumchurch.com
SUMMARY:Sunday School
DESCRIPTION:Sunday school begins after the Children’s Message in our worship service.  \nSunday school is free and open to kids 3 years old to High School.  
URL:https://www.rockumchurch.com/event/sunday-school-6-2019-11-24/
LOCATION:Rockville United Methodist Church\, 142 Grove Street\, Rockville\, CT\, 06066\, United States
CATEGORIES:Education,Worship,Youth
ORGANIZER;CN="Linda Shivers":MAILTO:necsvga@aol.com
END:VEVENT
BEGIN:VEVENT
DTSTART;TZID=America/New_York:20191121T113000
DTEND;TZID=America/New_York:20191121T153000
DTSTAMP:20260422T190105
CREATED:20190926T190105Z
LAST-MODIFIED:20190926T190105Z
UID:7166-1574335800-1574350200@www.rockumchurch.com
SUMMARY:Vernon Adult Education
DESCRIPTION:
URL:https://www.rockumchurch.com/event/vernon-adult-education-32/
LOCATION:Rockville United Methodist Church\, 142 Grove Street\, Rockville\, CT\, 06066\, United States
CATEGORIES:Education
ORGANIZER;CN="Svetlana Smith":MAILTO:svetlana.smith@vernonct.org
END:VEVENT
BEGIN:VEVENT
DTSTART;TZID=America/New_York:20191120T113000
DTEND;TZID=America/New_York:20191120T153000
DTSTAMP:20260422T190105
CREATED:20190926T190422Z
LAST-MODIFIED:20190926T190422Z
UID:7168-1574249400-1574263800@www.rockumchurch.com
SUMMARY:Vernon Adult Education
DESCRIPTION:
URL:https://www.rockumchurch.com/event/vernon-adult-education-33/
LOCATION:Rockville United Methodist Church\, 142 Grove Street\, Rockville\, CT\, 06066\, United States
CATEGORIES:Education
ORGANIZER;CN="Svetlana Smith":MAILTO:svetlana.smith@vernonct.org
END:VEVENT
BEGIN:VEVENT
DTSTART;TZID=America/New_York:20191119T113000
DTEND;TZID=America/New_York:20191119T153000
DTSTAMP:20260422T190105
CREATED:20190926T190526Z
LAST-MODIFIED:20190926T190526Z
UID:7170-1574163000-1574177400@www.rockumchurch.com
SUMMARY:Vernon Adult Education
DESCRIPTION:
URL:https://www.rockumchurch.com/event/vernon-adult-education-34/
LOCATION:Rockville United Methodist Church\, 142 Grove Street\, Rockville\, CT\, 06066\, United States
CATEGORIES:Education
ORGANIZER;CN="Svetlana Smith":MAILTO:svetlana.smith@vernonct.org
END:VEVENT
BEGIN:VEVENT
DTSTART;TZID=America/New_York:20191117T100000
DTEND;TZID=America/New_York:20191117T110000
DTSTAMP:20260422T190105
CREATED:20190104T160546Z
LAST-MODIFIED:20190104T160546Z
UID:6160-1573984800-1573988400@www.rockumchurch.com
SUMMARY:Sunday School
DESCRIPTION:Sunday school begins after the Children’s Message in our worship service.  \nSunday school is free and open to kids 3 years old to High School.  
URL:https://www.rockumchurch.com/event/sunday-school-6-2019-11-17/
LOCATION:Rockville United Methodist Church\, 142 Grove Street\, Rockville\, CT\, 06066\, United States
CATEGORIES:Education,Worship,Youth
ORGANIZER;CN="Linda Shivers":MAILTO:necsvga@aol.com
END:VEVENT
BEGIN:VEVENT
DTSTART;TZID=America/New_York:20191114T113000
DTEND;TZID=America/New_York:20191114T153000
DTSTAMP:20260422T190105
CREATED:20190926T190644Z
LAST-MODIFIED:20190926T190644Z
UID:7172-1573731000-1573745400@www.rockumchurch.com
SUMMARY:Vernon Adult Education
DESCRIPTION:
URL:https://www.rockumchurch.com/event/vernon-adult-education-35/
LOCATION:Rockville United Methodist Church\, 142 Grove Street\, Rockville\, CT\, 06066\, United States
CATEGORIES:Education
ORGANIZER;CN="Svetlana Smith":MAILTO:svetlana.smith@vernonct.org
END:VEVENT
BEGIN:VEVENT
DTSTART;TZID=America/New_York:20191113T113000
DTEND;TZID=America/New_York:20191113T153000
DTSTAMP:20260422T190105
CREATED:20190926T190741Z
LAST-MODIFIED:20190926T190741Z
UID:7174-1573644600-1573659000@www.rockumchurch.com
SUMMARY:Vernon Adult Education
DESCRIPTION:
URL:https://www.rockumchurch.com/event/vernon-adult-education-36/
LOCATION:Rockville United Methodist Church\, 142 Grove Street\, Rockville\, CT\, 06066\, United States
CATEGORIES:Education
ORGANIZER;CN="Svetlana Smith":MAILTO:svetlana.smith@vernonct.org
END:VEVENT
BEGIN:VEVENT
DTSTART;TZID=America/New_York:20191112T113000
DTEND;TZID=America/New_York:20191112T153000
DTSTAMP:20260422T190105
CREATED:20190926T190843Z
LAST-MODIFIED:20190926T190843Z
UID:7176-1573558200-1573572600@www.rockumchurch.com
SUMMARY:Vernon Adult Education
DESCRIPTION:
URL:https://www.rockumchurch.com/event/vernon-adult-education-37/
LOCATION:Rockville United Methodist Church\, 142 Grove Street\, Rockville\, CT\, 06066\, United States
CATEGORIES:Education
ORGANIZER;CN="Svetlana Smith":MAILTO:svetlana.smith@vernonct.org
END:VEVENT
BEGIN:VEVENT
DTSTART;TZID=America/New_York:20191110T100000
DTEND;TZID=America/New_York:20191110T110000
DTSTAMP:20260422T190105
CREATED:20190104T160546Z
LAST-MODIFIED:20190104T160546Z
UID:6159-1573380000-1573383600@www.rockumchurch.com
SUMMARY:Sunday School
DESCRIPTION:Sunday school begins after the Children’s Message in our worship service.  \nSunday school is free and open to kids 3 years old to High School.  
URL:https://www.rockumchurch.com/event/sunday-school-6-2019-11-10/
LOCATION:Rockville United Methodist Church\, 142 Grove Street\, Rockville\, CT\, 06066\, United States
CATEGORIES:Education,Worship,Youth
ORGANIZER;CN="Linda Shivers":MAILTO:necsvga@aol.com
END:VEVENT
BEGIN:VEVENT
DTSTART;TZID=America/New_York:20191107T113000
DTEND;TZID=America/New_York:20191107T153000
DTSTAMP:20260422T190105
CREATED:20190926T190941Z
LAST-MODIFIED:20190926T190941Z
UID:7178-1573126200-1573140600@www.rockumchurch.com
SUMMARY:Vernon Adult Education
DESCRIPTION:
URL:https://www.rockumchurch.com/event/vernon-adult-education-38/
LOCATION:Rockville United Methodist Church\, 142 Grove Street\, Rockville\, CT\, 06066\, United States
CATEGORIES:Education
ORGANIZER;CN="Svetlana Smith":MAILTO:svetlana.smith@vernonct.org
END:VEVENT
BEGIN:VEVENT
DTSTART;TZID=America/New_York:20191106T113000
DTEND;TZID=America/New_York:20191106T153000
DTSTAMP:20260422T190105
CREATED:20190926T191037Z
LAST-MODIFIED:20190926T191043Z
UID:7180-1573039800-1573054200@www.rockumchurch.com
SUMMARY:Vernon Adult Education
DESCRIPTION:
URL:https://www.rockumchurch.com/event/vernon-adult-education-39/
LOCATION:Rockville United Methodist Church\, 142 Grove Street\, Rockville\, CT\, 06066\, United States
CATEGORIES:Education
ORGANIZER;CN="Svetlana Smith":MAILTO:svetlana.smith@vernonct.org
END:VEVENT
BEGIN:VEVENT
DTSTART;TZID=America/New_York:20191105T113000
DTEND;TZID=America/New_York:20191105T153000
DTSTAMP:20260422T190105
CREATED:20190926T191126Z
LAST-MODIFIED:20190926T191126Z
UID:7182-1572953400-1572967800@www.rockumchurch.com
SUMMARY:Vernon Adult Education
DESCRIPTION:
URL:https://www.rockumchurch.com/event/vernon-adult-education-40/
LOCATION:Rockville United Methodist Church\, 142 Grove Street\, Rockville\, CT\, 06066\, United States
CATEGORIES:Education
ORGANIZER;CN="Svetlana Smith":MAILTO:svetlana.smith@vernonct.org
END:VEVENT
BEGIN:VEVENT
DTSTART;TZID=America/New_York:20191103T100000
DTEND;TZID=America/New_York:20191103T110000
DTSTAMP:20260422T190105
CREATED:20190104T160546Z
LAST-MODIFIED:20190104T160546Z
UID:6158-1572775200-1572778800@www.rockumchurch.com
SUMMARY:Sunday School
DESCRIPTION:Sunday school begins after the Children’s Message in our worship service.  \nSunday school is free and open to kids 3 years old to High School.  
URL:https://www.rockumchurch.com/event/sunday-school-6-2019-11-03/
LOCATION:Rockville United Methodist Church\, 142 Grove Street\, Rockville\, CT\, 06066\, United States
CATEGORIES:Education,Worship,Youth
ORGANIZER;CN="Linda Shivers":MAILTO:necsvga@aol.com
END:VEVENT
BEGIN:VEVENT
DTSTART;TZID=America/New_York:20191031T113000
DTEND;TZID=America/New_York:20191031T153000
DTSTAMP:20260422T190105
CREATED:20190926T181528Z
LAST-MODIFIED:20190926T181528Z
UID:7136-1572521400-1572535800@www.rockumchurch.com
SUMMARY:Vernon Adult Education
DESCRIPTION:
URL:https://www.rockumchurch.com/event/vernon-adult-education-30/
LOCATION:Rockville United Methodist Church\, 142 Grove Street\, Rockville\, CT\, 06066\, United States
CATEGORIES:Education
ORGANIZER;CN="Svetlana Smith":MAILTO:svetlana.smith@vernonct.org
END:VEVENT
BEGIN:VEVENT
DTSTART;TZID=America/New_York:20191030T180000
DTEND;TZID=America/New_York:20191030T200000
DTSTAMP:20260422T190105
CREATED:20190816T225335Z
LAST-MODIFIED:20191002T160012Z
UID:7025-1572458400-1572465600@www.rockumchurch.com
SUMMARY:Dr. Belinda Forbes Lecture and Pot Luck Supper
DESCRIPTION:Dr. Forbes Lecture and Pot Luck Supper\nOctober 30\, 2019\n6 pm \n \nDr. Belinda Forbes is going to tell us about her work providing dental care to remote locations in Nicaragua\, where people often have to travel over a day’s journey for medical care. Please bring a pot luck item to share. \n \n2019 Belinda Forbes Flyer
URL:https://www.rockumchurch.com/event/dr-belinda-forbes-lecture-and-pot-luck-supper/
LOCATION:Rockville United Methodist Church\, 142 Grove Street\, Rockville\, CT\, 06066\, United States
CATEGORIES:Community Events,Education,food,RUMC Events
ORGANIZER;CN="Steve Yoder":MAILTO:scsjyoder@aol.com
END:VEVENT
BEGIN:VEVENT
DTSTART;TZID=America/New_York:20191030T113000
DTEND;TZID=America/New_York:20191030T153000
DTSTAMP:20260422T190105
CREATED:20190926T181423Z
LAST-MODIFIED:20190926T181423Z
UID:7134-1572435000-1572449400@www.rockumchurch.com
SUMMARY:Vernon Adult Education
DESCRIPTION:
URL:https://www.rockumchurch.com/event/vernon-adult-education-29/
LOCATION:Rockville United Methodist Church\, 142 Grove Street\, Rockville\, CT\, 06066\, United States
CATEGORIES:Education
ORGANIZER;CN="Svetlana Smith":MAILTO:svetlana.smith@vernonct.org
END:VEVENT
BEGIN:VEVENT
DTSTART;TZID=America/New_York:20191029T113000
DTEND;TZID=America/New_York:20191029T153000
DTSTAMP:20260422T190105
CREATED:20190926T181320Z
LAST-MODIFIED:20190926T181320Z
UID:7132-1572348600-1572363000@www.rockumchurch.com
SUMMARY:Vernon Adult Education
DESCRIPTION:
URL:https://www.rockumchurch.com/event/vernon-adult-education-28/
LOCATION:Rockville United Methodist Church\, 142 Grove Street\, Rockville\, CT\, 06066\, United States
CATEGORIES:Education
ORGANIZER;CN="Svetlana Smith":MAILTO:svetlana.smith@vernonct.org
END:VEVENT
BEGIN:VEVENT
DTSTART;TZID=America/New_York:20191027T100000
DTEND;TZID=America/New_York:20191027T110000
DTSTAMP:20260422T190105
CREATED:20190104T160546Z
LAST-MODIFIED:20190104T160546Z
UID:6157-1572170400-1572174000@www.rockumchurch.com
SUMMARY:Sunday School
DESCRIPTION:Sunday school begins after the Children’s Message in our worship service.  \nSunday school is free and open to kids 3 years old to High School.  
URL:https://www.rockumchurch.com/event/sunday-school-6-2019-10-27/
LOCATION:Rockville United Methodist Church\, 142 Grove Street\, Rockville\, CT\, 06066\, United States
CATEGORIES:Education,Worship,Youth
ORGANIZER;CN="Linda Shivers":MAILTO:necsvga@aol.com
END:VEVENT
BEGIN:VEVENT
DTSTART;TZID=America/New_York:20191024T113000
DTEND;TZID=America/New_York:20191024T153000
DTSTAMP:20260422T190105
CREATED:20190926T181134Z
LAST-MODIFIED:20190926T181214Z
UID:7130-1571916600-1571931000@www.rockumchurch.com
SUMMARY:Vernon Adult Education
DESCRIPTION:
URL:https://www.rockumchurch.com/event/vernon-adult-education-27/
LOCATION:Rockville United Methodist Church\, 142 Grove Street\, Rockville\, CT\, 06066\, United States
CATEGORIES:Education
ORGANIZER;CN="Svetlana Smith":MAILTO:svetlana.smith@vernonct.org
END:VEVENT
BEGIN:VEVENT
DTSTART;TZID=America/New_York:20191022T113000
DTEND;TZID=America/New_York:20191022T153000
DTSTAMP:20260422T190105
CREATED:20190926T180920Z
LAST-MODIFIED:20190926T180920Z
UID:7128-1571743800-1571758200@www.rockumchurch.com
SUMMARY:Vernon Adult Education
DESCRIPTION:
URL:https://www.rockumchurch.com/event/vernon-adult-education-26/
LOCATION:Rockville United Methodist Church\, 142 Grove Street\, Rockville\, CT\, 06066\, United States
CATEGORIES:Education
ORGANIZER;CN="Svetlana Smith":MAILTO:svetlana.smith@vernonct.org
END:VEVENT
BEGIN:VEVENT
DTSTART;TZID=America/New_York:20191020T100000
DTEND;TZID=America/New_York:20191020T110000
DTSTAMP:20260422T190105
CREATED:20190104T160546Z
LAST-MODIFIED:20190104T160546Z
UID:6156-1571565600-1571569200@www.rockumchurch.com
SUMMARY:Sunday School
DESCRIPTION:Sunday school begins after the Children’s Message in our worship service.  \nSunday school is free and open to kids 3 years old to High School.  
URL:https://www.rockumchurch.com/event/sunday-school-6-2019-10-20/
LOCATION:Rockville United Methodist Church\, 142 Grove Street\, Rockville\, CT\, 06066\, United States
CATEGORIES:Education,Worship,Youth
ORGANIZER;CN="Linda Shivers":MAILTO:necsvga@aol.com
END:VEVENT
BEGIN:VEVENT
DTSTART;TZID=America/New_York:20191017T080000
DTEND;TZID=America/New_York:20191017T170000
DTSTAMP:20260422T190105
CREATED:20190926T180807Z
LAST-MODIFIED:20190926T180807Z
UID:7126-1571299200-1571331600@www.rockumchurch.com
SUMMARY:Vernon Adult Education
DESCRIPTION:
URL:https://www.rockumchurch.com/event/vernon-adult-education-25/
LOCATION:Rockville United Methodist Church\, 142 Grove Street\, Rockville\, CT\, 06066\, United States
CATEGORIES:Education
ORGANIZER;CN="Svetlana Smith":MAILTO:svetlana.smith@vernonct.org
END:VEVENT
BEGIN:VEVENT
DTSTART;TZID=America/New_York:20191016T113000
DTEND;TZID=America/New_York:20191016T153000
DTSTAMP:20260422T190105
CREATED:20190926T180625Z
LAST-MODIFIED:20190926T180625Z
UID:7124-1571225400-1571239800@www.rockumchurch.com
SUMMARY:Vernon Adult Education
DESCRIPTION:
URL:https://www.rockumchurch.com/event/vernon-adult-education-24/
LOCATION:Rockville United Methodist Church\, 142 Grove Street\, Rockville\, CT\, 06066\, United States
CATEGORIES:Education
ORGANIZER;CN="Svetlana Smith":MAILTO:svetlana.smith@vernonct.org
END:VEVENT
END:VCALENDAR