BEGIN:VCALENDAR
VERSION:2.0
PRODID:-//Rockville United Methodist Church - ECPv6.15.20//NONSGML v1.0//EN
CALSCALE:GREGORIAN
METHOD:PUBLISH
X-ORIGINAL-URL:https://www.rockumchurch.com
X-WR-CALDESC:Events for Rockville United Methodist Church
REFRESH-INTERVAL;VALUE=DURATION:PT1H
X-Robots-Tag:noindex
X-PUBLISHED-TTL:PT1H
BEGIN:VTIMEZONE
TZID:America/New_York
BEGIN:DAYLIGHT
TZOFFSETFROM:-0500
TZOFFSETTO:-0400
TZNAME:EDT
DTSTART:20160313T070000
END:DAYLIGHT
BEGIN:STANDARD
TZOFFSETFROM:-0400
TZOFFSETTO:-0500
TZNAME:EST
DTSTART:20161106T060000
END:STANDARD
BEGIN:DAYLIGHT
TZOFFSETFROM:-0500
TZOFFSETTO:-0400
TZNAME:EDT
DTSTART:20170312T070000
END:DAYLIGHT
BEGIN:STANDARD
TZOFFSETFROM:-0400
TZOFFSETTO:-0500
TZNAME:EST
DTSTART:20171105T060000
END:STANDARD
BEGIN:DAYLIGHT
TZOFFSETFROM:-0500
TZOFFSETTO:-0400
TZNAME:EDT
DTSTART:20180311T070000
END:DAYLIGHT
BEGIN:STANDARD
TZOFFSETFROM:-0400
TZOFFSETTO:-0500
TZNAME:EST
DTSTART:20181104T060000
END:STANDARD
BEGIN:DAYLIGHT
TZOFFSETFROM:-0500
TZOFFSETTO:-0400
TZNAME:EDT
DTSTART:20190310T070000
END:DAYLIGHT
BEGIN:STANDARD
TZOFFSETFROM:-0400
TZOFFSETTO:-0500
TZNAME:EST
DTSTART:20191103T060000
END:STANDARD
END:VTIMEZONE
BEGIN:VEVENT
DTSTART;TZID=America/New_York:20180628T090000
DTEND;TZID=America/New_York:20180628T120000
DTSTAMP:20260423T215733
CREATED:20180417T171629Z
LAST-MODIFIED:20180417T171629Z
UID:5194-1530176400-1530187200@www.rockumchurch.com
SUMMARY:RUMC's 2018 Vacation Bible School
DESCRIPTION:Vacation Bible School\nJune 25 – 29\, 2018\n9 am to noon\n$20 per child/$40 per family maximum \nActivities include crafts\, music\, science\, bible stories\, and play time.  \nDownload the registration form. \nRegistration ends June 14\, 2018
URL:https://www.rockumchurch.com/event/rumcs-2018-vacation-bible-school-2018-06-28/
LOCATION:Rockville United Methodist Church\, 142 Grove Street\, Rockville\, CT\, 06066\, United States
CATEGORIES:Education,food,Music,RUMC Events,Volunteer Opportunity,Youth
ORGANIZER;CN="Linda Shivers":MAILTO:necsvga@aol.com
END:VEVENT
BEGIN:VEVENT
DTSTART;TZID=America/New_York:20180627T090000
DTEND;TZID=America/New_York:20180627T120000
DTSTAMP:20260423T215733
CREATED:20180417T171629Z
LAST-MODIFIED:20180417T171629Z
UID:5193-1530090000-1530100800@www.rockumchurch.com
SUMMARY:RUMC's 2018 Vacation Bible School
DESCRIPTION:Vacation Bible School\nJune 25 – 29\, 2018\n9 am to noon\n$20 per child/$40 per family maximum \nActivities include crafts\, music\, science\, bible stories\, and play time.  \nDownload the registration form. \nRegistration ends June 14\, 2018
URL:https://www.rockumchurch.com/event/rumcs-2018-vacation-bible-school-2018-06-27/
LOCATION:Rockville United Methodist Church\, 142 Grove Street\, Rockville\, CT\, 06066\, United States
CATEGORIES:Education,food,Music,RUMC Events,Volunteer Opportunity,Youth
ORGANIZER;CN="Linda Shivers":MAILTO:necsvga@aol.com
END:VEVENT
BEGIN:VEVENT
DTSTART;TZID=America/New_York:20180626T090000
DTEND;TZID=America/New_York:20180626T120000
DTSTAMP:20260423T215733
CREATED:20180417T171629Z
LAST-MODIFIED:20180417T171629Z
UID:5192-1530003600-1530014400@www.rockumchurch.com
SUMMARY:RUMC's 2018 Vacation Bible School
DESCRIPTION:Vacation Bible School\nJune 25 – 29\, 2018\n9 am to noon\n$20 per child/$40 per family maximum \nActivities include crafts\, music\, science\, bible stories\, and play time.  \nDownload the registration form. \nRegistration ends June 14\, 2018
URL:https://www.rockumchurch.com/event/rumcs-2018-vacation-bible-school-2018-06-26/
LOCATION:Rockville United Methodist Church\, 142 Grove Street\, Rockville\, CT\, 06066\, United States
CATEGORIES:Education,food,Music,RUMC Events,Volunteer Opportunity,Youth
ORGANIZER;CN="Linda Shivers":MAILTO:necsvga@aol.com
END:VEVENT
BEGIN:VEVENT
DTSTART;TZID=America/New_York:20180625T090000
DTEND;TZID=America/New_York:20180625T120000
DTSTAMP:20260423T215733
CREATED:20180417T171629Z
LAST-MODIFIED:20180417T171629Z
UID:5190-1529917200-1529928000@www.rockumchurch.com
SUMMARY:RUMC's 2018 Vacation Bible School
DESCRIPTION:Vacation Bible School\nJune 25 – 29\, 2018\n9 am to noon\n$20 per child/$40 per family maximum \nActivities include crafts\, music\, science\, bible stories\, and play time.  \nDownload the registration form. \nRegistration ends June 14\, 2018
URL:https://www.rockumchurch.com/event/rumcs-2018-vacation-bible-school/
LOCATION:Rockville United Methodist Church\, 142 Grove Street\, Rockville\, CT\, 06066\, United States
CATEGORIES:Education,food,Music,RUMC Events,Volunteer Opportunity,Youth
ORGANIZER;CN="Linda Shivers":MAILTO:necsvga@aol.com
END:VEVENT
BEGIN:VEVENT
DTSTART;TZID=America/New_York:20180513T100000
DTEND;TZID=America/New_York:20180513T110000
DTSTAMP:20260423T215733
CREATED:20180504T220507Z
LAST-MODIFIED:20180504T220507Z
UID:5220-1526205600-1526209200@www.rockumchurch.com
SUMMARY:Sunday School
DESCRIPTION:
URL:https://www.rockumchurch.com/event/sunday-school-3-2018-05-13/
LOCATION:Rockville United Methodist Church\, 142 Grove Street\, Rockville\, CT\, 06066\, United States
CATEGORIES:Education,Worship,Youth
ORGANIZER;CN="Linda Shivers":MAILTO:necsvga@aol.com
END:VEVENT
BEGIN:VEVENT
DTSTART;TZID=America/New_York:20180506T100000
DTEND;TZID=America/New_York:20180506T110000
DTSTAMP:20260423T215733
CREATED:20180504T220507Z
LAST-MODIFIED:20180504T220507Z
UID:5218-1525600800-1525604400@www.rockumchurch.com
SUMMARY:Sunday School
DESCRIPTION:
URL:https://www.rockumchurch.com/event/sunday-school-3/
LOCATION:Rockville United Methodist Church\, 142 Grove Street\, Rockville\, CT\, 06066\, United States
CATEGORIES:Education,Worship,Youth
ORGANIZER;CN="Linda Shivers":MAILTO:necsvga@aol.com
END:VEVENT
BEGIN:VEVENT
DTSTART;TZID=America/New_York:20180131T114500
DTEND;TZID=America/New_York:20180131T153000
DTSTAMP:20260423T215733
CREATED:20180111T170011Z
LAST-MODIFIED:20180111T170011Z
UID:4934-1517399100-1517412600@www.rockumchurch.com
SUMMARY:Vernon Adult Education
DESCRIPTION:Family Learning Center
URL:https://www.rockumchurch.com/event/vernon-adult-education-9-2018-01-31/
LOCATION:Rockville United Methodist Church\, 142 Grove Street\, Rockville\, CT\, 06066\, United States
CATEGORIES:Education
ORGANIZER;CN="Svetlana Smith":MAILTO:svetlana.smith@vernonct.org
END:VEVENT
BEGIN:VEVENT
DTSTART;TZID=America/New_York:20180130T114500
DTEND;TZID=America/New_York:20180130T153000
DTSTAMP:20260423T215733
CREATED:20180111T165827Z
LAST-MODIFIED:20180111T165827Z
UID:4930-1517312700-1517326200@www.rockumchurch.com
SUMMARY:Vernon Adult Education
DESCRIPTION:Family Learning Center
URL:https://www.rockumchurch.com/event/vernon-adult-education-8-2018-01-30/
LOCATION:Rockville United Methodist Church\, 142 Grove Street\, Rockville\, CT\, 06066\, United States
CATEGORIES:Education
ORGANIZER;CN="Svetlana Smith":MAILTO:svetlana.smith@vernonct.org
END:VEVENT
BEGIN:VEVENT
DTSTART;TZID=America/New_York:20180126T100000
DTEND;TZID=America/New_York:20180126T113000
DTSTAMP:20260423T215733
CREATED:20180111T165356Z
LAST-MODIFIED:20180111T165356Z
UID:4921-1516960800-1516966200@www.rockumchurch.com
SUMMARY:Bible Devotional
DESCRIPTION:Explore this week’s sermon in detail.  Open to all.
URL:https://www.rockumchurch.com/event/bible-devotional-2-2018-01-26/
LOCATION:Rockville United Methodist Church\, 142 Grove Street\, Rockville\, CT\, 06066\, United States
CATEGORIES:Education,Scripture
ORGANIZER;CN="Paul O'Neil":MAILTO:pastorpaul0202@gmail.com
END:VEVENT
BEGIN:VEVENT
DTSTART;TZID=America/New_York:20180124T114500
DTEND;TZID=America/New_York:20180124T153000
DTSTAMP:20260423T215733
CREATED:20180111T170011Z
LAST-MODIFIED:20180111T170011Z
UID:4933-1516794300-1516807800@www.rockumchurch.com
SUMMARY:Vernon Adult Education
DESCRIPTION:Family Learning Center
URL:https://www.rockumchurch.com/event/vernon-adult-education-9-2018-01-24/
LOCATION:Rockville United Methodist Church\, 142 Grove Street\, Rockville\, CT\, 06066\, United States
CATEGORIES:Education
ORGANIZER;CN="Svetlana Smith":MAILTO:svetlana.smith@vernonct.org
END:VEVENT
BEGIN:VEVENT
DTSTART;TZID=America/New_York:20180123T114500
DTEND;TZID=America/New_York:20180123T153000
DTSTAMP:20260423T215733
CREATED:20180111T165827Z
LAST-MODIFIED:20180111T165827Z
UID:4929-1516707900-1516721400@www.rockumchurch.com
SUMMARY:Vernon Adult Education
DESCRIPTION:Family Learning Center
URL:https://www.rockumchurch.com/event/vernon-adult-education-8-2018-01-23/
LOCATION:Rockville United Methodist Church\, 142 Grove Street\, Rockville\, CT\, 06066\, United States
CATEGORIES:Education
ORGANIZER;CN="Svetlana Smith":MAILTO:svetlana.smith@vernonct.org
END:VEVENT
BEGIN:VEVENT
DTSTART;TZID=America/New_York:20180121T110000
DTEND;TZID=America/New_York:20180121T123000
DTSTAMP:20260423T215733
CREATED:20180111T164222Z
LAST-MODIFIED:20180111T164222Z
UID:4831-1516532400-1516537800@www.rockumchurch.com
SUMMARY:Confirmation Class
DESCRIPTION:
URL:https://www.rockumchurch.com/event/confirmation-class-3/
LOCATION:Rockville United Methodist Church\, 142 Grove Street\, Rockville\, CT\, 06066\, United States
CATEGORIES:Education,Scripture,Youth
ORGANIZER;CN="Linda Shivers":MAILTO:necsvga@aol.com
END:VEVENT
BEGIN:VEVENT
DTSTART;TZID=America/New_York:20180119T100000
DTEND;TZID=America/New_York:20180119T113000
DTSTAMP:20260423T215733
CREATED:20180111T165356Z
LAST-MODIFIED:20180111T165356Z
UID:4919-1516356000-1516361400@www.rockumchurch.com
SUMMARY:Bible Devotional
DESCRIPTION:Explore this week’s sermon in detail.  Open to all.
URL:https://www.rockumchurch.com/event/bible-devotional-2/
LOCATION:Rockville United Methodist Church\, 142 Grove Street\, Rockville\, CT\, 06066\, United States
CATEGORIES:Education,Scripture
ORGANIZER;CN="Paul O'Neil":MAILTO:pastorpaul0202@gmail.com
END:VEVENT
BEGIN:VEVENT
DTSTART;TZID=America/New_York:20180117T114500
DTEND;TZID=America/New_York:20180117T153000
DTSTAMP:20260423T215733
CREATED:20180111T170011Z
LAST-MODIFIED:20180111T170011Z
UID:4931-1516189500-1516203000@www.rockumchurch.com
SUMMARY:Vernon Adult Education
DESCRIPTION:Family Learning Center
URL:https://www.rockumchurch.com/event/vernon-adult-education-9/
LOCATION:Rockville United Methodist Church\, 142 Grove Street\, Rockville\, CT\, 06066\, United States
CATEGORIES:Education
ORGANIZER;CN="Svetlana Smith":MAILTO:svetlana.smith@vernonct.org
END:VEVENT
BEGIN:VEVENT
DTSTART;TZID=America/New_York:20180116T114500
DTEND;TZID=America/New_York:20180116T153000
DTSTAMP:20260423T215733
CREATED:20180111T165827Z
LAST-MODIFIED:20180111T165827Z
UID:4927-1516103100-1516116600@www.rockumchurch.com
SUMMARY:Vernon Adult Education
DESCRIPTION:Family Learning Center
URL:https://www.rockumchurch.com/event/vernon-adult-education-8/
LOCATION:Rockville United Methodist Church\, 142 Grove Street\, Rockville\, CT\, 06066\, United States
CATEGORIES:Education
ORGANIZER;CN="Svetlana Smith":MAILTO:svetlana.smith@vernonct.org
END:VEVENT
BEGIN:VEVENT
DTSTART;TZID=America/New_York:20171219T114500
DTEND;TZID=America/New_York:20171219T153000
DTSTAMP:20260423T215733
CREATED:20171130T201159Z
LAST-MODIFIED:20171130T202025Z
UID:4753-1513683900-1513697400@www.rockumchurch.com
SUMMARY:Vernon Adult Education
DESCRIPTION:The Family Literacy program meets Tuesday to Thursday at Rockville United Methodist Church.  ESL and GED students with children younger than school age are eligible for this free program.
URL:https://www.rockumchurch.com/event/vernon-adult-education-5-2017-12-19/
LOCATION:Rockville United Methodist Church\, 142 Grove Street\, Rockville\, CT\, 06066\, United States
CATEGORIES:Education
ORGANIZER;CN="Svetlana Smith":MAILTO:svetlana.smith@vernonct.org
END:VEVENT
BEGIN:VEVENT
DTSTART;TZID=America/New_York:20171214T114500
DTEND;TZID=America/New_York:20171214T153000
DTSTAMP:20260423T215733
CREATED:20171130T201828Z
LAST-MODIFIED:20171130T201828Z
UID:4761-1513251900-1513265400@www.rockumchurch.com
SUMMARY:Vernon Adult Education
DESCRIPTION:The Family Literacy program meets Tuesday to Thursday at Rockville United Methodist Church.  ESL and GED students with children younger than school age are eligible for this free program. \n 
URL:https://www.rockumchurch.com/event/vernon-adult-education-7-2017-12-14/
LOCATION:Rockville United Methodist Church\, 142 Grove Street\, Rockville\, CT\, 06066\, United States
CATEGORIES:Education
ORGANIZER;CN="Svetlana Smith":MAILTO:svetlana.smith@vernonct.org
END:VEVENT
BEGIN:VEVENT
DTSTART;TZID=America/New_York:20171213T114500
DTEND;TZID=America/New_York:20171213T153000
DTSTAMP:20260423T215733
CREATED:20171130T201425Z
LAST-MODIFIED:20171130T201927Z
UID:4756-1513165500-1513179000@www.rockumchurch.com
SUMMARY:Vernon Adult Education
DESCRIPTION:The Family Literacy program meets Tuesday to Thursday at Rockville United Methodist Church.  ESL and GED students with children younger than school age are eligible for this free program. \n 
URL:https://www.rockumchurch.com/event/vernon-adult-education-6-2017-12-13/
LOCATION:Rockville United Methodist Church\, 142 Grove Street\, Rockville\, CT\, 06066\, United States
CATEGORIES:Education
ORGANIZER;CN="Svetlana Smith":MAILTO:svetlana.smith@vernonct.org
END:VEVENT
BEGIN:VEVENT
DTSTART;TZID=America/New_York:20171212T114500
DTEND;TZID=America/New_York:20171212T153000
DTSTAMP:20260423T215733
CREATED:20171130T201159Z
LAST-MODIFIED:20171130T202025Z
UID:4752-1513079100-1513092600@www.rockumchurch.com
SUMMARY:Vernon Adult Education
DESCRIPTION:The Family Literacy program meets Tuesday to Thursday at Rockville United Methodist Church.  ESL and GED students with children younger than school age are eligible for this free program.
URL:https://www.rockumchurch.com/event/vernon-adult-education-5-2017-12-12/
LOCATION:Rockville United Methodist Church\, 142 Grove Street\, Rockville\, CT\, 06066\, United States
CATEGORIES:Education
ORGANIZER;CN="Svetlana Smith":MAILTO:svetlana.smith@vernonct.org
END:VEVENT
BEGIN:VEVENT
DTSTART;TZID=America/New_York:20171207T114500
DTEND;TZID=America/New_York:20171207T153000
DTSTAMP:20260423T215733
CREATED:20171130T201828Z
LAST-MODIFIED:20171130T201828Z
UID:4757-1512647100-1512660600@www.rockumchurch.com
SUMMARY:Vernon Adult Education
DESCRIPTION:The Family Literacy program meets Tuesday to Thursday at Rockville United Methodist Church.  ESL and GED students with children younger than school age are eligible for this free program. \n 
URL:https://www.rockumchurch.com/event/vernon-adult-education-7/
LOCATION:Rockville United Methodist Church\, 142 Grove Street\, Rockville\, CT\, 06066\, United States
CATEGORIES:Education
ORGANIZER;CN="Svetlana Smith":MAILTO:svetlana.smith@vernonct.org
END:VEVENT
BEGIN:VEVENT
DTSTART;TZID=America/New_York:20171206T114500
DTEND;TZID=America/New_York:20171206T153000
DTSTAMP:20260423T215733
CREATED:20171130T201425Z
LAST-MODIFIED:20171130T201927Z
UID:4754-1512560700-1512574200@www.rockumchurch.com
SUMMARY:Vernon Adult Education
DESCRIPTION:The Family Literacy program meets Tuesday to Thursday at Rockville United Methodist Church.  ESL and GED students with children younger than school age are eligible for this free program. \n 
URL:https://www.rockumchurch.com/event/vernon-adult-education-6/
LOCATION:Rockville United Methodist Church\, 142 Grove Street\, Rockville\, CT\, 06066\, United States
CATEGORIES:Education
ORGANIZER;CN="Svetlana Smith":MAILTO:svetlana.smith@vernonct.org
END:VEVENT
BEGIN:VEVENT
DTSTART;TZID=America/New_York:20171205T114500
DTEND;TZID=America/New_York:20171205T153000
DTSTAMP:20260423T215733
CREATED:20171130T201159Z
LAST-MODIFIED:20171130T202025Z
UID:4750-1512474300-1512487800@www.rockumchurch.com
SUMMARY:Vernon Adult Education
DESCRIPTION:The Family Literacy program meets Tuesday to Thursday at Rockville United Methodist Church.  ESL and GED students with children younger than school age are eligible for this free program.
URL:https://www.rockumchurch.com/event/vernon-adult-education-5/
LOCATION:Rockville United Methodist Church\, 142 Grove Street\, Rockville\, CT\, 06066\, United States
CATEGORIES:Education
ORGANIZER;CN="Svetlana Smith":MAILTO:svetlana.smith@vernonct.org
END:VEVENT
BEGIN:VEVENT
DTSTART;TZID=America/New_York:20171126T110000
DTEND;TZID=America/New_York:20171126T130000
DTSTAMP:20260423T215733
CREATED:20171103T221003Z
LAST-MODIFIED:20171103T221003Z
UID:4707-1511694000-1511701200@www.rockumchurch.com
SUMMARY:Sunday School Teachers Meeting
DESCRIPTION:
URL:https://www.rockumchurch.com/event/sunday-school-teachers-meeting-2/
LOCATION:Rockville United Methodist Church\, 142 Grove Street\, Rockville\, CT\, 06066\, United States
CATEGORIES:Education,Planning
END:VEVENT
BEGIN:VEVENT
DTSTART;TZID=America/New_York:20171119T113000
DTEND;TZID=America/New_York:20171119T130000
DTSTAMP:20260423T215733
CREATED:20171103T220913Z
LAST-MODIFIED:20171103T220913Z
UID:4705-1511091000-1511096400@www.rockumchurch.com
SUMMARY:Confirmation Class
DESCRIPTION:
URL:https://www.rockumchurch.com/event/confirmation-class-2/
LOCATION:Rockville United Methodist Church\, 142 Grove Street\, Rockville\, CT\, 06066\, United States
CATEGORIES:Education,Youth
END:VEVENT
BEGIN:VEVENT
DTSTART;TZID=America/New_York:20171015T113000
DTEND;TZID=America/New_York:20171015T130000
DTSTAMP:20260423T215733
CREATED:20171012T170837Z
LAST-MODIFIED:20171012T170837Z
UID:4628-1508067000-1508072400@www.rockumchurch.com
SUMMARY:Confirmation Class
DESCRIPTION:
URL:https://www.rockumchurch.com/event/confirmation-class/
LOCATION:Rockville United Methodist Church\, 142 Grove Street\, Rockville\, CT\, 06066\, United States
CATEGORIES:Education,Scripture,Youth
ORGANIZER;CN="Linda Shivers":MAILTO:necsvga@aol.com
END:VEVENT
END:VCALENDAR