BEGIN:VCALENDAR
VERSION:2.0
PRODID:-//Rockville United Methodist Church - ECPv6.15.20//NONSGML v1.0//EN
CALSCALE:GREGORIAN
METHOD:PUBLISH
X-ORIGINAL-URL:https://www.rockumchurch.com
X-WR-CALDESC:Events for Rockville United Methodist Church
REFRESH-INTERVAL;VALUE=DURATION:PT1H
X-Robots-Tag:noindex
X-PUBLISHED-TTL:PT1H
BEGIN:VTIMEZONE
TZID:America/New_York
BEGIN:DAYLIGHT
TZOFFSETFROM:-0500
TZOFFSETTO:-0400
TZNAME:EDT
DTSTART:20170312T070000
END:DAYLIGHT
BEGIN:STANDARD
TZOFFSETFROM:-0400
TZOFFSETTO:-0500
TZNAME:EST
DTSTART:20171105T060000
END:STANDARD
BEGIN:DAYLIGHT
TZOFFSETFROM:-0500
TZOFFSETTO:-0400
TZNAME:EDT
DTSTART:20180311T070000
END:DAYLIGHT
BEGIN:STANDARD
TZOFFSETFROM:-0400
TZOFFSETTO:-0500
TZNAME:EST
DTSTART:20181104T060000
END:STANDARD
BEGIN:DAYLIGHT
TZOFFSETFROM:-0500
TZOFFSETTO:-0400
TZNAME:EDT
DTSTART:20190310T070000
END:DAYLIGHT
BEGIN:STANDARD
TZOFFSETFROM:-0400
TZOFFSETTO:-0500
TZNAME:EST
DTSTART:20191103T060000
END:STANDARD
BEGIN:DAYLIGHT
TZOFFSETFROM:-0500
TZOFFSETTO:-0400
TZNAME:EDT
DTSTART:20200308T070000
END:DAYLIGHT
BEGIN:STANDARD
TZOFFSETFROM:-0400
TZOFFSETTO:-0500
TZNAME:EST
DTSTART:20201101T060000
END:STANDARD
END:VTIMEZONE
BEGIN:VEVENT
DTSTART;TZID=America/New_York:20190129T114500
DTEND;TZID=America/New_York:20190129T153000
DTSTAMP:20260423T153010
CREATED:20190104T174002Z
LAST-MODIFIED:20190104T174007Z
UID:6461-1548762300-1548775800@www.rockumchurch.com
SUMMARY:Vernon Adult Education
DESCRIPTION:The Family Education Program provides GED and ESL classes for parents of children who are not yet in school. \n 
URL:https://www.rockumchurch.com/event/vernon-adult-education-15-2019-01-29/
LOCATION:Rockville United Methodist Church\, 142 Grove Street\, Rockville\, CT\, 06066\, United States
CATEGORIES:Community Events,Education
ORGANIZER;CN="Svetlana Smith":MAILTO:svetlana.smith@vernonct.org
END:VEVENT
BEGIN:VEVENT
DTSTART;TZID=America/New_York:20190127T110000
DTEND;TZID=America/New_York:20190127T120000
DTSTAMP:20260423T153010
CREATED:20190115T172356Z
LAST-MODIFIED:20190115T172356Z
UID:6540-1548586800-1548590400@www.rockumchurch.com
SUMMARY:Teachers' Meeting
DESCRIPTION:
URL:https://www.rockumchurch.com/event/teachers-meeting/
LOCATION:Rockville United Methodist Church\, 142 Grove Street\, Rockville\, CT\, 06066\, United States
CATEGORIES:Education,Planning
ORGANIZER;CN="Linda Shivers":MAILTO:necsvga@aol.com
END:VEVENT
BEGIN:VEVENT
DTSTART;TZID=America/New_York:20190127T100000
DTEND;TZID=America/New_York:20190127T110000
DTSTAMP:20260423T153010
CREATED:20190104T160546Z
LAST-MODIFIED:20190104T160554Z
UID:6117-1548583200-1548586800@www.rockumchurch.com
SUMMARY:Sunday School
DESCRIPTION:Sunday school begins after the Children’s Message in our worship service.  \nSunday school is free and open to kids 3 years old to High School.  
URL:https://www.rockumchurch.com/event/sunday-school-6-2019-01-27/
LOCATION:Rockville United Methodist Church\, 142 Grove Street\, Rockville\, CT\, 06066\, United States
CATEGORIES:Education,Worship,Youth
ORGANIZER;CN="Linda Shivers":MAILTO:necsvga@aol.com
END:VEVENT
BEGIN:VEVENT
DTSTART;TZID=America/New_York:20190127T083000
DTEND;TZID=America/New_York:20190127T093000
DTSTAMP:20260423T153010
CREATED:20190104T165837Z
LAST-MODIFIED:20190104T165838Z
UID:6418-1548577800-1548581400@www.rockumchurch.com
SUMMARY:Adult Bible Study
DESCRIPTION:Pastor Cheol will lead an adult winter bible study series. Three times for the classes a week. Sundays at 8:30 am\, Wednesdays at 7 pm\, or Thursdays at 10 am.   
URL:https://www.rockumchurch.com/event/adult-bible-study-2019-01-27/
LOCATION:Rockville United Methodist Church\, 142 Grove Street\, Rockville\, CT\, 06066\, United States
CATEGORIES:Education,Scripture
ORGANIZER;CN="SeokCheol Shin":MAILTO:starcheol@gmail.com
END:VEVENT
BEGIN:VEVENT
DTSTART;TZID=America/New_York:20190124T111500
DTEND;TZID=America/New_York:20190124T153000
DTSTAMP:20260423T153010
CREATED:20190104T174417Z
LAST-MODIFIED:20190104T174417Z
UID:6511-1548328500-1548343800@www.rockumchurch.com
SUMMARY:Vernon Adult Education
DESCRIPTION:The Family Education Program provides GED and ESL classes for parents of children who are not yet in school.
URL:https://www.rockumchurch.com/event/vernon-adult-education-17-2019-01-24/
LOCATION:Rockville United Methodist Church\, 142 Grove Street\, Rockville\, CT\, 06066\, United States
CATEGORIES:Community Events,Education
ORGANIZER;CN="Svetlana Smith":MAILTO:svetlana.smith@vernonct.org
END:VEVENT
BEGIN:VEVENT
DTSTART;TZID=America/New_York:20190124T100000
DTEND;TZID=America/New_York:20190124T110000
DTSTAMP:20260423T153010
CREATED:20190104T170156Z
LAST-MODIFIED:20190104T170156Z
UID:6429-1548324000-1548327600@www.rockumchurch.com
SUMMARY:Adult Bible Study
DESCRIPTION:Pastor Cheol will lead an adult winter bible study series. Three times for the classes a week. Sundays at 8:30 am\, Wednesdays at 7 pm\, or Thursdays at 10 am.
URL:https://www.rockumchurch.com/event/adult-bible-study-2-2019-01-24/
LOCATION:Rockville United Methodist Church\, 142 Grove Street\, Rockville\, CT\, 06066\, United States
CATEGORIES:Education,Scripture
ORGANIZER;CN="SeokCheol Shin":MAILTO:starcheol@gmail.com
END:VEVENT
BEGIN:VEVENT
DTSTART;TZID=America/New_York:20190123T113000
DTEND;TZID=America/New_York:20190123T153000
DTSTAMP:20260423T153010
CREATED:20190104T174219Z
LAST-MODIFIED:20190104T174219Z
UID:6491-1548243000-1548257400@www.rockumchurch.com
SUMMARY:Vernon Adult Education
DESCRIPTION:The Family Education Program provides GED and ESL classes for parents of children who are not yet in school.
URL:https://www.rockumchurch.com/event/vernon-adult-education-16-2019-01-23/
LOCATION:Rockville United Methodist Church\, 142 Grove Street\, Rockville\, CT\, 06066\, United States
CATEGORIES:Community Events,Education
ORGANIZER;CN="Svetlana Smith":MAILTO:svetlana.smith@vernonct.org
END:VEVENT
BEGIN:VEVENT
DTSTART;TZID=America/New_York:20190122T114500
DTEND;TZID=America/New_York:20190122T153000
DTSTAMP:20260423T153010
CREATED:20190104T174002Z
LAST-MODIFIED:20190104T174006Z
UID:6460-1548157500-1548171000@www.rockumchurch.com
SUMMARY:Vernon Adult Education
DESCRIPTION:The Family Education Program provides GED and ESL classes for parents of children who are not yet in school. \n 
URL:https://www.rockumchurch.com/event/vernon-adult-education-15-2019-01-22/
LOCATION:Rockville United Methodist Church\, 142 Grove Street\, Rockville\, CT\, 06066\, United States
CATEGORIES:Community Events,Education
ORGANIZER;CN="Svetlana Smith":MAILTO:svetlana.smith@vernonct.org
END:VEVENT
BEGIN:VEVENT
DTSTART;TZID=America/New_York:20190120T100000
DTEND;TZID=America/New_York:20190120T110000
DTSTAMP:20260423T153010
CREATED:20190104T160546Z
LAST-MODIFIED:20190104T160554Z
UID:6116-1547978400-1547982000@www.rockumchurch.com
SUMMARY:Sunday School
DESCRIPTION:Sunday school begins after the Children’s Message in our worship service.  \nSunday school is free and open to kids 3 years old to High School.  
URL:https://www.rockumchurch.com/event/sunday-school-6-2019-01-20/
LOCATION:Rockville United Methodist Church\, 142 Grove Street\, Rockville\, CT\, 06066\, United States
CATEGORIES:Education,Worship,Youth
ORGANIZER;CN="Linda Shivers":MAILTO:necsvga@aol.com
END:VEVENT
BEGIN:VEVENT
DTSTART;TZID=America/New_York:20190120T083000
DTEND;TZID=America/New_York:20190120T093000
DTSTAMP:20260423T153010
CREATED:20190104T165837Z
LAST-MODIFIED:20190104T165838Z
UID:6417-1547973000-1547976600@www.rockumchurch.com
SUMMARY:Adult Bible Study
DESCRIPTION:Pastor Cheol will lead an adult winter bible study series. Three times for the classes a week. Sundays at 8:30 am\, Wednesdays at 7 pm\, or Thursdays at 10 am.   
URL:https://www.rockumchurch.com/event/adult-bible-study-2019-01-20/
LOCATION:Rockville United Methodist Church\, 142 Grove Street\, Rockville\, CT\, 06066\, United States
CATEGORIES:Education,Scripture
ORGANIZER;CN="SeokCheol Shin":MAILTO:starcheol@gmail.com
END:VEVENT
BEGIN:VEVENT
DTSTART;TZID=America/New_York:20190117T111500
DTEND;TZID=America/New_York:20190117T153000
DTSTAMP:20260423T153010
CREATED:20190104T174417Z
LAST-MODIFIED:20190104T174417Z
UID:6510-1547723700-1547739000@www.rockumchurch.com
SUMMARY:Vernon Adult Education
DESCRIPTION:The Family Education Program provides GED and ESL classes for parents of children who are not yet in school.
URL:https://www.rockumchurch.com/event/vernon-adult-education-17-2019-01-17/
LOCATION:Rockville United Methodist Church\, 142 Grove Street\, Rockville\, CT\, 06066\, United States
CATEGORIES:Community Events,Education
ORGANIZER;CN="Svetlana Smith":MAILTO:svetlana.smith@vernonct.org
END:VEVENT
BEGIN:VEVENT
DTSTART;TZID=America/New_York:20190117T100000
DTEND;TZID=America/New_York:20190117T110000
DTSTAMP:20260423T153010
CREATED:20190104T170156Z
LAST-MODIFIED:20190104T170156Z
UID:6427-1547719200-1547722800@www.rockumchurch.com
SUMMARY:Adult Bible Study
DESCRIPTION:Pastor Cheol will lead an adult winter bible study series. Three times for the classes a week. Sundays at 8:30 am\, Wednesdays at 7 pm\, or Thursdays at 10 am.
URL:https://www.rockumchurch.com/event/adult-bible-study-2/
LOCATION:Rockville United Methodist Church\, 142 Grove Street\, Rockville\, CT\, 06066\, United States
CATEGORIES:Education,Scripture
ORGANIZER;CN="SeokCheol Shin":MAILTO:starcheol@gmail.com
END:VEVENT
BEGIN:VEVENT
DTSTART;TZID=America/New_York:20190116T113000
DTEND;TZID=America/New_York:20190116T153000
DTSTAMP:20260423T153010
CREATED:20190104T174219Z
LAST-MODIFIED:20190104T174219Z
UID:6490-1547638200-1547652600@www.rockumchurch.com
SUMMARY:Vernon Adult Education
DESCRIPTION:The Family Education Program provides GED and ESL classes for parents of children who are not yet in school.
URL:https://www.rockumchurch.com/event/vernon-adult-education-16-2019-01-16/
LOCATION:Rockville United Methodist Church\, 142 Grove Street\, Rockville\, CT\, 06066\, United States
CATEGORIES:Community Events,Education
ORGANIZER;CN="Svetlana Smith":MAILTO:svetlana.smith@vernonct.org
END:VEVENT
BEGIN:VEVENT
DTSTART;TZID=America/New_York:20190115T114500
DTEND;TZID=America/New_York:20190115T153000
DTSTAMP:20260423T153010
CREATED:20190104T174002Z
LAST-MODIFIED:20190104T174006Z
UID:6459-1547552700-1547566200@www.rockumchurch.com
SUMMARY:Vernon Adult Education
DESCRIPTION:The Family Education Program provides GED and ESL classes for parents of children who are not yet in school. \n 
URL:https://www.rockumchurch.com/event/vernon-adult-education-15-2019-01-15/
LOCATION:Rockville United Methodist Church\, 142 Grove Street\, Rockville\, CT\, 06066\, United States
CATEGORIES:Community Events,Education
ORGANIZER;CN="Svetlana Smith":MAILTO:svetlana.smith@vernonct.org
END:VEVENT
BEGIN:VEVENT
DTSTART;TZID=America/New_York:20190113T100000
DTEND;TZID=America/New_York:20190113T110000
DTSTAMP:20260423T153010
CREATED:20190104T160546Z
LAST-MODIFIED:20190104T160553Z
UID:6115-1547373600-1547377200@www.rockumchurch.com
SUMMARY:Sunday School
DESCRIPTION:Sunday school begins after the Children’s Message in our worship service.  \nSunday school is free and open to kids 3 years old to High School.  
URL:https://www.rockumchurch.com/event/sunday-school-6-2019-01-13/
LOCATION:Rockville United Methodist Church\, 142 Grove Street\, Rockville\, CT\, 06066\, United States
CATEGORIES:Education,Worship,Youth
ORGANIZER;CN="Linda Shivers":MAILTO:necsvga@aol.com
END:VEVENT
BEGIN:VEVENT
DTSTART;TZID=America/New_York:20190113T083000
DTEND;TZID=America/New_York:20190113T093000
DTSTAMP:20260423T153010
CREATED:20190104T165837Z
LAST-MODIFIED:20190104T165838Z
UID:6413-1547368200-1547371800@www.rockumchurch.com
SUMMARY:Adult Bible Study
DESCRIPTION:Pastor Cheol will lead an adult winter bible study series. Three times for the classes a week. Sundays at 8:30 am\, Wednesdays at 7 pm\, or Thursdays at 10 am.   
URL:https://www.rockumchurch.com/event/adult-bible-study/
LOCATION:Rockville United Methodist Church\, 142 Grove Street\, Rockville\, CT\, 06066\, United States
CATEGORIES:Education,Scripture
ORGANIZER;CN="SeokCheol Shin":MAILTO:starcheol@gmail.com
END:VEVENT
BEGIN:VEVENT
DTSTART;TZID=America/New_York:20190110T111500
DTEND;TZID=America/New_York:20190110T153000
DTSTAMP:20260423T153010
CREATED:20190104T174417Z
LAST-MODIFIED:20190104T174417Z
UID:6508-1547118900-1547134200@www.rockumchurch.com
SUMMARY:Vernon Adult Education
DESCRIPTION:The Family Education Program provides GED and ESL classes for parents of children who are not yet in school.
URL:https://www.rockumchurch.com/event/vernon-adult-education-17/
LOCATION:Rockville United Methodist Church\, 142 Grove Street\, Rockville\, CT\, 06066\, United States
CATEGORIES:Community Events,Education
ORGANIZER;CN="Svetlana Smith":MAILTO:svetlana.smith@vernonct.org
END:VEVENT
BEGIN:VEVENT
DTSTART;TZID=America/New_York:20190109T113000
DTEND;TZID=America/New_York:20190109T153000
DTSTAMP:20260423T153010
CREATED:20190104T174219Z
LAST-MODIFIED:20190104T174219Z
UID:6488-1547033400-1547047800@www.rockumchurch.com
SUMMARY:Vernon Adult Education
DESCRIPTION:The Family Education Program provides GED and ESL classes for parents of children who are not yet in school.
URL:https://www.rockumchurch.com/event/vernon-adult-education-16/
LOCATION:Rockville United Methodist Church\, 142 Grove Street\, Rockville\, CT\, 06066\, United States
CATEGORIES:Community Events,Education
ORGANIZER;CN="Svetlana Smith":MAILTO:svetlana.smith@vernonct.org
END:VEVENT
BEGIN:VEVENT
DTSTART;TZID=America/New_York:20190108T114500
DTEND;TZID=America/New_York:20190108T153000
DTSTAMP:20260423T153010
CREATED:20190104T174002Z
LAST-MODIFIED:20190104T174004Z
UID:6455-1546947900-1546961400@www.rockumchurch.com
SUMMARY:Vernon Adult Education
DESCRIPTION:The Family Education Program provides GED and ESL classes for parents of children who are not yet in school. \n 
URL:https://www.rockumchurch.com/event/vernon-adult-education-15/
LOCATION:Rockville United Methodist Church\, 142 Grove Street\, Rockville\, CT\, 06066\, United States
CATEGORIES:Community Events,Education
ORGANIZER;CN="Svetlana Smith":MAILTO:svetlana.smith@vernonct.org
END:VEVENT
BEGIN:VEVENT
DTSTART;TZID=America/New_York:20190106T100000
DTEND;TZID=America/New_York:20190106T110000
DTSTAMP:20260423T153010
CREATED:20190104T160546Z
LAST-MODIFIED:20190104T160547Z
UID:6112-1546768800-1546772400@www.rockumchurch.com
SUMMARY:Sunday School
DESCRIPTION:Sunday school begins after the Children’s Message in our worship service.  \nSunday school is free and open to kids 3 years old to High School.  
URL:https://www.rockumchurch.com/event/sunday-school-6/
LOCATION:Rockville United Methodist Church\, 142 Grove Street\, Rockville\, CT\, 06066\, United States
CATEGORIES:Education,Worship,Youth
ORGANIZER;CN="Linda Shivers":MAILTO:necsvga@aol.com
END:VEVENT
BEGIN:VEVENT
DTSTART;TZID=America/New_York:20181118T100000
DTEND;TZID=America/New_York:20181118T110000
DTSTAMP:20260423T153010
CREATED:20181109T014211Z
LAST-MODIFIED:20181109T014212Z
UID:5820-1542535200-1542538800@www.rockumchurch.com
SUMMARY:Sunday School
DESCRIPTION:Sunday School begins following the Children’s Message in the service. \n  \n 
URL:https://www.rockumchurch.com/event/sunday-school-5-2018-11-18/
LOCATION:Rockville United Methodist Church\, 142 Grove Street\, Rockville\, CT\, 06066\, United States
CATEGORIES:Education,Youth
ORGANIZER;CN="Linda Shivers":MAILTO:necsvga@aol.com
END:VEVENT
BEGIN:VEVENT
DTSTART;TZID=America/New_York:20181111T100000
DTEND;TZID=America/New_York:20181111T110000
DTSTAMP:20260423T153010
CREATED:20181109T014211Z
LAST-MODIFIED:20181109T014212Z
UID:5819-1541930400-1541934000@www.rockumchurch.com
SUMMARY:Sunday School
DESCRIPTION:Sunday School begins following the Children’s Message in the service. \n  \n 
URL:https://www.rockumchurch.com/event/sunday-school-5-2018-11-11/
LOCATION:Rockville United Methodist Church\, 142 Grove Street\, Rockville\, CT\, 06066\, United States
CATEGORIES:Education,Youth
ORGANIZER;CN="Linda Shivers":MAILTO:necsvga@aol.com
END:VEVENT
BEGIN:VEVENT
DTSTART;TZID=America/New_York:20181111T083000
DTEND;TZID=America/New_York:20181111T093000
DTSTAMP:20260423T153010
CREATED:20180911T171340Z
LAST-MODIFIED:20180911T171340Z
UID:5688-1541925000-1541928600@www.rockumchurch.com
SUMMARY:Bible Study
DESCRIPTION:Join Pastor Cheol for Bible Study.  September 16\, 2018 to November 11\, 2018 \n8:30 am to 9:30 am
URL:https://www.rockumchurch.com/event/bible-study-2018-11-11/
LOCATION:Rockville United Methodist Church\, 142 Grove Street\, Rockville\, CT\, 06066\, United States
CATEGORIES:Education,Scripture,Worship
ORGANIZER;CN="Pastor Cheol":MAILTO:starcheol@gmail.com
END:VEVENT
BEGIN:VEVENT
DTSTART;TZID=America/New_York:20181104T100000
DTEND;TZID=America/New_York:20181104T110000
DTSTAMP:20260423T153010
CREATED:20181109T014211Z
LAST-MODIFIED:20181109T014212Z
UID:5816-1541325600-1541329200@www.rockumchurch.com
SUMMARY:Sunday School
DESCRIPTION:Sunday School begins following the Children’s Message in the service. \n  \n 
URL:https://www.rockumchurch.com/event/sunday-school-5/
LOCATION:Rockville United Methodist Church\, 142 Grove Street\, Rockville\, CT\, 06066\, United States
CATEGORIES:Education,Youth
ORGANIZER;CN="Linda Shivers":MAILTO:necsvga@aol.com
END:VEVENT
BEGIN:VEVENT
DTSTART;TZID=America/New_York:20181104T083000
DTEND;TZID=America/New_York:20181104T093000
DTSTAMP:20260423T153010
CREATED:20180911T171340Z
LAST-MODIFIED:20180911T171340Z
UID:5687-1541320200-1541323800@www.rockumchurch.com
SUMMARY:Bible Study
DESCRIPTION:Join Pastor Cheol for Bible Study.  September 16\, 2018 to November 11\, 2018 \n8:30 am to 9:30 am
URL:https://www.rockumchurch.com/event/bible-study-2018-11-04/
LOCATION:Rockville United Methodist Church\, 142 Grove Street\, Rockville\, CT\, 06066\, United States
CATEGORIES:Education,Scripture,Worship
ORGANIZER;CN="Pastor Cheol":MAILTO:starcheol@gmail.com
END:VEVENT
BEGIN:VEVENT
DTSTART;TZID=America/New_York:20181028T083000
DTEND;TZID=America/New_York:20181028T093000
DTSTAMP:20260423T153010
CREATED:20180911T171340Z
LAST-MODIFIED:20180911T171340Z
UID:5686-1540715400-1540719000@www.rockumchurch.com
SUMMARY:Bible Study
DESCRIPTION:Join Pastor Cheol for Bible Study.  September 16\, 2018 to November 11\, 2018 \n8:30 am to 9:30 am
URL:https://www.rockumchurch.com/event/bible-study-2018-10-28/
LOCATION:Rockville United Methodist Church\, 142 Grove Street\, Rockville\, CT\, 06066\, United States
CATEGORIES:Education,Scripture,Worship
ORGANIZER;CN="Pastor Cheol":MAILTO:starcheol@gmail.com
END:VEVENT
BEGIN:VEVENT
DTSTART;TZID=America/New_York:20181021T100000
DTEND;TZID=America/New_York:20181021T110000
DTSTAMP:20260423T153010
CREATED:20180814T165450Z
LAST-MODIFIED:20180814T165450Z
UID:5554-1540116000-1540119600@www.rockumchurch.com
SUMMARY:Sunday School
DESCRIPTION:Children ages 3 years through high school are invited to attend our  Sunday school classes. Children are invited to the altar to hear the Youth Message during the service and then proceed to the Sunday school classrooms. The Sunday school classes are free for regular attendees and visitors alike. All are welcome!
URL:https://www.rockumchurch.com/event/sunday-school-4-2018-10-21/
LOCATION:Rockville United Methodist Church\, 142 Grove Street\, Rockville\, CT\, 06066\, United States
CATEGORIES:Education,Scripture,Worship,Youth
ORGANIZER;CN="Linda Shivers":MAILTO:necsvga@aol.com
END:VEVENT
BEGIN:VEVENT
DTSTART;TZID=America/New_York:20181021T083000
DTEND;TZID=America/New_York:20181021T093000
DTSTAMP:20260423T153010
CREATED:20180911T171340Z
LAST-MODIFIED:20180911T171340Z
UID:5685-1540110600-1540114200@www.rockumchurch.com
SUMMARY:Bible Study
DESCRIPTION:Join Pastor Cheol for Bible Study.  September 16\, 2018 to November 11\, 2018 \n8:30 am to 9:30 am
URL:https://www.rockumchurch.com/event/bible-study-2018-10-21/
LOCATION:Rockville United Methodist Church\, 142 Grove Street\, Rockville\, CT\, 06066\, United States
CATEGORIES:Education,Scripture,Worship
ORGANIZER;CN="Pastor Cheol":MAILTO:starcheol@gmail.com
END:VEVENT
BEGIN:VEVENT
DTSTART;TZID=America/New_York:20181014T100000
DTEND;TZID=America/New_York:20181014T110000
DTSTAMP:20260423T153010
CREATED:20180814T165450Z
LAST-MODIFIED:20180814T165450Z
UID:5553-1539511200-1539514800@www.rockumchurch.com
SUMMARY:Sunday School
DESCRIPTION:Children ages 3 years through high school are invited to attend our  Sunday school classes. Children are invited to the altar to hear the Youth Message during the service and then proceed to the Sunday school classrooms. The Sunday school classes are free for regular attendees and visitors alike. All are welcome!
URL:https://www.rockumchurch.com/event/sunday-school-4-2018-10-14/
LOCATION:Rockville United Methodist Church\, 142 Grove Street\, Rockville\, CT\, 06066\, United States
CATEGORIES:Education,Scripture,Worship,Youth
ORGANIZER;CN="Linda Shivers":MAILTO:necsvga@aol.com
END:VEVENT
BEGIN:VEVENT
DTSTART;TZID=America/New_York:20181014T083000
DTEND;TZID=America/New_York:20181014T093000
DTSTAMP:20260423T153010
CREATED:20180911T171340Z
LAST-MODIFIED:20180911T171340Z
UID:5684-1539505800-1539509400@www.rockumchurch.com
SUMMARY:Bible Study
DESCRIPTION:Join Pastor Cheol for Bible Study.  September 16\, 2018 to November 11\, 2018 \n8:30 am to 9:30 am
URL:https://www.rockumchurch.com/event/bible-study-2018-10-14/
LOCATION:Rockville United Methodist Church\, 142 Grove Street\, Rockville\, CT\, 06066\, United States
CATEGORIES:Education,Scripture,Worship
ORGANIZER;CN="Pastor Cheol":MAILTO:starcheol@gmail.com
END:VEVENT
END:VCALENDAR