BEGIN:VCALENDAR
VERSION:2.0
PRODID:-//Rockville United Methodist Church - ECPv6.15.20//NONSGML v1.0//EN
CALSCALE:GREGORIAN
METHOD:PUBLISH
X-ORIGINAL-URL:https://www.rockumchurch.com
X-WR-CALDESC:Events for Rockville United Methodist Church
REFRESH-INTERVAL;VALUE=DURATION:PT1H
X-Robots-Tag:noindex
X-PUBLISHED-TTL:PT1H
BEGIN:VTIMEZONE
TZID:America/New_York
BEGIN:DAYLIGHT
TZOFFSETFROM:-0500
TZOFFSETTO:-0400
TZNAME:EDT
DTSTART:20180311T070000
END:DAYLIGHT
BEGIN:STANDARD
TZOFFSETFROM:-0400
TZOFFSETTO:-0500
TZNAME:EST
DTSTART:20181104T060000
END:STANDARD
BEGIN:DAYLIGHT
TZOFFSETFROM:-0500
TZOFFSETTO:-0400
TZNAME:EDT
DTSTART:20190310T070000
END:DAYLIGHT
BEGIN:STANDARD
TZOFFSETFROM:-0400
TZOFFSETTO:-0500
TZNAME:EST
DTSTART:20191103T060000
END:STANDARD
BEGIN:DAYLIGHT
TZOFFSETFROM:-0500
TZOFFSETTO:-0400
TZNAME:EDT
DTSTART:20200308T070000
END:DAYLIGHT
BEGIN:STANDARD
TZOFFSETFROM:-0400
TZOFFSETTO:-0500
TZNAME:EST
DTSTART:20201101T060000
END:STANDARD
END:VTIMEZONE
BEGIN:VEVENT
DTSTART;TZID=America/New_York:20191029T193000
DTEND;TZID=America/New_York:20191029T203000
DTSTAMP:20260422T192707
CREATED:20190104T161347Z
LAST-MODIFIED:20190104T162233Z
UID:6219-1572377400-1572381000@www.rockumchurch.com
SUMMARY:Families Anonymous
DESCRIPTION:Families Anonymous is a 12 step Fellowship for the family and friends of individuals with Drug\, Alcohol\, or Related Behavioral issues.   \n \n 
URL:https://www.rockumchurch.com/event/families-anonymous-4-2019-10-29/
LOCATION:Rockville United Methodist Church\, 142 Grove Street\, Rockville\, CT\, 06066\, United States
CATEGORIES:Community Events,Support Group
END:VEVENT
BEGIN:VEVENT
DTSTART;TZID=America/New_York:20191024T190000
DTEND;TZID=America/New_York:20191024T200000
DTSTAMP:20260422T192707
CREATED:20190104T163702Z
LAST-MODIFIED:20190104T163702Z
UID:6381-1571943600-1571947200@www.rockumchurch.com
SUMMARY:Narcotics Anonymous
DESCRIPTION:Narcotics Anonymous is a 12 step support group for people who are recovering from drugs other then just alcohol.
URL:https://www.rockumchurch.com/event/narcotics-anonymous-3-2019-10-24/
LOCATION:Rockville United Methodist Church\, 142 Grove Street\, Rockville\, CT\, 06066\, United States
CATEGORIES:Community Events,Support Group
END:VEVENT
BEGIN:VEVENT
DTSTART;TZID=America/New_York:20191022T193000
DTEND;TZID=America/New_York:20191022T203000
DTSTAMP:20260422T192707
CREATED:20190104T161347Z
LAST-MODIFIED:20190104T162233Z
UID:6218-1571772600-1571776200@www.rockumchurch.com
SUMMARY:Families Anonymous
DESCRIPTION:Families Anonymous is a 12 step Fellowship for the family and friends of individuals with Drug\, Alcohol\, or Related Behavioral issues.   \n \n 
URL:https://www.rockumchurch.com/event/families-anonymous-4-2019-10-22/
LOCATION:Rockville United Methodist Church\, 142 Grove Street\, Rockville\, CT\, 06066\, United States
CATEGORIES:Community Events,Support Group
END:VEVENT
BEGIN:VEVENT
DTSTART;TZID=America/New_York:20191017T190000
DTEND;TZID=America/New_York:20191017T200000
DTSTAMP:20260422T192707
CREATED:20190104T163702Z
LAST-MODIFIED:20190104T163702Z
UID:6380-1571338800-1571342400@www.rockumchurch.com
SUMMARY:Narcotics Anonymous
DESCRIPTION:Narcotics Anonymous is a 12 step support group for people who are recovering from drugs other then just alcohol.
URL:https://www.rockumchurch.com/event/narcotics-anonymous-3-2019-10-17/
LOCATION:Rockville United Methodist Church\, 142 Grove Street\, Rockville\, CT\, 06066\, United States
CATEGORIES:Community Events,Support Group
END:VEVENT
BEGIN:VEVENT
DTSTART;TZID=America/New_York:20191015T193000
DTEND;TZID=America/New_York:20191015T203000
DTSTAMP:20260422T192707
CREATED:20190104T161347Z
LAST-MODIFIED:20190104T162233Z
UID:6217-1571167800-1571171400@www.rockumchurch.com
SUMMARY:Families Anonymous
DESCRIPTION:Families Anonymous is a 12 step Fellowship for the family and friends of individuals with Drug\, Alcohol\, or Related Behavioral issues.   \n \n 
URL:https://www.rockumchurch.com/event/families-anonymous-4-2019-10-15/
LOCATION:Rockville United Methodist Church\, 142 Grove Street\, Rockville\, CT\, 06066\, United States
CATEGORIES:Community Events,Support Group
END:VEVENT
BEGIN:VEVENT
DTSTART;TZID=America/New_York:20191010T190000
DTEND;TZID=America/New_York:20191010T200000
DTSTAMP:20260422T192707
CREATED:20190104T163702Z
LAST-MODIFIED:20190104T163702Z
UID:6379-1570734000-1570737600@www.rockumchurch.com
SUMMARY:Narcotics Anonymous
DESCRIPTION:Narcotics Anonymous is a 12 step support group for people who are recovering from drugs other then just alcohol.
URL:https://www.rockumchurch.com/event/narcotics-anonymous-3-2019-10-10/
LOCATION:Rockville United Methodist Church\, 142 Grove Street\, Rockville\, CT\, 06066\, United States
CATEGORIES:Community Events,Support Group
END:VEVENT
BEGIN:VEVENT
DTSTART;TZID=America/New_York:20191008T193000
DTEND;TZID=America/New_York:20191008T203000
DTSTAMP:20260422T192707
CREATED:20190104T161347Z
LAST-MODIFIED:20190104T162233Z
UID:6216-1570563000-1570566600@www.rockumchurch.com
SUMMARY:Families Anonymous
DESCRIPTION:Families Anonymous is a 12 step Fellowship for the family and friends of individuals with Drug\, Alcohol\, or Related Behavioral issues.   \n \n 
URL:https://www.rockumchurch.com/event/families-anonymous-4-2019-10-08/
LOCATION:Rockville United Methodist Church\, 142 Grove Street\, Rockville\, CT\, 06066\, United States
CATEGORIES:Community Events,Support Group
END:VEVENT
BEGIN:VEVENT
DTSTART;TZID=America/New_York:20191003T190000
DTEND;TZID=America/New_York:20191003T200000
DTSTAMP:20260422T192707
CREATED:20190104T163702Z
LAST-MODIFIED:20190104T163702Z
UID:6378-1570129200-1570132800@www.rockumchurch.com
SUMMARY:Narcotics Anonymous
DESCRIPTION:Narcotics Anonymous is a 12 step support group for people who are recovering from drugs other then just alcohol.
URL:https://www.rockumchurch.com/event/narcotics-anonymous-3-2019-10-03/
LOCATION:Rockville United Methodist Church\, 142 Grove Street\, Rockville\, CT\, 06066\, United States
CATEGORIES:Community Events,Support Group
END:VEVENT
BEGIN:VEVENT
DTSTART;TZID=America/New_York:20191001T193000
DTEND;TZID=America/New_York:20191001T203000
DTSTAMP:20260422T192707
CREATED:20190104T161347Z
LAST-MODIFIED:20190104T162232Z
UID:6215-1569958200-1569961800@www.rockumchurch.com
SUMMARY:Families Anonymous
DESCRIPTION:Families Anonymous is a 12 step Fellowship for the family and friends of individuals with Drug\, Alcohol\, or Related Behavioral issues.   \n \n 
URL:https://www.rockumchurch.com/event/families-anonymous-4-2019-10-01/
LOCATION:Rockville United Methodist Church\, 142 Grove Street\, Rockville\, CT\, 06066\, United States
CATEGORIES:Community Events,Support Group
END:VEVENT
BEGIN:VEVENT
DTSTART;TZID=America/New_York:20190926T190000
DTEND;TZID=America/New_York:20190926T200000
DTSTAMP:20260422T192707
CREATED:20190104T163702Z
LAST-MODIFIED:20190104T163702Z
UID:6377-1569524400-1569528000@www.rockumchurch.com
SUMMARY:Narcotics Anonymous
DESCRIPTION:Narcotics Anonymous is a 12 step support group for people who are recovering from drugs other then just alcohol.
URL:https://www.rockumchurch.com/event/narcotics-anonymous-3-2019-09-26/
LOCATION:Rockville United Methodist Church\, 142 Grove Street\, Rockville\, CT\, 06066\, United States
CATEGORIES:Community Events,Support Group
END:VEVENT
BEGIN:VEVENT
DTSTART;TZID=America/New_York:20190924T193000
DTEND;TZID=America/New_York:20190924T203000
DTSTAMP:20260422T192707
CREATED:20190104T161347Z
LAST-MODIFIED:20190104T162232Z
UID:6214-1569353400-1569357000@www.rockumchurch.com
SUMMARY:Families Anonymous
DESCRIPTION:Families Anonymous is a 12 step Fellowship for the family and friends of individuals with Drug\, Alcohol\, or Related Behavioral issues.   \n \n 
URL:https://www.rockumchurch.com/event/families-anonymous-4-2019-09-24/
LOCATION:Rockville United Methodist Church\, 142 Grove Street\, Rockville\, CT\, 06066\, United States
CATEGORIES:Community Events,Support Group
END:VEVENT
BEGIN:VEVENT
DTSTART;TZID=America/New_York:20190919T190000
DTEND;TZID=America/New_York:20190919T200000
DTSTAMP:20260422T192707
CREATED:20190104T163702Z
LAST-MODIFIED:20190104T163702Z
UID:6376-1568919600-1568923200@www.rockumchurch.com
SUMMARY:Narcotics Anonymous
DESCRIPTION:Narcotics Anonymous is a 12 step support group for people who are recovering from drugs other then just alcohol.
URL:https://www.rockumchurch.com/event/narcotics-anonymous-3-2019-09-19/
LOCATION:Rockville United Methodist Church\, 142 Grove Street\, Rockville\, CT\, 06066\, United States
CATEGORIES:Community Events,Support Group
END:VEVENT
BEGIN:VEVENT
DTSTART;TZID=America/New_York:20190917T193000
DTEND;TZID=America/New_York:20190917T203000
DTSTAMP:20260422T192707
CREATED:20190104T161347Z
LAST-MODIFIED:20190104T162232Z
UID:6213-1568748600-1568752200@www.rockumchurch.com
SUMMARY:Families Anonymous
DESCRIPTION:Families Anonymous is a 12 step Fellowship for the family and friends of individuals with Drug\, Alcohol\, or Related Behavioral issues.   \n \n 
URL:https://www.rockumchurch.com/event/families-anonymous-4-2019-09-17/
LOCATION:Rockville United Methodist Church\, 142 Grove Street\, Rockville\, CT\, 06066\, United States
CATEGORIES:Community Events,Support Group
END:VEVENT
BEGIN:VEVENT
DTSTART;TZID=America/New_York:20190912T190000
DTEND;TZID=America/New_York:20190912T200000
DTSTAMP:20260422T192707
CREATED:20190104T163702Z
LAST-MODIFIED:20190104T163702Z
UID:6375-1568314800-1568318400@www.rockumchurch.com
SUMMARY:Narcotics Anonymous
DESCRIPTION:Narcotics Anonymous is a 12 step support group for people who are recovering from drugs other then just alcohol.
URL:https://www.rockumchurch.com/event/narcotics-anonymous-3-2019-09-12/
LOCATION:Rockville United Methodist Church\, 142 Grove Street\, Rockville\, CT\, 06066\, United States
CATEGORIES:Community Events,Support Group
END:VEVENT
BEGIN:VEVENT
DTSTART;TZID=America/New_York:20190910T193000
DTEND;TZID=America/New_York:20190910T203000
DTSTAMP:20260422T192707
CREATED:20190104T161347Z
LAST-MODIFIED:20190104T162232Z
UID:6212-1568143800-1568147400@www.rockumchurch.com
SUMMARY:Families Anonymous
DESCRIPTION:Families Anonymous is a 12 step Fellowship for the family and friends of individuals with Drug\, Alcohol\, or Related Behavioral issues.   \n \n 
URL:https://www.rockumchurch.com/event/families-anonymous-4-2019-09-10/
LOCATION:Rockville United Methodist Church\, 142 Grove Street\, Rockville\, CT\, 06066\, United States
CATEGORIES:Community Events,Support Group
END:VEVENT
BEGIN:VEVENT
DTSTART;TZID=America/New_York:20190905T190000
DTEND;TZID=America/New_York:20190905T200000
DTSTAMP:20260422T192707
CREATED:20190104T163702Z
LAST-MODIFIED:20190104T163702Z
UID:6374-1567710000-1567713600@www.rockumchurch.com
SUMMARY:Narcotics Anonymous
DESCRIPTION:Narcotics Anonymous is a 12 step support group for people who are recovering from drugs other then just alcohol.
URL:https://www.rockumchurch.com/event/narcotics-anonymous-3-2019-09-05/
LOCATION:Rockville United Methodist Church\, 142 Grove Street\, Rockville\, CT\, 06066\, United States
CATEGORIES:Community Events,Support Group
END:VEVENT
BEGIN:VEVENT
DTSTART;TZID=America/New_York:20190903T193000
DTEND;TZID=America/New_York:20190903T203000
DTSTAMP:20260422T192707
CREATED:20190104T161347Z
LAST-MODIFIED:20190104T162232Z
UID:6211-1567539000-1567542600@www.rockumchurch.com
SUMMARY:Families Anonymous
DESCRIPTION:Families Anonymous is a 12 step Fellowship for the family and friends of individuals with Drug\, Alcohol\, or Related Behavioral issues.   \n \n 
URL:https://www.rockumchurch.com/event/families-anonymous-4-2019-09-03/
LOCATION:Rockville United Methodist Church\, 142 Grove Street\, Rockville\, CT\, 06066\, United States
CATEGORIES:Community Events,Support Group
END:VEVENT
BEGIN:VEVENT
DTSTART;TZID=America/New_York:20190829T190000
DTEND;TZID=America/New_York:20190829T200000
DTSTAMP:20260422T192707
CREATED:20190104T163702Z
LAST-MODIFIED:20190104T163702Z
UID:6373-1567105200-1567108800@www.rockumchurch.com
SUMMARY:Narcotics Anonymous
DESCRIPTION:Narcotics Anonymous is a 12 step support group for people who are recovering from drugs other then just alcohol.
URL:https://www.rockumchurch.com/event/narcotics-anonymous-3-2019-08-29/
LOCATION:Rockville United Methodist Church\, 142 Grove Street\, Rockville\, CT\, 06066\, United States
CATEGORIES:Community Events,Support Group
END:VEVENT
BEGIN:VEVENT
DTSTART;TZID=America/New_York:20190827T193000
DTEND;TZID=America/New_York:20190827T203000
DTSTAMP:20260422T192707
CREATED:20190104T161347Z
LAST-MODIFIED:20190104T162232Z
UID:6210-1566934200-1566937800@www.rockumchurch.com
SUMMARY:Families Anonymous
DESCRIPTION:Families Anonymous is a 12 step Fellowship for the family and friends of individuals with Drug\, Alcohol\, or Related Behavioral issues.   \n \n 
URL:https://www.rockumchurch.com/event/families-anonymous-4-2019-08-27/
LOCATION:Rockville United Methodist Church\, 142 Grove Street\, Rockville\, CT\, 06066\, United States
CATEGORIES:Community Events,Support Group
END:VEVENT
BEGIN:VEVENT
DTSTART;TZID=America/New_York:20190822T190000
DTEND;TZID=America/New_York:20190822T200000
DTSTAMP:20260422T192707
CREATED:20190104T163702Z
LAST-MODIFIED:20190104T163702Z
UID:6372-1566500400-1566504000@www.rockumchurch.com
SUMMARY:Narcotics Anonymous
DESCRIPTION:Narcotics Anonymous is a 12 step support group for people who are recovering from drugs other then just alcohol.
URL:https://www.rockumchurch.com/event/narcotics-anonymous-3-2019-08-22/
LOCATION:Rockville United Methodist Church\, 142 Grove Street\, Rockville\, CT\, 06066\, United States
CATEGORIES:Community Events,Support Group
END:VEVENT
BEGIN:VEVENT
DTSTART;TZID=America/New_York:20190820T193000
DTEND;TZID=America/New_York:20190820T203000
DTSTAMP:20260422T192707
CREATED:20190104T161347Z
LAST-MODIFIED:20190104T162232Z
UID:6209-1566329400-1566333000@www.rockumchurch.com
SUMMARY:Families Anonymous
DESCRIPTION:Families Anonymous is a 12 step Fellowship for the family and friends of individuals with Drug\, Alcohol\, or Related Behavioral issues.   \n \n 
URL:https://www.rockumchurch.com/event/families-anonymous-4-2019-08-20/
LOCATION:Rockville United Methodist Church\, 142 Grove Street\, Rockville\, CT\, 06066\, United States
CATEGORIES:Community Events,Support Group
END:VEVENT
BEGIN:VEVENT
DTSTART;TZID=America/New_York:20190815T190000
DTEND;TZID=America/New_York:20190815T200000
DTSTAMP:20260422T192707
CREATED:20190104T163702Z
LAST-MODIFIED:20190104T163702Z
UID:6371-1565895600-1565899200@www.rockumchurch.com
SUMMARY:Narcotics Anonymous
DESCRIPTION:Narcotics Anonymous is a 12 step support group for people who are recovering from drugs other then just alcohol.
URL:https://www.rockumchurch.com/event/narcotics-anonymous-3-2019-08-15/
LOCATION:Rockville United Methodist Church\, 142 Grove Street\, Rockville\, CT\, 06066\, United States
CATEGORIES:Community Events,Support Group
END:VEVENT
BEGIN:VEVENT
DTSTART;TZID=America/New_York:20190813T193000
DTEND;TZID=America/New_York:20190813T203000
DTSTAMP:20260422T192707
CREATED:20190104T161347Z
LAST-MODIFIED:20190104T162232Z
UID:6208-1565724600-1565728200@www.rockumchurch.com
SUMMARY:Families Anonymous
DESCRIPTION:Families Anonymous is a 12 step Fellowship for the family and friends of individuals with Drug\, Alcohol\, or Related Behavioral issues.   \n \n 
URL:https://www.rockumchurch.com/event/families-anonymous-4-2019-08-13/
LOCATION:Rockville United Methodist Church\, 142 Grove Street\, Rockville\, CT\, 06066\, United States
CATEGORIES:Community Events,Support Group
END:VEVENT
BEGIN:VEVENT
DTSTART;TZID=America/New_York:20190808T190000
DTEND;TZID=America/New_York:20190808T200000
DTSTAMP:20260422T192707
CREATED:20190104T163702Z
LAST-MODIFIED:20190104T163702Z
UID:6370-1565290800-1565294400@www.rockumchurch.com
SUMMARY:Narcotics Anonymous
DESCRIPTION:Narcotics Anonymous is a 12 step support group for people who are recovering from drugs other then just alcohol.
URL:https://www.rockumchurch.com/event/narcotics-anonymous-3-2019-08-08/
LOCATION:Rockville United Methodist Church\, 142 Grove Street\, Rockville\, CT\, 06066\, United States
CATEGORIES:Community Events,Support Group
END:VEVENT
BEGIN:VEVENT
DTSTART;TZID=America/New_York:20190806T193000
DTEND;TZID=America/New_York:20190806T203000
DTSTAMP:20260422T192707
CREATED:20190104T161347Z
LAST-MODIFIED:20190104T162232Z
UID:6207-1565119800-1565123400@www.rockumchurch.com
SUMMARY:Families Anonymous
DESCRIPTION:Families Anonymous is a 12 step Fellowship for the family and friends of individuals with Drug\, Alcohol\, or Related Behavioral issues.   \n \n 
URL:https://www.rockumchurch.com/event/families-anonymous-4-2019-08-06/
LOCATION:Rockville United Methodist Church\, 142 Grove Street\, Rockville\, CT\, 06066\, United States
CATEGORIES:Community Events,Support Group
END:VEVENT
BEGIN:VEVENT
DTSTART;TZID=America/New_York:20190801T190000
DTEND;TZID=America/New_York:20190801T200000
DTSTAMP:20260422T192707
CREATED:20190104T163702Z
LAST-MODIFIED:20190104T163702Z
UID:6369-1564686000-1564689600@www.rockumchurch.com
SUMMARY:Narcotics Anonymous
DESCRIPTION:Narcotics Anonymous is a 12 step support group for people who are recovering from drugs other then just alcohol.
URL:https://www.rockumchurch.com/event/narcotics-anonymous-3-2019-08-01/
LOCATION:Rockville United Methodist Church\, 142 Grove Street\, Rockville\, CT\, 06066\, United States
CATEGORIES:Community Events,Support Group
END:VEVENT
BEGIN:VEVENT
DTSTART;TZID=America/New_York:20190730T193000
DTEND;TZID=America/New_York:20190730T203000
DTSTAMP:20260422T192707
CREATED:20190104T161347Z
LAST-MODIFIED:20190104T162231Z
UID:6206-1564515000-1564518600@www.rockumchurch.com
SUMMARY:Families Anonymous
DESCRIPTION:Families Anonymous is a 12 step Fellowship for the family and friends of individuals with Drug\, Alcohol\, or Related Behavioral issues.   \n \n 
URL:https://www.rockumchurch.com/event/families-anonymous-4-2019-07-30/
LOCATION:Rockville United Methodist Church\, 142 Grove Street\, Rockville\, CT\, 06066\, United States
CATEGORIES:Community Events,Support Group
END:VEVENT
BEGIN:VEVENT
DTSTART;TZID=America/New_York:20190725T190000
DTEND;TZID=America/New_York:20190725T200000
DTSTAMP:20260422T192707
CREATED:20190104T163702Z
LAST-MODIFIED:20190104T163702Z
UID:6368-1564081200-1564084800@www.rockumchurch.com
SUMMARY:Narcotics Anonymous
DESCRIPTION:Narcotics Anonymous is a 12 step support group for people who are recovering from drugs other then just alcohol.
URL:https://www.rockumchurch.com/event/narcotics-anonymous-3-2019-07-25/
LOCATION:Rockville United Methodist Church\, 142 Grove Street\, Rockville\, CT\, 06066\, United States
CATEGORIES:Community Events,Support Group
END:VEVENT
BEGIN:VEVENT
DTSTART;TZID=America/New_York:20190723T193000
DTEND;TZID=America/New_York:20190723T203000
DTSTAMP:20260422T192707
CREATED:20190104T161347Z
LAST-MODIFIED:20190104T162231Z
UID:6205-1563910200-1563913800@www.rockumchurch.com
SUMMARY:Families Anonymous
DESCRIPTION:Families Anonymous is a 12 step Fellowship for the family and friends of individuals with Drug\, Alcohol\, or Related Behavioral issues.   \n \n 
URL:https://www.rockumchurch.com/event/families-anonymous-4-2019-07-23/
LOCATION:Rockville United Methodist Church\, 142 Grove Street\, Rockville\, CT\, 06066\, United States
CATEGORIES:Community Events,Support Group
END:VEVENT
BEGIN:VEVENT
DTSTART;TZID=America/New_York:20190718T190000
DTEND;TZID=America/New_York:20190718T200000
DTSTAMP:20260422T192707
CREATED:20190104T163702Z
LAST-MODIFIED:20190104T163702Z
UID:6367-1563476400-1563480000@www.rockumchurch.com
SUMMARY:Narcotics Anonymous
DESCRIPTION:Narcotics Anonymous is a 12 step support group for people who are recovering from drugs other then just alcohol.
URL:https://www.rockumchurch.com/event/narcotics-anonymous-3-2019-07-18/
LOCATION:Rockville United Methodist Church\, 142 Grove Street\, Rockville\, CT\, 06066\, United States
CATEGORIES:Community Events,Support Group
END:VEVENT
END:VCALENDAR