BEGIN:VCALENDAR
VERSION:2.0
PRODID:-//Rockville United Methodist Church - ECPv6.15.20//NONSGML v1.0//EN
CALSCALE:GREGORIAN
METHOD:PUBLISH
X-ORIGINAL-URL:https://www.rockumchurch.com
X-WR-CALDESC:Events for Rockville United Methodist Church
REFRESH-INTERVAL;VALUE=DURATION:PT1H
X-Robots-Tag:noindex
X-PUBLISHED-TTL:PT1H
BEGIN:VTIMEZONE
TZID:America/New_York
BEGIN:DAYLIGHT
TZOFFSETFROM:-0500
TZOFFSETTO:-0400
TZNAME:EDT
DTSTART:20160313T070000
END:DAYLIGHT
BEGIN:STANDARD
TZOFFSETFROM:-0400
TZOFFSETTO:-0500
TZNAME:EST
DTSTART:20161106T060000
END:STANDARD
BEGIN:DAYLIGHT
TZOFFSETFROM:-0500
TZOFFSETTO:-0400
TZNAME:EDT
DTSTART:20170312T070000
END:DAYLIGHT
BEGIN:STANDARD
TZOFFSETFROM:-0400
TZOFFSETTO:-0500
TZNAME:EST
DTSTART:20171105T060000
END:STANDARD
BEGIN:DAYLIGHT
TZOFFSETFROM:-0500
TZOFFSETTO:-0400
TZNAME:EDT
DTSTART:20180311T070000
END:DAYLIGHT
BEGIN:STANDARD
TZOFFSETFROM:-0400
TZOFFSETTO:-0500
TZNAME:EST
DTSTART:20181104T060000
END:STANDARD
END:VTIMEZONE
BEGIN:VEVENT
DTSTART;TZID=America/New_York:20171005T190000
DTEND;TZID=America/New_York:20171005T200000
DTSTAMP:20260425T063655
CREATED:20170906T201201Z
LAST-MODIFIED:20170906T201201Z
UID:4395-1507230000-1507233600@www.rockumchurch.com
SUMMARY:NA- Narcotics Anonymous
DESCRIPTION:Weekly support group for recovering addicts.
URL:https://www.rockumchurch.com/event/na-narcotics-anonymous-2017-10-05/
LOCATION:Rockville United Methodist Church\, 142 Grove Street\, Rockville\, CT\, 06066\, United States
CATEGORIES:Community Events
END:VEVENT
BEGIN:VEVENT
DTSTART;TZID=America/New_York:20171003T193000
DTEND;TZID=America/New_York:20171003T210000
DTSTAMP:20260425T063655
CREATED:20170906T201659Z
LAST-MODIFIED:20170906T201659Z
UID:4412-1507059000-1507064400@www.rockumchurch.com
SUMMARY:FA - Families Anonymous
DESCRIPTION:Support group for the family members of addicts.
URL:https://www.rockumchurch.com/event/fa-families-anonymous-2017-10-03/
LOCATION:Rockville United Methodist Church\, 142 Grove Street\, Rockville\, CT\, 06066\, United States
CATEGORIES:Community Events
END:VEVENT
BEGIN:VEVENT
DTSTART;TZID=America/New_York:20171003T190000
DTEND;TZID=America/New_York:20171003T203000
DTSTAMP:20260425T063655
CREATED:20170927T180442Z
LAST-MODIFIED:20170927T180545Z
UID:4565-1507057200-1507062600@www.rockumchurch.com
SUMMARY:Women's Choir
DESCRIPTION:
URL:https://www.rockumchurch.com/event/womens-choir/
LOCATION:Rockville United Methodist Church\, 142 Grove Street\, Rockville\, CT\, 06066\, United States
CATEGORIES:Community Events,Music,RUMC Events
ATTACH;FMTTYPE=image/jpeg:https://www.rockumchurch.com/wp-content/uploads/2017/09/womens_10606c.jpg
END:VEVENT
BEGIN:VEVENT
DTSTART;TZID=America/New_York:20170928T190000
DTEND;TZID=America/New_York:20170928T200000
DTSTAMP:20260425T063655
CREATED:20170906T201201Z
LAST-MODIFIED:20170906T201201Z
UID:4394-1506625200-1506628800@www.rockumchurch.com
SUMMARY:NA- Narcotics Anonymous
DESCRIPTION:Weekly support group for recovering addicts.
URL:https://www.rockumchurch.com/event/na-narcotics-anonymous-2017-09-28/
LOCATION:Rockville United Methodist Church\, 142 Grove Street\, Rockville\, CT\, 06066\, United States
CATEGORIES:Community Events
END:VEVENT
BEGIN:VEVENT
DTSTART;TZID=America/New_York:20170926T193000
DTEND;TZID=America/New_York:20170926T210000
DTSTAMP:20260425T063655
CREATED:20170906T201659Z
LAST-MODIFIED:20170906T201659Z
UID:4411-1506454200-1506459600@www.rockumchurch.com
SUMMARY:FA - Families Anonymous
DESCRIPTION:Support group for the family members of addicts.
URL:https://www.rockumchurch.com/event/fa-families-anonymous-2017-09-26/
LOCATION:Rockville United Methodist Church\, 142 Grove Street\, Rockville\, CT\, 06066\, United States
CATEGORIES:Community Events
END:VEVENT
BEGIN:VEVENT
DTSTART;TZID=America/New_York:20170921T190000
DTEND;TZID=America/New_York:20170921T200000
DTSTAMP:20260425T063655
CREATED:20170906T201201Z
LAST-MODIFIED:20170906T201201Z
UID:4393-1506020400-1506024000@www.rockumchurch.com
SUMMARY:NA- Narcotics Anonymous
DESCRIPTION:Weekly support group for recovering addicts.
URL:https://www.rockumchurch.com/event/na-narcotics-anonymous-2017-09-21/
LOCATION:Rockville United Methodist Church\, 142 Grove Street\, Rockville\, CT\, 06066\, United States
CATEGORIES:Community Events
END:VEVENT
BEGIN:VEVENT
DTSTART;TZID=America/New_York:20170919T193000
DTEND;TZID=America/New_York:20170919T210000
DTSTAMP:20260425T063655
CREATED:20170906T201659Z
LAST-MODIFIED:20170906T201659Z
UID:4410-1505849400-1505854800@www.rockumchurch.com
SUMMARY:FA - Families Anonymous
DESCRIPTION:Support group for the family members of addicts.
URL:https://www.rockumchurch.com/event/fa-families-anonymous-2017-09-19/
LOCATION:Rockville United Methodist Church\, 142 Grove Street\, Rockville\, CT\, 06066\, United States
CATEGORIES:Community Events
END:VEVENT
BEGIN:VEVENT
DTSTART;TZID=America/New_York:20170914T190000
DTEND;TZID=America/New_York:20170914T200000
DTSTAMP:20260425T063655
CREATED:20170906T201201Z
LAST-MODIFIED:20170906T201201Z
UID:4392-1505415600-1505419200@www.rockumchurch.com
SUMMARY:NA- Narcotics Anonymous
DESCRIPTION:Weekly support group for recovering addicts.
URL:https://www.rockumchurch.com/event/na-narcotics-anonymous-2017-09-14/
LOCATION:Rockville United Methodist Church\, 142 Grove Street\, Rockville\, CT\, 06066\, United States
CATEGORIES:Community Events
END:VEVENT
BEGIN:VEVENT
DTSTART;TZID=America/New_York:20170912T193000
DTEND;TZID=America/New_York:20170912T210000
DTSTAMP:20260425T063655
CREATED:20170906T201659Z
LAST-MODIFIED:20170906T201659Z
UID:4408-1505244600-1505250000@www.rockumchurch.com
SUMMARY:FA - Families Anonymous
DESCRIPTION:Support group for the family members of addicts.
URL:https://www.rockumchurch.com/event/fa-families-anonymous/
LOCATION:Rockville United Methodist Church\, 142 Grove Street\, Rockville\, CT\, 06066\, United States
CATEGORIES:Community Events
END:VEVENT
BEGIN:VEVENT
DTSTART;TZID=America/New_York:20170907T190000
DTEND;TZID=America/New_York:20170907T200000
DTSTAMP:20260425T063655
CREATED:20170906T201201Z
LAST-MODIFIED:20170906T201201Z
UID:4390-1504810800-1504814400@www.rockumchurch.com
SUMMARY:NA- Narcotics Anonymous
DESCRIPTION:Weekly support group for recovering addicts.
URL:https://www.rockumchurch.com/event/na-narcotics-anonymous/
LOCATION:Rockville United Methodist Church\, 142 Grove Street\, Rockville\, CT\, 06066\, United States
CATEGORIES:Community Events
END:VEVENT
END:VCALENDAR