BEGIN:VCALENDAR
VERSION:2.0
PRODID:-//Rockville United Methodist Church - ECPv6.15.20//NONSGML v1.0//EN
CALSCALE:GREGORIAN
METHOD:PUBLISH
X-WR-CALNAME:Rockville United Methodist Church
X-ORIGINAL-URL:https://www.rockumchurch.com
X-WR-CALDESC:Events for Rockville United Methodist Church
REFRESH-INTERVAL;VALUE=DURATION:PT1H
X-Robots-Tag:noindex
X-PUBLISHED-TTL:PT1H
BEGIN:VTIMEZONE
TZID:America/New_York
BEGIN:DAYLIGHT
TZOFFSETFROM:-0500
TZOFFSETTO:-0400
TZNAME:EDT
DTSTART:20160313T070000
END:DAYLIGHT
BEGIN:STANDARD
TZOFFSETFROM:-0400
TZOFFSETTO:-0500
TZNAME:EST
DTSTART:20161106T060000
END:STANDARD
BEGIN:DAYLIGHT
TZOFFSETFROM:-0500
TZOFFSETTO:-0400
TZNAME:EDT
DTSTART:20170312T070000
END:DAYLIGHT
BEGIN:STANDARD
TZOFFSETFROM:-0400
TZOFFSETTO:-0500
TZNAME:EST
DTSTART:20171105T060000
END:STANDARD
BEGIN:DAYLIGHT
TZOFFSETFROM:-0500
TZOFFSETTO:-0400
TZNAME:EDT
DTSTART:20180311T070000
END:DAYLIGHT
BEGIN:STANDARD
TZOFFSETFROM:-0400
TZOFFSETTO:-0500
TZNAME:EST
DTSTART:20181104T060000
END:STANDARD
BEGIN:DAYLIGHT
TZOFFSETFROM:-0500
TZOFFSETTO:-0400
TZNAME:EDT
DTSTART:20190310T070000
END:DAYLIGHT
BEGIN:STANDARD
TZOFFSETFROM:-0400
TZOFFSETTO:-0500
TZNAME:EST
DTSTART:20191103T060000
END:STANDARD
END:VTIMEZONE
BEGIN:VEVENT
DTSTART;TZID=America/New_York:20180308T190000
DTEND;TZID=America/New_York:20180308T210000
DTSTAMP:20260424T224449
CREATED:20180111T165008Z
LAST-MODIFIED:20180111T165008Z
UID:4901-1520535600-1520542800@www.rockumchurch.com
SUMMARY:NA - Narcotics Anonymous
DESCRIPTION:Help with the daily struggle of addiction.
URL:https://www.rockumchurch.com/event/na-narcotics-anonymous-2-2018-03-08/
LOCATION:Rockville United Methodist Church\, 142 Grove Street\, Rockville\, CT\, 06066\, United States
CATEGORIES:Community Events
END:VEVENT
BEGIN:VEVENT
DTSTART;TZID=America/New_York:20180306T193000
DTEND;TZID=America/New_York:20180306T210000
DTSTAMP:20260424T224449
CREATED:20180111T164543Z
LAST-MODIFIED:20180111T164543Z
UID:4843-1520364600-1520370000@www.rockumchurch.com
SUMMARY:Families Anonymous
DESCRIPTION:Open to the public for people with family members who are struggling with addiction.
URL:https://www.rockumchurch.com/event/families-anonymous-2018-03-06/
LOCATION:Rockville United Methodist Church\, 142 Grove Street\, Rockville\, CT\, 06066\, United States
CATEGORIES:Community Events
END:VEVENT
BEGIN:VEVENT
DTSTART;TZID=America/New_York:20180301T190000
DTEND;TZID=America/New_York:20180301T210000
DTSTAMP:20260424T224449
CREATED:20180111T165008Z
LAST-MODIFIED:20180111T165008Z
UID:4900-1519930800-1519938000@www.rockumchurch.com
SUMMARY:NA - Narcotics Anonymous
DESCRIPTION:Help with the daily struggle of addiction.
URL:https://www.rockumchurch.com/event/na-narcotics-anonymous-2-2018-03-01/
LOCATION:Rockville United Methodist Church\, 142 Grove Street\, Rockville\, CT\, 06066\, United States
CATEGORIES:Community Events
END:VEVENT
BEGIN:VEVENT
DTSTART;TZID=America/New_York:20180227T193000
DTEND;TZID=America/New_York:20180227T210000
DTSTAMP:20260424T224449
CREATED:20180111T164543Z
LAST-MODIFIED:20180111T164543Z
UID:4842-1519759800-1519765200@www.rockumchurch.com
SUMMARY:Families Anonymous
DESCRIPTION:Open to the public for people with family members who are struggling with addiction.
URL:https://www.rockumchurch.com/event/families-anonymous-2018-02-27/
LOCATION:Rockville United Methodist Church\, 142 Grove Street\, Rockville\, CT\, 06066\, United States
CATEGORIES:Community Events
END:VEVENT
BEGIN:VEVENT
DTSTART;TZID=America/New_York:20180222T190000
DTEND;TZID=America/New_York:20180222T210000
DTSTAMP:20260424T224449
CREATED:20180111T165008Z
LAST-MODIFIED:20180111T165008Z
UID:4899-1519326000-1519333200@www.rockumchurch.com
SUMMARY:NA - Narcotics Anonymous
DESCRIPTION:Help with the daily struggle of addiction.
URL:https://www.rockumchurch.com/event/na-narcotics-anonymous-2-2018-02-22/
LOCATION:Rockville United Methodist Church\, 142 Grove Street\, Rockville\, CT\, 06066\, United States
CATEGORIES:Community Events
END:VEVENT
BEGIN:VEVENT
DTSTART;TZID=America/New_York:20180220T193000
DTEND;TZID=America/New_York:20180220T210000
DTSTAMP:20260424T224449
CREATED:20180111T164543Z
LAST-MODIFIED:20180111T164543Z
UID:4841-1519155000-1519160400@www.rockumchurch.com
SUMMARY:Families Anonymous
DESCRIPTION:Open to the public for people with family members who are struggling with addiction.
URL:https://www.rockumchurch.com/event/families-anonymous-2018-02-20/
LOCATION:Rockville United Methodist Church\, 142 Grove Street\, Rockville\, CT\, 06066\, United States
CATEGORIES:Community Events
END:VEVENT
BEGIN:VEVENT
DTSTART;TZID=America/New_York:20180215T190000
DTEND;TZID=America/New_York:20180215T210000
DTSTAMP:20260424T224449
CREATED:20180111T165008Z
LAST-MODIFIED:20180111T165008Z
UID:4898-1518721200-1518728400@www.rockumchurch.com
SUMMARY:NA - Narcotics Anonymous
DESCRIPTION:Help with the daily struggle of addiction.
URL:https://www.rockumchurch.com/event/na-narcotics-anonymous-2-2018-02-15/
LOCATION:Rockville United Methodist Church\, 142 Grove Street\, Rockville\, CT\, 06066\, United States
CATEGORIES:Community Events
END:VEVENT
BEGIN:VEVENT
DTSTART;TZID=America/New_York:20180213T193000
DTEND;TZID=America/New_York:20180213T210000
DTSTAMP:20260424T224449
CREATED:20180111T164543Z
LAST-MODIFIED:20180111T164543Z
UID:4840-1518550200-1518555600@www.rockumchurch.com
SUMMARY:Families Anonymous
DESCRIPTION:Open to the public for people with family members who are struggling with addiction.
URL:https://www.rockumchurch.com/event/families-anonymous-2018-02-13/
LOCATION:Rockville United Methodist Church\, 142 Grove Street\, Rockville\, CT\, 06066\, United States
CATEGORIES:Community Events
END:VEVENT
BEGIN:VEVENT
DTSTART;TZID=America/New_York:20180208T190000
DTEND;TZID=America/New_York:20180208T210000
DTSTAMP:20260424T224449
CREATED:20180111T165008Z
LAST-MODIFIED:20180111T165008Z
UID:4897-1518116400-1518123600@www.rockumchurch.com
SUMMARY:NA - Narcotics Anonymous
DESCRIPTION:Help with the daily struggle of addiction.
URL:https://www.rockumchurch.com/event/na-narcotics-anonymous-2-2018-02-08/
LOCATION:Rockville United Methodist Church\, 142 Grove Street\, Rockville\, CT\, 06066\, United States
CATEGORIES:Community Events
END:VEVENT
BEGIN:VEVENT
DTSTART;TZID=America/New_York:20180206T193000
DTEND;TZID=America/New_York:20180206T210000
DTSTAMP:20260424T224449
CREATED:20180111T164543Z
LAST-MODIFIED:20180111T164543Z
UID:4839-1517945400-1517950800@www.rockumchurch.com
SUMMARY:Families Anonymous
DESCRIPTION:Open to the public for people with family members who are struggling with addiction.
URL:https://www.rockumchurch.com/event/families-anonymous-2018-02-06/
LOCATION:Rockville United Methodist Church\, 142 Grove Street\, Rockville\, CT\, 06066\, United States
CATEGORIES:Community Events
END:VEVENT
BEGIN:VEVENT
DTSTART;TZID=America/New_York:20180201T190000
DTEND;TZID=America/New_York:20180201T210000
DTSTAMP:20260424T224449
CREATED:20180111T165008Z
LAST-MODIFIED:20180111T165008Z
UID:4896-1517511600-1517518800@www.rockumchurch.com
SUMMARY:NA - Narcotics Anonymous
DESCRIPTION:Help with the daily struggle of addiction.
URL:https://www.rockumchurch.com/event/na-narcotics-anonymous-2-2018-02-01/
LOCATION:Rockville United Methodist Church\, 142 Grove Street\, Rockville\, CT\, 06066\, United States
CATEGORIES:Community Events
END:VEVENT
BEGIN:VEVENT
DTSTART;TZID=America/New_York:20180130T193000
DTEND;TZID=America/New_York:20180130T210000
DTSTAMP:20260424T224449
CREATED:20180111T164543Z
LAST-MODIFIED:20180111T164543Z
UID:4838-1517340600-1517346000@www.rockumchurch.com
SUMMARY:Families Anonymous
DESCRIPTION:Open to the public for people with family members who are struggling with addiction.
URL:https://www.rockumchurch.com/event/families-anonymous-2018-01-30/
LOCATION:Rockville United Methodist Church\, 142 Grove Street\, Rockville\, CT\, 06066\, United States
CATEGORIES:Community Events
END:VEVENT
BEGIN:VEVENT
DTSTART;TZID=America/New_York:20180125T190000
DTEND;TZID=America/New_York:20180125T210000
DTSTAMP:20260424T224449
CREATED:20180111T165008Z
LAST-MODIFIED:20180111T165008Z
UID:4895-1516906800-1516914000@www.rockumchurch.com
SUMMARY:NA - Narcotics Anonymous
DESCRIPTION:Help with the daily struggle of addiction.
URL:https://www.rockumchurch.com/event/na-narcotics-anonymous-2-2018-01-25/
LOCATION:Rockville United Methodist Church\, 142 Grove Street\, Rockville\, CT\, 06066\, United States
CATEGORIES:Community Events
END:VEVENT
BEGIN:VEVENT
DTSTART;TZID=America/New_York:20180123T193000
DTEND;TZID=America/New_York:20180123T210000
DTSTAMP:20260424T224449
CREATED:20180111T164543Z
LAST-MODIFIED:20180111T164543Z
UID:4837-1516735800-1516741200@www.rockumchurch.com
SUMMARY:Families Anonymous
DESCRIPTION:Open to the public for people with family members who are struggling with addiction.
URL:https://www.rockumchurch.com/event/families-anonymous-2018-01-23/
LOCATION:Rockville United Methodist Church\, 142 Grove Street\, Rockville\, CT\, 06066\, United States
CATEGORIES:Community Events
END:VEVENT
BEGIN:VEVENT
DTSTART;TZID=America/New_York:20180118T190000
DTEND;TZID=America/New_York:20180118T210000
DTSTAMP:20260424T224449
CREATED:20180111T165008Z
LAST-MODIFIED:20180111T165008Z
UID:4894-1516302000-1516309200@www.rockumchurch.com
SUMMARY:NA - Narcotics Anonymous
DESCRIPTION:Help with the daily struggle of addiction.
URL:https://www.rockumchurch.com/event/na-narcotics-anonymous-2-2018-01-18/
LOCATION:Rockville United Methodist Church\, 142 Grove Street\, Rockville\, CT\, 06066\, United States
CATEGORIES:Community Events
END:VEVENT
BEGIN:VEVENT
DTSTART;TZID=America/New_York:20180116T193000
DTEND;TZID=America/New_York:20180116T210000
DTSTAMP:20260424T224449
CREATED:20180111T164543Z
LAST-MODIFIED:20180111T164543Z
UID:4836-1516131000-1516136400@www.rockumchurch.com
SUMMARY:Families Anonymous
DESCRIPTION:Open to the public for people with family members who are struggling with addiction.
URL:https://www.rockumchurch.com/event/families-anonymous-2018-01-16/
LOCATION:Rockville United Methodist Church\, 142 Grove Street\, Rockville\, CT\, 06066\, United States
CATEGORIES:Community Events
END:VEVENT
BEGIN:VEVENT
DTSTART;TZID=America/New_York:20180111T190000
DTEND;TZID=America/New_York:20180111T210000
DTSTAMP:20260424T224449
CREATED:20180111T165008Z
LAST-MODIFIED:20180111T165008Z
UID:4893-1515697200-1515704400@www.rockumchurch.com
SUMMARY:NA - Narcotics Anonymous
DESCRIPTION:Help with the daily struggle of addiction.
URL:https://www.rockumchurch.com/event/na-narcotics-anonymous-2-2018-01-11/
LOCATION:Rockville United Methodist Church\, 142 Grove Street\, Rockville\, CT\, 06066\, United States
CATEGORIES:Community Events
END:VEVENT
BEGIN:VEVENT
DTSTART;TZID=America/New_York:20180109T193000
DTEND;TZID=America/New_York:20180109T210000
DTSTAMP:20260424T224449
CREATED:20180111T164543Z
LAST-MODIFIED:20180111T164543Z
UID:4835-1515526200-1515531600@www.rockumchurch.com
SUMMARY:Families Anonymous
DESCRIPTION:Open to the public for people with family members who are struggling with addiction.
URL:https://www.rockumchurch.com/event/families-anonymous-2018-01-09/
LOCATION:Rockville United Methodist Church\, 142 Grove Street\, Rockville\, CT\, 06066\, United States
CATEGORIES:Community Events
END:VEVENT
BEGIN:VEVENT
DTSTART;TZID=America/New_York:20180104T190000
DTEND;TZID=America/New_York:20180104T210000
DTSTAMP:20260424T224449
CREATED:20180111T165008Z
LAST-MODIFIED:20180111T165008Z
UID:4891-1515092400-1515099600@www.rockumchurch.com
SUMMARY:NA - Narcotics Anonymous
DESCRIPTION:Help with the daily struggle of addiction.
URL:https://www.rockumchurch.com/event/na-narcotics-anonymous-2/
LOCATION:Rockville United Methodist Church\, 142 Grove Street\, Rockville\, CT\, 06066\, United States
CATEGORIES:Community Events
END:VEVENT
BEGIN:VEVENT
DTSTART;TZID=America/New_York:20180102T193000
DTEND;TZID=America/New_York:20180102T210000
DTSTAMP:20260424T224449
CREATED:20180111T164543Z
LAST-MODIFIED:20180111T164543Z
UID:4833-1514921400-1514926800@www.rockumchurch.com
SUMMARY:Families Anonymous
DESCRIPTION:Open to the public for people with family members who are struggling with addiction.
URL:https://www.rockumchurch.com/event/families-anonymous/
LOCATION:Rockville United Methodist Church\, 142 Grove Street\, Rockville\, CT\, 06066\, United States
CATEGORIES:Community Events
END:VEVENT
BEGIN:VEVENT
DTSTART;TZID=America/New_York:20171228T190000
DTEND;TZID=America/New_York:20171228T200000
DTSTAMP:20260424T224449
CREATED:20170906T201201Z
LAST-MODIFIED:20170906T201201Z
UID:4407-1514487600-1514491200@www.rockumchurch.com
SUMMARY:NA- Narcotics Anonymous
DESCRIPTION:Weekly support group for recovering addicts.
URL:https://www.rockumchurch.com/event/na-narcotics-anonymous-2017-12-28/
LOCATION:Rockville United Methodist Church\, 142 Grove Street\, Rockville\, CT\, 06066\, United States
CATEGORIES:Community Events
END:VEVENT
BEGIN:VEVENT
DTSTART;TZID=America/New_York:20171226T193000
DTEND;TZID=America/New_York:20171226T210000
DTSTAMP:20260424T224449
CREATED:20170906T201659Z
LAST-MODIFIED:20170906T201659Z
UID:4424-1514316600-1514322000@www.rockumchurch.com
SUMMARY:FA - Families Anonymous
DESCRIPTION:Support group for the family members of addicts.
URL:https://www.rockumchurch.com/event/fa-families-anonymous-2017-12-26/
LOCATION:Rockville United Methodist Church\, 142 Grove Street\, Rockville\, CT\, 06066\, United States
CATEGORIES:Community Events
END:VEVENT
BEGIN:VEVENT
DTSTART;TZID=America/New_York:20171221T190000
DTEND;TZID=America/New_York:20171221T200000
DTSTAMP:20260424T224449
CREATED:20170906T201201Z
LAST-MODIFIED:20170906T201201Z
UID:4406-1513882800-1513886400@www.rockumchurch.com
SUMMARY:NA- Narcotics Anonymous
DESCRIPTION:Weekly support group for recovering addicts.
URL:https://www.rockumchurch.com/event/na-narcotics-anonymous-2017-12-21/
LOCATION:Rockville United Methodist Church\, 142 Grove Street\, Rockville\, CT\, 06066\, United States
CATEGORIES:Community Events
END:VEVENT
BEGIN:VEVENT
DTSTART;TZID=America/New_York:20171219T193000
DTEND;TZID=America/New_York:20171219T210000
DTSTAMP:20260424T224449
CREATED:20170906T201659Z
LAST-MODIFIED:20170906T201659Z
UID:4423-1513711800-1513717200@www.rockumchurch.com
SUMMARY:FA - Families Anonymous
DESCRIPTION:Support group for the family members of addicts.
URL:https://www.rockumchurch.com/event/fa-families-anonymous-2017-12-19/
LOCATION:Rockville United Methodist Church\, 142 Grove Street\, Rockville\, CT\, 06066\, United States
CATEGORIES:Community Events
END:VEVENT
BEGIN:VEVENT
DTSTART;TZID=America/New_York:20171217T160000
DTEND;TZID=America/New_York:20171217T180000
DTSTAMP:20260424T224449
CREATED:20171130T204011Z
LAST-MODIFIED:20171130T204011Z
UID:4779-1513526400-1513533600@www.rockumchurch.com
SUMMARY:A Family Christmas
DESCRIPTION:Performances by our Youth Bells and Youth Praise Band.  Special Appearance by one Jolly Old Elf. Open to the public.
URL:https://www.rockumchurch.com/event/a-family-christmas/
LOCATION:Rockville United Methodist Church\, 142 Grove Street\, Rockville\, CT\, 06066\, United States
CATEGORIES:Community Events,Music
END:VEVENT
BEGIN:VEVENT
DTSTART;TZID=America/New_York:20171214T190000
DTEND;TZID=America/New_York:20171214T200000
DTSTAMP:20260424T224449
CREATED:20170906T201201Z
LAST-MODIFIED:20170906T201201Z
UID:4405-1513278000-1513281600@www.rockumchurch.com
SUMMARY:NA- Narcotics Anonymous
DESCRIPTION:Weekly support group for recovering addicts.
URL:https://www.rockumchurch.com/event/na-narcotics-anonymous-2017-12-14/
LOCATION:Rockville United Methodist Church\, 142 Grove Street\, Rockville\, CT\, 06066\, United States
CATEGORIES:Community Events
END:VEVENT
BEGIN:VEVENT
DTSTART;TZID=America/New_York:20171212T193000
DTEND;TZID=America/New_York:20171212T210000
DTSTAMP:20260424T224449
CREATED:20170906T201659Z
LAST-MODIFIED:20170906T201659Z
UID:4422-1513107000-1513112400@www.rockumchurch.com
SUMMARY:FA - Families Anonymous
DESCRIPTION:Support group for the family members of addicts.
URL:https://www.rockumchurch.com/event/fa-families-anonymous-2017-12-12/
LOCATION:Rockville United Methodist Church\, 142 Grove Street\, Rockville\, CT\, 06066\, United States
CATEGORIES:Community Events
END:VEVENT
BEGIN:VEVENT
DTSTART;TZID=America/New_York:20171207T190000
DTEND;TZID=America/New_York:20171207T200000
DTSTAMP:20260424T224449
CREATED:20170906T201201Z
LAST-MODIFIED:20170906T201201Z
UID:4404-1512673200-1512676800@www.rockumchurch.com
SUMMARY:NA- Narcotics Anonymous
DESCRIPTION:Weekly support group for recovering addicts.
URL:https://www.rockumchurch.com/event/na-narcotics-anonymous-2017-12-07/
LOCATION:Rockville United Methodist Church\, 142 Grove Street\, Rockville\, CT\, 06066\, United States
CATEGORIES:Community Events
END:VEVENT
BEGIN:VEVENT
DTSTART;TZID=America/New_York:20171205T193000
DTEND;TZID=America/New_York:20171205T210000
DTSTAMP:20260424T224449
CREATED:20170906T201659Z
LAST-MODIFIED:20170906T201659Z
UID:4421-1512502200-1512507600@www.rockumchurch.com
SUMMARY:FA - Families Anonymous
DESCRIPTION:Support group for the family members of addicts.
URL:https://www.rockumchurch.com/event/fa-families-anonymous-2017-12-05/
LOCATION:Rockville United Methodist Church\, 142 Grove Street\, Rockville\, CT\, 06066\, United States
CATEGORIES:Community Events
END:VEVENT
BEGIN:VEVENT
DTSTART;TZID=America/New_York:20171130T190000
DTEND;TZID=America/New_York:20171130T200000
DTSTAMP:20260424T224449
CREATED:20170906T201201Z
LAST-MODIFIED:20170906T201201Z
UID:4403-1512068400-1512072000@www.rockumchurch.com
SUMMARY:NA- Narcotics Anonymous
DESCRIPTION:Weekly support group for recovering addicts.
URL:https://www.rockumchurch.com/event/na-narcotics-anonymous-2017-11-30/
LOCATION:Rockville United Methodist Church\, 142 Grove Street\, Rockville\, CT\, 06066\, United States
CATEGORIES:Community Events
END:VEVENT
END:VCALENDAR