BEGIN:VCALENDAR
VERSION:2.0
PRODID:-//Rockville United Methodist Church - ECPv6.15.20//NONSGML v1.0//EN
CALSCALE:GREGORIAN
METHOD:PUBLISH
X-WR-CALNAME:Rockville United Methodist Church
X-ORIGINAL-URL:https://www.rockumchurch.com
X-WR-CALDESC:Events for Rockville United Methodist Church
REFRESH-INTERVAL;VALUE=DURATION:PT1H
X-Robots-Tag:noindex
X-PUBLISHED-TTL:PT1H
BEGIN:VTIMEZONE
TZID:America/New_York
BEGIN:DAYLIGHT
TZOFFSETFROM:-0500
TZOFFSETTO:-0400
TZNAME:EDT
DTSTART:20170312T070000
END:DAYLIGHT
BEGIN:STANDARD
TZOFFSETFROM:-0400
TZOFFSETTO:-0500
TZNAME:EST
DTSTART:20171105T060000
END:STANDARD
BEGIN:DAYLIGHT
TZOFFSETFROM:-0500
TZOFFSETTO:-0400
TZNAME:EDT
DTSTART:20180311T070000
END:DAYLIGHT
BEGIN:STANDARD
TZOFFSETFROM:-0400
TZOFFSETTO:-0500
TZNAME:EST
DTSTART:20181104T060000
END:STANDARD
BEGIN:DAYLIGHT
TZOFFSETFROM:-0500
TZOFFSETTO:-0400
TZNAME:EDT
DTSTART:20190310T070000
END:DAYLIGHT
BEGIN:STANDARD
TZOFFSETFROM:-0400
TZOFFSETTO:-0500
TZNAME:EST
DTSTART:20191103T060000
END:STANDARD
END:VTIMEZONE
BEGIN:VEVENT
DTSTART;TZID=America/New_York:20180510T190000
DTEND;TZID=America/New_York:20180510T210000
DTSTAMP:20260424T193540
CREATED:20180111T165008Z
LAST-MODIFIED:20180111T165008Z
UID:4910-1525978800-1525986000@www.rockumchurch.com
SUMMARY:NA - Narcotics Anonymous
DESCRIPTION:Help with the daily struggle of addiction.
URL:https://www.rockumchurch.com/event/na-narcotics-anonymous-2-2018-05-10/
LOCATION:Rockville United Methodist Church\, 142 Grove Street\, Rockville\, CT\, 06066\, United States
CATEGORIES:Community Events
END:VEVENT
BEGIN:VEVENT
DTSTART;TZID=America/New_York:20180508T193000
DTEND;TZID=America/New_York:20180508T210000
DTSTAMP:20260424T193540
CREATED:20180111T164543Z
LAST-MODIFIED:20180111T164543Z
UID:4852-1525807800-1525813200@www.rockumchurch.com
SUMMARY:Families Anonymous
DESCRIPTION:Open to the public for people with family members who are struggling with addiction.
URL:https://www.rockumchurch.com/event/families-anonymous-2018-05-08/
LOCATION:Rockville United Methodist Church\, 142 Grove Street\, Rockville\, CT\, 06066\, United States
CATEGORIES:Community Events
END:VEVENT
BEGIN:VEVENT
DTSTART;TZID=America/New_York:20180503T190000
DTEND;TZID=America/New_York:20180503T210000
DTSTAMP:20260424T193540
CREATED:20180111T165008Z
LAST-MODIFIED:20180111T165008Z
UID:4909-1525374000-1525381200@www.rockumchurch.com
SUMMARY:NA - Narcotics Anonymous
DESCRIPTION:Help with the daily struggle of addiction.
URL:https://www.rockumchurch.com/event/na-narcotics-anonymous-2-2018-05-03/
LOCATION:Rockville United Methodist Church\, 142 Grove Street\, Rockville\, CT\, 06066\, United States
CATEGORIES:Community Events
END:VEVENT
BEGIN:VEVENT
DTSTART;TZID=America/New_York:20180501T193000
DTEND;TZID=America/New_York:20180501T210000
DTSTAMP:20260424T193540
CREATED:20180111T164543Z
LAST-MODIFIED:20180111T164543Z
UID:4851-1525203000-1525208400@www.rockumchurch.com
SUMMARY:Families Anonymous
DESCRIPTION:Open to the public for people with family members who are struggling with addiction.
URL:https://www.rockumchurch.com/event/families-anonymous-2018-05-01/
LOCATION:Rockville United Methodist Church\, 142 Grove Street\, Rockville\, CT\, 06066\, United States
CATEGORIES:Community Events
END:VEVENT
BEGIN:VEVENT
DTSTART;TZID=America/New_York:20180426T190000
DTEND;TZID=America/New_York:20180426T210000
DTSTAMP:20260424T193540
CREATED:20180111T165008Z
LAST-MODIFIED:20180111T165008Z
UID:4908-1524769200-1524776400@www.rockumchurch.com
SUMMARY:NA - Narcotics Anonymous
DESCRIPTION:Help with the daily struggle of addiction.
URL:https://www.rockumchurch.com/event/na-narcotics-anonymous-2-2018-04-26/
LOCATION:Rockville United Methodist Church\, 142 Grove Street\, Rockville\, CT\, 06066\, United States
CATEGORIES:Community Events
END:VEVENT
BEGIN:VEVENT
DTSTART;TZID=America/New_York:20180424T193000
DTEND;TZID=America/New_York:20180424T210000
DTSTAMP:20260424T193540
CREATED:20180111T164543Z
LAST-MODIFIED:20180111T164543Z
UID:4850-1524598200-1524603600@www.rockumchurch.com
SUMMARY:Families Anonymous
DESCRIPTION:Open to the public for people with family members who are struggling with addiction.
URL:https://www.rockumchurch.com/event/families-anonymous-2018-04-24/
LOCATION:Rockville United Methodist Church\, 142 Grove Street\, Rockville\, CT\, 06066\, United States
CATEGORIES:Community Events
END:VEVENT
BEGIN:VEVENT
DTSTART;TZID=America/New_York:20180419T190000
DTEND;TZID=America/New_York:20180419T210000
DTSTAMP:20260424T193540
CREATED:20180111T165008Z
LAST-MODIFIED:20180111T165008Z
UID:4907-1524164400-1524171600@www.rockumchurch.com
SUMMARY:NA - Narcotics Anonymous
DESCRIPTION:Help with the daily struggle of addiction.
URL:https://www.rockumchurch.com/event/na-narcotics-anonymous-2-2018-04-19/
LOCATION:Rockville United Methodist Church\, 142 Grove Street\, Rockville\, CT\, 06066\, United States
CATEGORIES:Community Events
END:VEVENT
BEGIN:VEVENT
DTSTART;TZID=America/New_York:20180417T193000
DTEND;TZID=America/New_York:20180417T210000
DTSTAMP:20260424T193540
CREATED:20180111T164543Z
LAST-MODIFIED:20180111T164543Z
UID:4849-1523993400-1523998800@www.rockumchurch.com
SUMMARY:Families Anonymous
DESCRIPTION:Open to the public for people with family members who are struggling with addiction.
URL:https://www.rockumchurch.com/event/families-anonymous-2018-04-17/
LOCATION:Rockville United Methodist Church\, 142 Grove Street\, Rockville\, CT\, 06066\, United States
CATEGORIES:Community Events
END:VEVENT
BEGIN:VEVENT
DTSTART;TZID=America/New_York:20180412T190000
DTEND;TZID=America/New_York:20180412T210000
DTSTAMP:20260424T193540
CREATED:20180111T165008Z
LAST-MODIFIED:20180111T165008Z
UID:4906-1523559600-1523566800@www.rockumchurch.com
SUMMARY:NA - Narcotics Anonymous
DESCRIPTION:Help with the daily struggle of addiction.
URL:https://www.rockumchurch.com/event/na-narcotics-anonymous-2-2018-04-12/
LOCATION:Rockville United Methodist Church\, 142 Grove Street\, Rockville\, CT\, 06066\, United States
CATEGORIES:Community Events
END:VEVENT
BEGIN:VEVENT
DTSTART;TZID=America/New_York:20180410T193000
DTEND;TZID=America/New_York:20180410T210000
DTSTAMP:20260424T193540
CREATED:20180111T164543Z
LAST-MODIFIED:20180111T164543Z
UID:4848-1523388600-1523394000@www.rockumchurch.com
SUMMARY:Families Anonymous
DESCRIPTION:Open to the public for people with family members who are struggling with addiction.
URL:https://www.rockumchurch.com/event/families-anonymous-2018-04-10/
LOCATION:Rockville United Methodist Church\, 142 Grove Street\, Rockville\, CT\, 06066\, United States
CATEGORIES:Community Events
END:VEVENT
BEGIN:VEVENT
DTSTART;TZID=America/New_York:20180405T190000
DTEND;TZID=America/New_York:20180405T210000
DTSTAMP:20260424T193540
CREATED:20180111T165008Z
LAST-MODIFIED:20180111T165008Z
UID:4905-1522954800-1522962000@www.rockumchurch.com
SUMMARY:NA - Narcotics Anonymous
DESCRIPTION:Help with the daily struggle of addiction.
URL:https://www.rockumchurch.com/event/na-narcotics-anonymous-2-2018-04-05/
LOCATION:Rockville United Methodist Church\, 142 Grove Street\, Rockville\, CT\, 06066\, United States
CATEGORIES:Community Events
END:VEVENT
BEGIN:VEVENT
DTSTART;TZID=America/New_York:20180403T193000
DTEND;TZID=America/New_York:20180403T210000
DTSTAMP:20260424T193540
CREATED:20180111T164543Z
LAST-MODIFIED:20180111T164543Z
UID:4847-1522783800-1522789200@www.rockumchurch.com
SUMMARY:Families Anonymous
DESCRIPTION:Open to the public for people with family members who are struggling with addiction.
URL:https://www.rockumchurch.com/event/families-anonymous-2018-04-03/
LOCATION:Rockville United Methodist Church\, 142 Grove Street\, Rockville\, CT\, 06066\, United States
CATEGORIES:Community Events
END:VEVENT
BEGIN:VEVENT
DTSTART;TZID=America/New_York:20180330T070000
DTEND;TZID=America/New_York:20180330T160000
DTSTAMP:20260424T193540
CREATED:20180227T182545Z
LAST-MODIFIED:20180227T182545Z
UID:5076-1522393200-1522425600@www.rockumchurch.com
SUMMARY:Good Friday Walk
DESCRIPTION:What: 20 Mile Charity walk\nWhen: March 30\, 2018\nWhere: Rockville United Methodist Church (see full map)\nWho: Anyone can participated.  Children 13 and under must be accompanied by an adult.\nRegistration: Registration starts at 7 am.  Each participant must collect a minimum of $20.  The walk begins at 7:30 am.\nDonate Online: Click the paypal link on this page: donate online. \nOver 30 churches and organizations participate with workers volunteering their time and energy to make the walk successful for over 100 walkers.  There are ten stops along the route where restrooms\, first aid\, or snacks may be available.  Transportation is available for those who can’t finish the entire twenty miles
URL:https://www.rockumchurch.com/event/good-friday-walk/
LOCATION:Rockville United Methodist Church\, 142 Grove Street\, Rockville\, CT\, 06066\, United States
CATEGORIES:Community Events,Fundraising
ORGANIZER;CN="Judie Culy":MAILTO:judie.culy@gmail.com
END:VEVENT
BEGIN:VEVENT
DTSTART;TZID=America/New_York:20180329T190000
DTEND;TZID=America/New_York:20180329T210000
DTSTAMP:20260424T193540
CREATED:20180111T165008Z
LAST-MODIFIED:20180111T165008Z
UID:4904-1522350000-1522357200@www.rockumchurch.com
SUMMARY:NA - Narcotics Anonymous
DESCRIPTION:Help with the daily struggle of addiction.
URL:https://www.rockumchurch.com/event/na-narcotics-anonymous-2-2018-03-29/
LOCATION:Rockville United Methodist Church\, 142 Grove Street\, Rockville\, CT\, 06066\, United States
CATEGORIES:Community Events
END:VEVENT
BEGIN:VEVENT
DTSTART;TZID=America/New_York:20180327T193000
DTEND;TZID=America/New_York:20180327T210000
DTSTAMP:20260424T193540
CREATED:20180111T164543Z
LAST-MODIFIED:20180111T164543Z
UID:4846-1522179000-1522184400@www.rockumchurch.com
SUMMARY:Families Anonymous
DESCRIPTION:Open to the public for people with family members who are struggling with addiction.
URL:https://www.rockumchurch.com/event/families-anonymous-2018-03-27/
LOCATION:Rockville United Methodist Church\, 142 Grove Street\, Rockville\, CT\, 06066\, United States
CATEGORIES:Community Events
END:VEVENT
BEGIN:VEVENT
DTSTART;TZID=America/New_York:20180322T190000
DTEND;TZID=America/New_York:20180322T210000
DTSTAMP:20260424T193540
CREATED:20180111T165008Z
LAST-MODIFIED:20180111T165008Z
UID:4903-1521745200-1521752400@www.rockumchurch.com
SUMMARY:NA - Narcotics Anonymous
DESCRIPTION:Help with the daily struggle of addiction.
URL:https://www.rockumchurch.com/event/na-narcotics-anonymous-2-2018-03-22/
LOCATION:Rockville United Methodist Church\, 142 Grove Street\, Rockville\, CT\, 06066\, United States
CATEGORIES:Community Events
END:VEVENT
BEGIN:VEVENT
DTSTART;TZID=America/New_York:20180320T193000
DTEND;TZID=America/New_York:20180320T210000
DTSTAMP:20260424T193540
CREATED:20180111T164543Z
LAST-MODIFIED:20180111T164543Z
UID:4845-1521574200-1521579600@www.rockumchurch.com
SUMMARY:Families Anonymous
DESCRIPTION:Open to the public for people with family members who are struggling with addiction.
URL:https://www.rockumchurch.com/event/families-anonymous-2018-03-20/
LOCATION:Rockville United Methodist Church\, 142 Grove Street\, Rockville\, CT\, 06066\, United States
CATEGORIES:Community Events
END:VEVENT
BEGIN:VEVENT
DTSTART;TZID=America/New_York:20180317T170000
DTEND;TZID=America/New_York:20180317T183000
DTSTAMP:20260424T193540
CREATED:20180227T190828Z
LAST-MODIFIED:20180227T190828Z
UID:5090-1521306000-1521311400@www.rockumchurch.com
SUMMARY:Corned Beef Supper
DESCRIPTION:Corned Beef Supper\nSaturday March 17\, 2018\n5 to 6:30 pm\n$13 adults; $5 kids 6-12\nTake-Out Meals are available. \nCorned Beef\, Cabbage\, Potatoes\, Vegetables\, Homemade Irish Soda Bread\, and Grasshopper Pie for Dessert.  \nWalk-Ins are welcome\,\nbut reservations are recommended. 860-875-6562
URL:https://www.rockumchurch.com/event/corned-beef-supper/
LOCATION:Rockville United Methodist Church\, 142 Grove Street\, Rockville\, CT\, 06066\, United States
CATEGORIES:Community Events,food,RUMC Events
ORGANIZER;CN="Steve Yoder":MAILTO:scsjyoder@aol.com
END:VEVENT
BEGIN:VEVENT
DTSTART;TZID=America/New_York:20180315T190000
DTEND;TZID=America/New_York:20180315T210000
DTSTAMP:20260424T193540
CREATED:20180111T165008Z
LAST-MODIFIED:20180111T165008Z
UID:4902-1521140400-1521147600@www.rockumchurch.com
SUMMARY:NA - Narcotics Anonymous
DESCRIPTION:Help with the daily struggle of addiction.
URL:https://www.rockumchurch.com/event/na-narcotics-anonymous-2-2018-03-15/
LOCATION:Rockville United Methodist Church\, 142 Grove Street\, Rockville\, CT\, 06066\, United States
CATEGORIES:Community Events
END:VEVENT
BEGIN:VEVENT
DTSTART;TZID=America/New_York:20180313T193000
DTEND;TZID=America/New_York:20180313T210000
DTSTAMP:20260424T193540
CREATED:20180111T164543Z
LAST-MODIFIED:20180111T164543Z
UID:4844-1520969400-1520974800@www.rockumchurch.com
SUMMARY:Families Anonymous
DESCRIPTION:Open to the public for people with family members who are struggling with addiction.
URL:https://www.rockumchurch.com/event/families-anonymous-2018-03-13/
LOCATION:Rockville United Methodist Church\, 142 Grove Street\, Rockville\, CT\, 06066\, United States
CATEGORIES:Community Events
END:VEVENT
BEGIN:VEVENT
DTSTART;TZID=America/New_York:20180308T190000
DTEND;TZID=America/New_York:20180308T210000
DTSTAMP:20260424T193540
CREATED:20180111T165008Z
LAST-MODIFIED:20180111T165008Z
UID:4901-1520535600-1520542800@www.rockumchurch.com
SUMMARY:NA - Narcotics Anonymous
DESCRIPTION:Help with the daily struggle of addiction.
URL:https://www.rockumchurch.com/event/na-narcotics-anonymous-2-2018-03-08/
LOCATION:Rockville United Methodist Church\, 142 Grove Street\, Rockville\, CT\, 06066\, United States
CATEGORIES:Community Events
END:VEVENT
BEGIN:VEVENT
DTSTART;TZID=America/New_York:20180306T193000
DTEND;TZID=America/New_York:20180306T210000
DTSTAMP:20260424T193540
CREATED:20180111T164543Z
LAST-MODIFIED:20180111T164543Z
UID:4843-1520364600-1520370000@www.rockumchurch.com
SUMMARY:Families Anonymous
DESCRIPTION:Open to the public for people with family members who are struggling with addiction.
URL:https://www.rockumchurch.com/event/families-anonymous-2018-03-06/
LOCATION:Rockville United Methodist Church\, 142 Grove Street\, Rockville\, CT\, 06066\, United States
CATEGORIES:Community Events
END:VEVENT
BEGIN:VEVENT
DTSTART;TZID=America/New_York:20180301T190000
DTEND;TZID=America/New_York:20180301T210000
DTSTAMP:20260424T193540
CREATED:20180111T165008Z
LAST-MODIFIED:20180111T165008Z
UID:4900-1519930800-1519938000@www.rockumchurch.com
SUMMARY:NA - Narcotics Anonymous
DESCRIPTION:Help with the daily struggle of addiction.
URL:https://www.rockumchurch.com/event/na-narcotics-anonymous-2-2018-03-01/
LOCATION:Rockville United Methodist Church\, 142 Grove Street\, Rockville\, CT\, 06066\, United States
CATEGORIES:Community Events
END:VEVENT
BEGIN:VEVENT
DTSTART;TZID=America/New_York:20180227T193000
DTEND;TZID=America/New_York:20180227T210000
DTSTAMP:20260424T193540
CREATED:20180111T164543Z
LAST-MODIFIED:20180111T164543Z
UID:4842-1519759800-1519765200@www.rockumchurch.com
SUMMARY:Families Anonymous
DESCRIPTION:Open to the public for people with family members who are struggling with addiction.
URL:https://www.rockumchurch.com/event/families-anonymous-2018-02-27/
LOCATION:Rockville United Methodist Church\, 142 Grove Street\, Rockville\, CT\, 06066\, United States
CATEGORIES:Community Events
END:VEVENT
BEGIN:VEVENT
DTSTART;TZID=America/New_York:20180222T190000
DTEND;TZID=America/New_York:20180222T210000
DTSTAMP:20260424T193540
CREATED:20180111T165008Z
LAST-MODIFIED:20180111T165008Z
UID:4899-1519326000-1519333200@www.rockumchurch.com
SUMMARY:NA - Narcotics Anonymous
DESCRIPTION:Help with the daily struggle of addiction.
URL:https://www.rockumchurch.com/event/na-narcotics-anonymous-2-2018-02-22/
LOCATION:Rockville United Methodist Church\, 142 Grove Street\, Rockville\, CT\, 06066\, United States
CATEGORIES:Community Events
END:VEVENT
BEGIN:VEVENT
DTSTART;TZID=America/New_York:20180220T193000
DTEND;TZID=America/New_York:20180220T210000
DTSTAMP:20260424T193540
CREATED:20180111T164543Z
LAST-MODIFIED:20180111T164543Z
UID:4841-1519155000-1519160400@www.rockumchurch.com
SUMMARY:Families Anonymous
DESCRIPTION:Open to the public for people with family members who are struggling with addiction.
URL:https://www.rockumchurch.com/event/families-anonymous-2018-02-20/
LOCATION:Rockville United Methodist Church\, 142 Grove Street\, Rockville\, CT\, 06066\, United States
CATEGORIES:Community Events
END:VEVENT
BEGIN:VEVENT
DTSTART;TZID=America/New_York:20180215T190000
DTEND;TZID=America/New_York:20180215T210000
DTSTAMP:20260424T193540
CREATED:20180111T165008Z
LAST-MODIFIED:20180111T165008Z
UID:4898-1518721200-1518728400@www.rockumchurch.com
SUMMARY:NA - Narcotics Anonymous
DESCRIPTION:Help with the daily struggle of addiction.
URL:https://www.rockumchurch.com/event/na-narcotics-anonymous-2-2018-02-15/
LOCATION:Rockville United Methodist Church\, 142 Grove Street\, Rockville\, CT\, 06066\, United States
CATEGORIES:Community Events
END:VEVENT
BEGIN:VEVENT
DTSTART;TZID=America/New_York:20180213T193000
DTEND;TZID=America/New_York:20180213T210000
DTSTAMP:20260424T193540
CREATED:20180111T164543Z
LAST-MODIFIED:20180111T164543Z
UID:4840-1518550200-1518555600@www.rockumchurch.com
SUMMARY:Families Anonymous
DESCRIPTION:Open to the public for people with family members who are struggling with addiction.
URL:https://www.rockumchurch.com/event/families-anonymous-2018-02-13/
LOCATION:Rockville United Methodist Church\, 142 Grove Street\, Rockville\, CT\, 06066\, United States
CATEGORIES:Community Events
END:VEVENT
BEGIN:VEVENT
DTSTART;TZID=America/New_York:20180208T190000
DTEND;TZID=America/New_York:20180208T210000
DTSTAMP:20260424T193540
CREATED:20180111T165008Z
LAST-MODIFIED:20180111T165008Z
UID:4897-1518116400-1518123600@www.rockumchurch.com
SUMMARY:NA - Narcotics Anonymous
DESCRIPTION:Help with the daily struggle of addiction.
URL:https://www.rockumchurch.com/event/na-narcotics-anonymous-2-2018-02-08/
LOCATION:Rockville United Methodist Church\, 142 Grove Street\, Rockville\, CT\, 06066\, United States
CATEGORIES:Community Events
END:VEVENT
BEGIN:VEVENT
DTSTART;TZID=America/New_York:20180206T193000
DTEND;TZID=America/New_York:20180206T210000
DTSTAMP:20260424T193540
CREATED:20180111T164543Z
LAST-MODIFIED:20180111T164543Z
UID:4839-1517945400-1517950800@www.rockumchurch.com
SUMMARY:Families Anonymous
DESCRIPTION:Open to the public for people with family members who are struggling with addiction.
URL:https://www.rockumchurch.com/event/families-anonymous-2018-02-06/
LOCATION:Rockville United Methodist Church\, 142 Grove Street\, Rockville\, CT\, 06066\, United States
CATEGORIES:Community Events
END:VEVENT
END:VCALENDAR