BEGIN:VCALENDAR
VERSION:2.0
PRODID:-//Rockville United Methodist Church - ECPv6.15.20//NONSGML v1.0//EN
CALSCALE:GREGORIAN
METHOD:PUBLISH
X-WR-CALNAME:Rockville United Methodist Church
X-ORIGINAL-URL:https://www.rockumchurch.com
X-WR-CALDESC:Events for Rockville United Methodist Church
REFRESH-INTERVAL;VALUE=DURATION:PT1H
X-Robots-Tag:noindex
X-PUBLISHED-TTL:PT1H
BEGIN:VTIMEZONE
TZID:America/New_York
BEGIN:DAYLIGHT
TZOFFSETFROM:-0500
TZOFFSETTO:-0400
TZNAME:EDT
DTSTART:20180311T070000
END:DAYLIGHT
BEGIN:STANDARD
TZOFFSETFROM:-0400
TZOFFSETTO:-0500
TZNAME:EST
DTSTART:20181104T060000
END:STANDARD
BEGIN:DAYLIGHT
TZOFFSETFROM:-0500
TZOFFSETTO:-0400
TZNAME:EDT
DTSTART:20190310T070000
END:DAYLIGHT
BEGIN:STANDARD
TZOFFSETFROM:-0400
TZOFFSETTO:-0500
TZNAME:EST
DTSTART:20191103T060000
END:STANDARD
BEGIN:DAYLIGHT
TZOFFSETFROM:-0500
TZOFFSETTO:-0400
TZNAME:EDT
DTSTART:20200308T070000
END:DAYLIGHT
BEGIN:STANDARD
TZOFFSETFROM:-0400
TZOFFSETTO:-0500
TZNAME:EST
DTSTART:20201101T060000
END:STANDARD
BEGIN:DAYLIGHT
TZOFFSETFROM:-0500
TZOFFSETTO:-0400
TZNAME:EDT
DTSTART:20210314T070000
END:DAYLIGHT
BEGIN:STANDARD
TZOFFSETFROM:-0400
TZOFFSETTO:-0500
TZNAME:EST
DTSTART:20211107T060000
END:STANDARD
END:VTIMEZONE
BEGIN:VEVENT
DTSTART;TZID=America/New_York:20200204T193000
DTEND;TZID=America/New_York:20200204T210000
DTSTAMP:20260422T155856
CREATED:20200206T185701Z
LAST-MODIFIED:20200206T185709Z
UID:7416-1580844600-1580850000@www.rockumchurch.com
SUMMARY:Family Anonymous
DESCRIPTION:Tuesdays at 7:30 pm
URL:https://www.rockumchurch.com/event/family-anonymous/
LOCATION:Rockville United Methodist Church\, 142 Grove Street\, Rockville\, CT\, 06066\, United States
CATEGORIES:Community Events,Support Group
END:VEVENT
BEGIN:VEVENT
DTSTART;TZID=America/New_York:20191231T193000
DTEND;TZID=America/New_York:20191231T203000
DTSTAMP:20260422T155856
CREATED:20190104T161347Z
LAST-MODIFIED:20190104T162234Z
UID:6228-1577820600-1577824200@www.rockumchurch.com
SUMMARY:Families Anonymous
DESCRIPTION:Families Anonymous is a 12 step Fellowship for the family and friends of individuals with Drug\, Alcohol\, or Related Behavioral issues.   \n \n 
URL:https://www.rockumchurch.com/event/families-anonymous-4-2019-12-31/
LOCATION:Rockville United Methodist Church\, 142 Grove Street\, Rockville\, CT\, 06066\, United States
CATEGORIES:Community Events,Support Group
END:VEVENT
BEGIN:VEVENT
DTSTART;TZID=America/New_York:20191226T190000
DTEND;TZID=America/New_York:20191226T200000
DTSTAMP:20260422T155856
CREATED:20190104T163702Z
LAST-MODIFIED:20190104T163702Z
UID:6390-1577386800-1577390400@www.rockumchurch.com
SUMMARY:Narcotics Anonymous
DESCRIPTION:Narcotics Anonymous is a 12 step support group for people who are recovering from drugs other then just alcohol.
URL:https://www.rockumchurch.com/event/narcotics-anonymous-3-2019-12-26/
LOCATION:Rockville United Methodist Church\, 142 Grove Street\, Rockville\, CT\, 06066\, United States
CATEGORIES:Community Events,Support Group
END:VEVENT
BEGIN:VEVENT
DTSTART;TZID=America/New_York:20191224T193000
DTEND;TZID=America/New_York:20191224T203000
DTSTAMP:20260422T155856
CREATED:20190104T161347Z
LAST-MODIFIED:20190104T162234Z
UID:6227-1577215800-1577219400@www.rockumchurch.com
SUMMARY:Families Anonymous
DESCRIPTION:Families Anonymous is a 12 step Fellowship for the family and friends of individuals with Drug\, Alcohol\, or Related Behavioral issues.   \n \n 
URL:https://www.rockumchurch.com/event/families-anonymous-4-2019-12-24/
LOCATION:Rockville United Methodist Church\, 142 Grove Street\, Rockville\, CT\, 06066\, United States
CATEGORIES:Community Events,Support Group
END:VEVENT
BEGIN:VEVENT
DTSTART;TZID=America/New_York:20191222T160000
DTEND;TZID=America/New_York:20191222T180000
DTSTAMP:20260422T155856
CREATED:20191205T202355Z
LAST-MODIFIED:20191205T223515Z
UID:7312-1577030400-1577037600@www.rockumchurch.com
SUMMARY:Family Christmas Party - Open to the Public
DESCRIPTION:Join us for this fun-filled afternoon! We will have a Special Guest\, a Carol Sing\, Refreshments\, and Music from our own GSM Praise Band and Bell Choir.
URL:https://www.rockumchurch.com/event/family-christmas-party-open-to-the-public/
LOCATION:Rockville United Methodist Church\, 142 Grove Street\, Rockville\, CT\, 06066\, United States
CATEGORIES:Community Events,Music,Youth
END:VEVENT
BEGIN:VEVENT
DTSTART;TZID=America/New_York:20191220T090000
DTEND;TZID=America/New_York:20191220T150000
DTSTAMP:20260422T155856
CREATED:20191206T175415Z
LAST-MODIFIED:20191206T175415Z
UID:7325-1576832400-1576854000@www.rockumchurch.com
SUMMARY:Private Party
DESCRIPTION:Whole Life Holiday Party
URL:https://www.rockumchurch.com/event/private-party/
LOCATION:Rockville United Methodist Church\, 142 Grove Street\, Rockville\, CT\, 06066\, United States
CATEGORIES:Community Events
END:VEVENT
BEGIN:VEVENT
DTSTART;TZID=America/New_York:20191219T190000
DTEND;TZID=America/New_York:20191219T200000
DTSTAMP:20260422T155856
CREATED:20190104T163702Z
LAST-MODIFIED:20190104T163702Z
UID:6389-1576782000-1576785600@www.rockumchurch.com
SUMMARY:Narcotics Anonymous
DESCRIPTION:Narcotics Anonymous is a 12 step support group for people who are recovering from drugs other then just alcohol.
URL:https://www.rockumchurch.com/event/narcotics-anonymous-3-2019-12-19/
LOCATION:Rockville United Methodist Church\, 142 Grove Street\, Rockville\, CT\, 06066\, United States
CATEGORIES:Community Events,Support Group
END:VEVENT
BEGIN:VEVENT
DTSTART;TZID=America/New_York:20191219T100000
DTEND;TZID=America/New_York:20191219T113000
DTSTAMP:20260422T155856
CREATED:20191205T180233Z
LAST-MODIFIED:20191205T180233Z
UID:7304-1576749600-1576755000@www.rockumchurch.com
SUMMARY:Advent Bible Study
DESCRIPTION:
URL:https://www.rockumchurch.com/event/advent-bible-study-6/
LOCATION:Rockville United Methodist Church\, 142 Grove Street\, Rockville\, CT\, 06066\, United States
CATEGORIES:Community Events,Education,Scripture
ORGANIZER;CN="Pastor Cheol":MAILTO:starcheol@gmail.com
END:VEVENT
BEGIN:VEVENT
DTSTART;TZID=America/New_York:20191218T183000
DTEND;TZID=America/New_York:20191218T200000
DTSTAMP:20260422T155856
CREATED:20191205T180123Z
LAST-MODIFIED:20191205T180123Z
UID:7301-1576693800-1576699200@www.rockumchurch.com
SUMMARY:Advent Bible Study
DESCRIPTION:
URL:https://www.rockumchurch.com/event/advent-bible-study-5/
LOCATION:Rockville United Methodist Church\, 142 Grove Street\, Rockville\, CT\, 06066\, United States
CATEGORIES:Community Events,Education,Scripture
ORGANIZER;CN="Pastor Cheol":MAILTO:starcheol@gmail.com
END:VEVENT
BEGIN:VEVENT
DTSTART;TZID=America/New_York:20191218T173000
DTEND;TZID=America/New_York:20191218T193000
DTSTAMP:20260422T155856
CREATED:20190926T182315Z
LAST-MODIFIED:20190926T182315Z
UID:7142-1576690200-1576697400@www.rockumchurch.com
SUMMARY:Circle of Moms
DESCRIPTION:
URL:https://www.rockumchurch.com/event/circle-of-moms-4/
LOCATION:Rockville United Methodist Church\, 142 Grove Street\, Rockville\, CT\, 06066\, United States
CATEGORIES:Community Events,Support Group
END:VEVENT
BEGIN:VEVENT
DTSTART;TZID=America/New_York:20191217T193000
DTEND;TZID=America/New_York:20191217T203000
DTSTAMP:20260422T155856
CREATED:20190104T161347Z
LAST-MODIFIED:20190104T162234Z
UID:6226-1576611000-1576614600@www.rockumchurch.com
SUMMARY:Families Anonymous
DESCRIPTION:Families Anonymous is a 12 step Fellowship for the family and friends of individuals with Drug\, Alcohol\, or Related Behavioral issues.   \n \n 
URL:https://www.rockumchurch.com/event/families-anonymous-4-2019-12-17/
LOCATION:Rockville United Methodist Church\, 142 Grove Street\, Rockville\, CT\, 06066\, United States
CATEGORIES:Community Events,Support Group
END:VEVENT
BEGIN:VEVENT
DTSTART;TZID=America/New_York:20191212T190000
DTEND;TZID=America/New_York:20191212T200000
DTSTAMP:20260422T155856
CREATED:20190104T163702Z
LAST-MODIFIED:20190104T163702Z
UID:6388-1576177200-1576180800@www.rockumchurch.com
SUMMARY:Narcotics Anonymous
DESCRIPTION:Narcotics Anonymous is a 12 step support group for people who are recovering from drugs other then just alcohol.
URL:https://www.rockumchurch.com/event/narcotics-anonymous-3-2019-12-12/
LOCATION:Rockville United Methodist Church\, 142 Grove Street\, Rockville\, CT\, 06066\, United States
CATEGORIES:Community Events,Support Group
END:VEVENT
BEGIN:VEVENT
DTSTART;TZID=America/New_York:20191212T100000
DTEND;TZID=America/New_York:20191212T113000
DTSTAMP:20260422T155856
CREATED:20191205T175902Z
LAST-MODIFIED:20191205T175902Z
UID:7299-1576144800-1576150200@www.rockumchurch.com
SUMMARY:Advent Bible Study
DESCRIPTION:
URL:https://www.rockumchurch.com/event/advent-bible-study-4/
LOCATION:Rockville United Methodist Church\, 142 Grove Street\, Rockville\, CT\, 06066\, United States
CATEGORIES:Community Events,Education,Scripture
ORGANIZER;CN="Pastor Cheol":MAILTO:starcheol@gmail.com
END:VEVENT
BEGIN:VEVENT
DTSTART;TZID=America/New_York:20191211T183000
DTEND;TZID=America/New_York:20191211T200000
DTSTAMP:20260422T155856
CREATED:20191205T175736Z
LAST-MODIFIED:20191205T175736Z
UID:7296-1576089000-1576094400@www.rockumchurch.com
SUMMARY:Advent Bible Study
DESCRIPTION:
URL:https://www.rockumchurch.com/event/advent-bible-study-3/
LOCATION:Rockville United Methodist Church\, 142 Grove Street\, Rockville\, CT\, 06066\, United States
CATEGORIES:Community Events,Education,Scripture
ORGANIZER;CN="Pastor Cheol":MAILTO:starcheol@gmail.com
END:VEVENT
BEGIN:VEVENT
DTSTART;TZID=America/New_York:20191210T193000
DTEND;TZID=America/New_York:20191210T203000
DTSTAMP:20260422T155856
CREATED:20190104T161347Z
LAST-MODIFIED:20190104T162234Z
UID:6225-1576006200-1576009800@www.rockumchurch.com
SUMMARY:Families Anonymous
DESCRIPTION:Families Anonymous is a 12 step Fellowship for the family and friends of individuals with Drug\, Alcohol\, or Related Behavioral issues.   \n \n 
URL:https://www.rockumchurch.com/event/families-anonymous-4-2019-12-10/
LOCATION:Rockville United Methodist Church\, 142 Grove Street\, Rockville\, CT\, 06066\, United States
CATEGORIES:Community Events,Support Group
END:VEVENT
BEGIN:VEVENT
DTSTART;TZID=America/New_York:20191205T190000
DTEND;TZID=America/New_York:20191205T200000
DTSTAMP:20260422T155856
CREATED:20190104T163702Z
LAST-MODIFIED:20190104T163702Z
UID:6387-1575572400-1575576000@www.rockumchurch.com
SUMMARY:Narcotics Anonymous
DESCRIPTION:Narcotics Anonymous is a 12 step support group for people who are recovering from drugs other then just alcohol.
URL:https://www.rockumchurch.com/event/narcotics-anonymous-3-2019-12-05/
LOCATION:Rockville United Methodist Church\, 142 Grove Street\, Rockville\, CT\, 06066\, United States
CATEGORIES:Community Events,Support Group
END:VEVENT
BEGIN:VEVENT
DTSTART;TZID=America/New_York:20191205T100000
DTEND;TZID=America/New_York:20191205T113000
DTSTAMP:20260422T155856
CREATED:20191205T175549Z
LAST-MODIFIED:20191205T175549Z
UID:7294-1575540000-1575545400@www.rockumchurch.com
SUMMARY:Advent Bible Study
DESCRIPTION:
URL:https://www.rockumchurch.com/event/advent-bible-study-2/
LOCATION:Rockville United Methodist Church\, 142 Grove Street\, Rockville\, CT\, 06066\, United States
CATEGORIES:Community Events,Scripture
ORGANIZER;CN="Pastor Cheol":MAILTO:starcheol@gmail.com
END:VEVENT
BEGIN:VEVENT
DTSTART;TZID=America/New_York:20191204T183000
DTEND;TZID=America/New_York:20191204T200000
DTSTAMP:20260422T155856
CREATED:20191205T175303Z
LAST-MODIFIED:20191205T175303Z
UID:7290-1575484200-1575489600@www.rockumchurch.com
SUMMARY:Advent Bible Study
DESCRIPTION:
URL:https://www.rockumchurch.com/event/advent-bible-study/
LOCATION:Rockville United Methodist Church\, 142 Grove Street\, Rockville\, CT\, 06066\, United States
CATEGORIES:Community Events,Education,Scripture
ORGANIZER;CN="Pastor Cheol":MAILTO:starcheol@gmail.com
END:VEVENT
BEGIN:VEVENT
DTSTART;TZID=America/New_York:20191203T193000
DTEND;TZID=America/New_York:20191203T203000
DTSTAMP:20260422T155856
CREATED:20190104T161347Z
LAST-MODIFIED:20190104T162234Z
UID:6224-1575401400-1575405000@www.rockumchurch.com
SUMMARY:Families Anonymous
DESCRIPTION:Families Anonymous is a 12 step Fellowship for the family and friends of individuals with Drug\, Alcohol\, or Related Behavioral issues.   \n \n 
URL:https://www.rockumchurch.com/event/families-anonymous-4-2019-12-03/
LOCATION:Rockville United Methodist Church\, 142 Grove Street\, Rockville\, CT\, 06066\, United States
CATEGORIES:Community Events,Support Group
END:VEVENT
BEGIN:VEVENT
DTSTART;TZID=America/New_York:20191128T190000
DTEND;TZID=America/New_York:20191128T200000
DTSTAMP:20260422T155856
CREATED:20190104T163702Z
LAST-MODIFIED:20190104T163702Z
UID:6386-1574967600-1574971200@www.rockumchurch.com
SUMMARY:Narcotics Anonymous
DESCRIPTION:Narcotics Anonymous is a 12 step support group for people who are recovering from drugs other then just alcohol.
URL:https://www.rockumchurch.com/event/narcotics-anonymous-3-2019-11-28/
LOCATION:Rockville United Methodist Church\, 142 Grove Street\, Rockville\, CT\, 06066\, United States
CATEGORIES:Community Events,Support Group
END:VEVENT
BEGIN:VEVENT
DTSTART;TZID=America/New_York:20191126T193000
DTEND;TZID=America/New_York:20191126T203000
DTSTAMP:20260422T155856
CREATED:20190104T161347Z
LAST-MODIFIED:20190104T162233Z
UID:6223-1574796600-1574800200@www.rockumchurch.com
SUMMARY:Families Anonymous
DESCRIPTION:Families Anonymous is a 12 step Fellowship for the family and friends of individuals with Drug\, Alcohol\, or Related Behavioral issues.   \n \n 
URL:https://www.rockumchurch.com/event/families-anonymous-4-2019-11-26/
LOCATION:Rockville United Methodist Church\, 142 Grove Street\, Rockville\, CT\, 06066\, United States
CATEGORIES:Community Events,Support Group
END:VEVENT
BEGIN:VEVENT
DTSTART;TZID=America/New_York:20191121T190000
DTEND;TZID=America/New_York:20191121T200000
DTSTAMP:20260422T155856
CREATED:20190104T163702Z
LAST-MODIFIED:20190104T163702Z
UID:6385-1574362800-1574366400@www.rockumchurch.com
SUMMARY:Narcotics Anonymous
DESCRIPTION:Narcotics Anonymous is a 12 step support group for people who are recovering from drugs other then just alcohol.
URL:https://www.rockumchurch.com/event/narcotics-anonymous-3-2019-11-21/
LOCATION:Rockville United Methodist Church\, 142 Grove Street\, Rockville\, CT\, 06066\, United States
CATEGORIES:Community Events,Support Group
END:VEVENT
BEGIN:VEVENT
DTSTART;TZID=America/New_York:20191120T173000
DTEND;TZID=America/New_York:20191120T193000
DTSTAMP:20260422T155856
CREATED:20190926T182214Z
LAST-MODIFIED:20190926T182214Z
UID:7140-1574271000-1574278200@www.rockumchurch.com
SUMMARY:Circle of Moms
DESCRIPTION:
URL:https://www.rockumchurch.com/event/circle-of-moms-3/
LOCATION:Rockville United Methodist Church\, 142 Grove Street\, Rockville\, CT\, 06066\, United States
CATEGORIES:Community Events,Support Group
END:VEVENT
BEGIN:VEVENT
DTSTART;TZID=America/New_York:20191119T193000
DTEND;TZID=America/New_York:20191119T203000
DTSTAMP:20260422T155856
CREATED:20190104T161347Z
LAST-MODIFIED:20190104T162233Z
UID:6222-1574191800-1574195400@www.rockumchurch.com
SUMMARY:Families Anonymous
DESCRIPTION:Families Anonymous is a 12 step Fellowship for the family and friends of individuals with Drug\, Alcohol\, or Related Behavioral issues.   \n \n 
URL:https://www.rockumchurch.com/event/families-anonymous-4-2019-11-19/
LOCATION:Rockville United Methodist Church\, 142 Grove Street\, Rockville\, CT\, 06066\, United States
CATEGORIES:Community Events,Support Group
END:VEVENT
BEGIN:VEVENT
DTSTART;TZID=America/New_York:20191116T090000
DTEND;TZID=America/New_York:20191116T140000
DTSTAMP:20260422T155856
CREATED:20190926T172745Z
LAST-MODIFIED:20190926T172745Z
UID:7104-1573894800-1573912800@www.rockumchurch.com
SUMMARY:Holiday Bazaar
DESCRIPTION:Start your Holiday Shopping early! \n \nStay for lunch!
URL:https://www.rockumchurch.com/event/holiday-bazaar/
LOCATION:Rockville United Methodist Church\, 142 Grove Street\, Rockville\, CT\, 06066\, United States
CATEGORIES:bazaar,Community Events,food,RUMC Events
END:VEVENT
BEGIN:VEVENT
DTSTART;TZID=America/New_York:20191114T190000
DTEND;TZID=America/New_York:20191114T200000
DTSTAMP:20260422T155856
CREATED:20190104T163702Z
LAST-MODIFIED:20190104T163702Z
UID:6384-1573758000-1573761600@www.rockumchurch.com
SUMMARY:Narcotics Anonymous
DESCRIPTION:Narcotics Anonymous is a 12 step support group for people who are recovering from drugs other then just alcohol.
URL:https://www.rockumchurch.com/event/narcotics-anonymous-3-2019-11-14/
LOCATION:Rockville United Methodist Church\, 142 Grove Street\, Rockville\, CT\, 06066\, United States
CATEGORIES:Community Events,Support Group
END:VEVENT
BEGIN:VEVENT
DTSTART;TZID=America/New_York:20191112T193000
DTEND;TZID=America/New_York:20191112T203000
DTSTAMP:20260422T155856
CREATED:20190104T161347Z
LAST-MODIFIED:20190104T162233Z
UID:6221-1573587000-1573590600@www.rockumchurch.com
SUMMARY:Families Anonymous
DESCRIPTION:Families Anonymous is a 12 step Fellowship for the family and friends of individuals with Drug\, Alcohol\, or Related Behavioral issues.   \n \n 
URL:https://www.rockumchurch.com/event/families-anonymous-4-2019-11-12/
LOCATION:Rockville United Methodist Church\, 142 Grove Street\, Rockville\, CT\, 06066\, United States
CATEGORIES:Community Events,Support Group
END:VEVENT
BEGIN:VEVENT
DTSTART;TZID=America/New_York:20191107T190000
DTEND;TZID=America/New_York:20191107T200000
DTSTAMP:20260422T155856
CREATED:20190104T163702Z
LAST-MODIFIED:20190104T163702Z
UID:6383-1573153200-1573156800@www.rockumchurch.com
SUMMARY:Narcotics Anonymous
DESCRIPTION:Narcotics Anonymous is a 12 step support group for people who are recovering from drugs other then just alcohol.
URL:https://www.rockumchurch.com/event/narcotics-anonymous-3-2019-11-07/
LOCATION:Rockville United Methodist Church\, 142 Grove Street\, Rockville\, CT\, 06066\, United States
CATEGORIES:Community Events,Support Group
END:VEVENT
BEGIN:VEVENT
DTSTART;TZID=America/New_York:20191105T193000
DTEND;TZID=America/New_York:20191105T203000
DTSTAMP:20260422T155856
CREATED:20190104T161347Z
LAST-MODIFIED:20190104T162233Z
UID:6220-1572982200-1572985800@www.rockumchurch.com
SUMMARY:Families Anonymous
DESCRIPTION:Families Anonymous is a 12 step Fellowship for the family and friends of individuals with Drug\, Alcohol\, or Related Behavioral issues.   \n \n 
URL:https://www.rockumchurch.com/event/families-anonymous-4-2019-11-05/
LOCATION:Rockville United Methodist Church\, 142 Grove Street\, Rockville\, CT\, 06066\, United States
CATEGORIES:Community Events,Support Group
END:VEVENT
BEGIN:VEVENT
DTSTART;TZID=America/New_York:20191031T190000
DTEND;TZID=America/New_York:20191031T200000
DTSTAMP:20260422T155856
CREATED:20190104T163702Z
LAST-MODIFIED:20190104T163702Z
UID:6382-1572548400-1572552000@www.rockumchurch.com
SUMMARY:Narcotics Anonymous
DESCRIPTION:Narcotics Anonymous is a 12 step support group for people who are recovering from drugs other then just alcohol.
URL:https://www.rockumchurch.com/event/narcotics-anonymous-3-2019-10-31/
LOCATION:Rockville United Methodist Church\, 142 Grove Street\, Rockville\, CT\, 06066\, United States
CATEGORIES:Community Events,Support Group
END:VEVENT
END:VCALENDAR