BEGIN:VCALENDAR
VERSION:2.0
PRODID:-//Rockville United Methodist Church - ECPv6.15.20//NONSGML v1.0//EN
CALSCALE:GREGORIAN
METHOD:PUBLISH
X-ORIGINAL-URL:https://www.rockumchurch.com
X-WR-CALDESC:Events for Rockville United Methodist Church
REFRESH-INTERVAL;VALUE=DURATION:PT1H
X-Robots-Tag:noindex
X-PUBLISHED-TTL:PT1H
BEGIN:VTIMEZONE
TZID:America/New_York
BEGIN:DAYLIGHT
TZOFFSETFROM:-0500
TZOFFSETTO:-0400
TZNAME:EDT
DTSTART:20170312T070000
END:DAYLIGHT
BEGIN:STANDARD
TZOFFSETFROM:-0400
TZOFFSETTO:-0500
TZNAME:EST
DTSTART:20171105T060000
END:STANDARD
BEGIN:DAYLIGHT
TZOFFSETFROM:-0500
TZOFFSETTO:-0400
TZNAME:EDT
DTSTART:20180311T070000
END:DAYLIGHT
BEGIN:STANDARD
TZOFFSETFROM:-0400
TZOFFSETTO:-0500
TZNAME:EST
DTSTART:20181104T060000
END:STANDARD
BEGIN:DAYLIGHT
TZOFFSETFROM:-0500
TZOFFSETTO:-0400
TZNAME:EDT
DTSTART:20190310T070000
END:DAYLIGHT
BEGIN:STANDARD
TZOFFSETFROM:-0400
TZOFFSETTO:-0500
TZNAME:EST
DTSTART:20191103T060000
END:STANDARD
END:VTIMEZONE
BEGIN:VEVENT
DTSTART;TZID=America/New_York:20180830T190000
DTEND;TZID=America/New_York:20180830T210000
DTSTAMP:20260424T115343
CREATED:20180814T160752Z
LAST-MODIFIED:20180814T160752Z
UID:5537-1535655600-1535662800@www.rockumchurch.com
SUMMARY:Leap of Faith Concert Rehearsal
DESCRIPTION:Singers are needed for our Leap of Faith Concert on Saturday\, October 27\, 2018. Rehearsals are every Thursday and every other Tuesday.  You don’t need to be a Methodist\, just have a sense of fun.  
URL:https://www.rockumchurch.com/event/leap-of-faith-concert-rehearsal/
LOCATION:Rockville United Methodist Church\, 142 Grove Street\, Rockville\, CT\, 06066\, United States
CATEGORIES:Community Events,Music,Planning,RUMC Events,Volunteer Opportunity
END:VEVENT
BEGIN:VEVENT
DTSTART;TZID=America/New_York:20180830T190000
DTEND;TZID=America/New_York:20180830T200000
DTSTAMP:20260424T115343
CREATED:20180717T181558Z
LAST-MODIFIED:20180717T181558Z
UID:5376-1535655600-1535659200@www.rockumchurch.com
SUMMARY:Narcotics Anonymous
DESCRIPTION:
URL:https://www.rockumchurch.com/event/narcotics-anonymous-2-2018-08-30/
LOCATION:Rockville United Methodist Church\, 142 Grove Street\, Rockville\, CT\, 06066\, United States
CATEGORIES:Community Events
END:VEVENT
BEGIN:VEVENT
DTSTART;TZID=America/New_York:20180828T193000
DTEND;TZID=America/New_York:20180828T203000
DTSTAMP:20260424T115343
CREATED:20180717T184736Z
LAST-MODIFIED:20180717T184736Z
UID:5493-1535484600-1535488200@www.rockumchurch.com
SUMMARY:Families Anonymous
DESCRIPTION:
URL:https://www.rockumchurch.com/event/families-anonymous-2-2018-08-28/
LOCATION:Rockville United Methodist Church\, 142 Grove Street\, Rockville\, CT\, 06066\, United States
CATEGORIES:Community Events
END:VEVENT
BEGIN:VEVENT
DTSTART;TZID=America/New_York:20180826T110000
DTEND;TZID=America/New_York:20180826T120000
DTSTAMP:20260424T115343
CREATED:20180717T183120Z
LAST-MODIFIED:20180717T183120Z
UID:5435-1535281200-1535284800@www.rockumchurch.com
SUMMARY:Fellowship
DESCRIPTION:Fellowship follows our service every week.  We look forward to meeting you. \n 
URL:https://www.rockumchurch.com/event/fellowship-2018-08-26/
LOCATION:Rockville United Methodist Church\, 142 Grove Street\, Rockville\, CT\, 06066\, United States
CATEGORIES:Community Events,food,RUMC Events
ORGANIZER;CN="SeokCheol Shin":MAILTO:starcheol@gmail.com
END:VEVENT
BEGIN:VEVENT
DTSTART;TZID=America/New_York:20180823T190000
DTEND;TZID=America/New_York:20180823T200000
DTSTAMP:20260424T115343
CREATED:20180717T181558Z
LAST-MODIFIED:20180717T181558Z
UID:5375-1535050800-1535054400@www.rockumchurch.com
SUMMARY:Narcotics Anonymous
DESCRIPTION:
URL:https://www.rockumchurch.com/event/narcotics-anonymous-2-2018-08-23/
LOCATION:Rockville United Methodist Church\, 142 Grove Street\, Rockville\, CT\, 06066\, United States
CATEGORIES:Community Events
END:VEVENT
BEGIN:VEVENT
DTSTART;TZID=America/New_York:20180821T193000
DTEND;TZID=America/New_York:20180821T203000
DTSTAMP:20260424T115343
CREATED:20180717T184736Z
LAST-MODIFIED:20180717T184736Z
UID:5492-1534879800-1534883400@www.rockumchurch.com
SUMMARY:Families Anonymous
DESCRIPTION:
URL:https://www.rockumchurch.com/event/families-anonymous-2-2018-08-21/
LOCATION:Rockville United Methodist Church\, 142 Grove Street\, Rockville\, CT\, 06066\, United States
CATEGORIES:Community Events
END:VEVENT
BEGIN:VEVENT
DTSTART;TZID=America/New_York:20180819T110000
DTEND;TZID=America/New_York:20180819T120000
DTSTAMP:20260424T115343
CREATED:20180717T183120Z
LAST-MODIFIED:20180717T183120Z
UID:5434-1534676400-1534680000@www.rockumchurch.com
SUMMARY:Fellowship
DESCRIPTION:Fellowship follows our service every week.  We look forward to meeting you. \n 
URL:https://www.rockumchurch.com/event/fellowship-2018-08-19/
LOCATION:Rockville United Methodist Church\, 142 Grove Street\, Rockville\, CT\, 06066\, United States
CATEGORIES:Community Events,food,RUMC Events
ORGANIZER;CN="SeokCheol Shin":MAILTO:starcheol@gmail.com
END:VEVENT
BEGIN:VEVENT
DTSTART;TZID=America/New_York:20180818T170000
DTEND;TZID=America/New_York:20180818T183000
DTSTAMP:20260424T115343
CREATED:20180717T182244Z
LAST-MODIFIED:20180717T182244Z
UID:5395-1534611600-1534617000@www.rockumchurch.com
SUMMARY:Peach Shortcake & Ham Dinner
DESCRIPTION:Peach Shortcake & Ham Dinner\nSaturday August 18\, 2018\n5 to 6:30 pm\nHam\, Beans\, Potato Salad\, and our own Peach Shortcake! \nAdults: $14\nChildren 6-12: $5\nChildren 5 & under: free \nTake out is available.\nWalk-ins Welcome\, Reservations recommended (860) 875-6562
URL:https://www.rockumchurch.com/event/peach-shortcake-ham-dinner/
LOCATION:Rockville United Methodist Church\, 142 Grove Street\, Rockville\, CT\, 06066\, United States
CATEGORIES:Community Events,food,RUMC Events
ORGANIZER;CN="Don Ross":MAILTO:rumcoffice@sbcglobla.net
END:VEVENT
BEGIN:VEVENT
DTSTART;TZID=America/New_York:20180816T190000
DTEND;TZID=America/New_York:20180816T200000
DTSTAMP:20260424T115343
CREATED:20180717T181558Z
LAST-MODIFIED:20180717T181558Z
UID:5374-1534446000-1534449600@www.rockumchurch.com
SUMMARY:Narcotics Anonymous
DESCRIPTION:
URL:https://www.rockumchurch.com/event/narcotics-anonymous-2-2018-08-16/
LOCATION:Rockville United Methodist Church\, 142 Grove Street\, Rockville\, CT\, 06066\, United States
CATEGORIES:Community Events
END:VEVENT
BEGIN:VEVENT
DTSTART;TZID=America/New_York:20180814T193000
DTEND;TZID=America/New_York:20180814T203000
DTSTAMP:20260424T115343
CREATED:20180717T184736Z
LAST-MODIFIED:20180717T184736Z
UID:5491-1534275000-1534278600@www.rockumchurch.com
SUMMARY:Families Anonymous
DESCRIPTION:
URL:https://www.rockumchurch.com/event/families-anonymous-2-2018-08-14/
LOCATION:Rockville United Methodist Church\, 142 Grove Street\, Rockville\, CT\, 06066\, United States
CATEGORIES:Community Events
END:VEVENT
BEGIN:VEVENT
DTSTART;TZID=America/New_York:20180812T110000
DTEND;TZID=America/New_York:20180812T120000
DTSTAMP:20260424T115343
CREATED:20180717T183120Z
LAST-MODIFIED:20180717T183120Z
UID:5433-1534071600-1534075200@www.rockumchurch.com
SUMMARY:Fellowship
DESCRIPTION:Fellowship follows our service every week.  We look forward to meeting you. \n 
URL:https://www.rockumchurch.com/event/fellowship-2018-08-12/
LOCATION:Rockville United Methodist Church\, 142 Grove Street\, Rockville\, CT\, 06066\, United States
CATEGORIES:Community Events,food,RUMC Events
ORGANIZER;CN="SeokCheol Shin":MAILTO:starcheol@gmail.com
END:VEVENT
BEGIN:VEVENT
DTSTART;TZID=America/New_York:20180809T190000
DTEND;TZID=America/New_York:20180809T200000
DTSTAMP:20260424T115343
CREATED:20180717T181558Z
LAST-MODIFIED:20180717T181558Z
UID:5373-1533841200-1533844800@www.rockumchurch.com
SUMMARY:Narcotics Anonymous
DESCRIPTION:
URL:https://www.rockumchurch.com/event/narcotics-anonymous-2-2018-08-09/
LOCATION:Rockville United Methodist Church\, 142 Grove Street\, Rockville\, CT\, 06066\, United States
CATEGORIES:Community Events
END:VEVENT
BEGIN:VEVENT
DTSTART;TZID=America/New_York:20180807T193000
DTEND;TZID=America/New_York:20180807T203000
DTSTAMP:20260424T115343
CREATED:20180717T184736Z
LAST-MODIFIED:20180717T184736Z
UID:5489-1533670200-1533673800@www.rockumchurch.com
SUMMARY:Families Anonymous
DESCRIPTION:
URL:https://www.rockumchurch.com/event/families-anonymous-2/
LOCATION:Rockville United Methodist Church\, 142 Grove Street\, Rockville\, CT\, 06066\, United States
CATEGORIES:Community Events
END:VEVENT
BEGIN:VEVENT
DTSTART;TZID=America/New_York:20180805T110000
DTEND;TZID=America/New_York:20180805T120000
DTSTAMP:20260424T115343
CREATED:20180717T183120Z
LAST-MODIFIED:20180717T183120Z
UID:5432-1533466800-1533470400@www.rockumchurch.com
SUMMARY:Fellowship
DESCRIPTION:Fellowship follows our service every week.  We look forward to meeting you. \n 
URL:https://www.rockumchurch.com/event/fellowship-2018-08-05/
LOCATION:Rockville United Methodist Church\, 142 Grove Street\, Rockville\, CT\, 06066\, United States
CATEGORIES:Community Events,food,RUMC Events
ORGANIZER;CN="SeokCheol Shin":MAILTO:starcheol@gmail.com
END:VEVENT
BEGIN:VEVENT
DTSTART;VALUE=DATE:20180805
DTEND;VALUE=DATE:20180820
DTSTAMP:20260424T115343
CREATED:20180717T184400Z
LAST-MODIFIED:20180717T184400Z
UID:5486-1533427200-1534723199@www.rockumchurch.com
SUMMARY:Back to School Fundraiser
DESCRIPTION:Help us as we adopt a family for back to school clothing.   We will be collecting for the fundraiser from August 5th to August 19th.
URL:https://www.rockumchurch.com/event/back-to-school-fundraiser/
LOCATION:Rockville United Methodist Church\, 142 Grove Street\, Rockville\, CT\, 06066\, United States
CATEGORIES:Community Events,Fundraising,RUMC Events,Youth
END:VEVENT
BEGIN:VEVENT
DTSTART;TZID=America/New_York:20180802T190000
DTEND;TZID=America/New_York:20180802T200000
DTSTAMP:20260424T115343
CREATED:20180717T181558Z
LAST-MODIFIED:20180717T181558Z
UID:5372-1533236400-1533240000@www.rockumchurch.com
SUMMARY:Narcotics Anonymous
DESCRIPTION:
URL:https://www.rockumchurch.com/event/narcotics-anonymous-2-2018-08-02/
LOCATION:Rockville United Methodist Church\, 142 Grove Street\, Rockville\, CT\, 06066\, United States
CATEGORIES:Community Events
END:VEVENT
BEGIN:VEVENT
DTSTART;TZID=America/New_York:20180731T193000
DTEND;TZID=America/New_York:20180731T210000
DTSTAMP:20260424T115343
CREATED:20180111T164543Z
LAST-MODIFIED:20180111T164543Z
UID:4864-1533065400-1533070800@www.rockumchurch.com
SUMMARY:Families Anonymous
DESCRIPTION:Open to the public for people with family members who are struggling with addiction.
URL:https://www.rockumchurch.com/event/families-anonymous-2018-07-31/
LOCATION:Rockville United Methodist Church\, 142 Grove Street\, Rockville\, CT\, 06066\, United States
CATEGORIES:Community Events
END:VEVENT
BEGIN:VEVENT
DTSTART;TZID=America/New_York:20180729T110000
DTEND;TZID=America/New_York:20180729T120000
DTSTAMP:20260424T115343
CREATED:20180717T183120Z
LAST-MODIFIED:20180717T183120Z
UID:5431-1532862000-1532865600@www.rockumchurch.com
SUMMARY:Fellowship
DESCRIPTION:Fellowship follows our service every week.  We look forward to meeting you. \n 
URL:https://www.rockumchurch.com/event/fellowship-2018-07-29/
LOCATION:Rockville United Methodist Church\, 142 Grove Street\, Rockville\, CT\, 06066\, United States
CATEGORIES:Community Events,food,RUMC Events
ORGANIZER;CN="SeokCheol Shin":MAILTO:starcheol@gmail.com
END:VEVENT
BEGIN:VEVENT
DTSTART;TZID=America/New_York:20180727T080000
DTEND;TZID=America/New_York:20180727T163000
DTSTAMP:20260424T115343
CREATED:20180717T184029Z
LAST-MODIFIED:20180717T184029Z
UID:5485-1532678400-1532709000@www.rockumchurch.com
SUMMARY:Youth Mission Week
DESCRIPTION:Our RUMC Youth volunteer to help in the community.  They are helping with Hands on Hartford and FoodShare this week.
URL:https://www.rockumchurch.com/event/youth-mission-week-2018-07-27/
LOCATION:CT
CATEGORIES:Community Events,Volunteer Opportunity,Youth
ORGANIZER;CN="Linda Shivers":MAILTO:necsvga@aol.com
END:VEVENT
BEGIN:VEVENT
DTSTART;TZID=America/New_York:20180726T190000
DTEND;TZID=America/New_York:20180726T200000
DTSTAMP:20260424T115343
CREATED:20180717T181558Z
LAST-MODIFIED:20180717T181558Z
UID:5371-1532631600-1532635200@www.rockumchurch.com
SUMMARY:Narcotics Anonymous
DESCRIPTION:
URL:https://www.rockumchurch.com/event/narcotics-anonymous-2-2018-07-26/
LOCATION:Rockville United Methodist Church\, 142 Grove Street\, Rockville\, CT\, 06066\, United States
CATEGORIES:Community Events
END:VEVENT
BEGIN:VEVENT
DTSTART;TZID=America/New_York:20180726T080000
DTEND;TZID=America/New_York:20180726T163000
DTSTAMP:20260424T115343
CREATED:20180717T184029Z
LAST-MODIFIED:20180717T184029Z
UID:5484-1532592000-1532622600@www.rockumchurch.com
SUMMARY:Youth Mission Week
DESCRIPTION:Our RUMC Youth volunteer to help in the community.  They are helping with Hands on Hartford and FoodShare this week.
URL:https://www.rockumchurch.com/event/youth-mission-week-2018-07-26/
LOCATION:CT
CATEGORIES:Community Events,Volunteer Opportunity,Youth
ORGANIZER;CN="Linda Shivers":MAILTO:necsvga@aol.com
END:VEVENT
BEGIN:VEVENT
DTSTART;TZID=America/New_York:20180725T080000
DTEND;TZID=America/New_York:20180725T163000
DTSTAMP:20260424T115343
CREATED:20180717T184029Z
LAST-MODIFIED:20180717T184029Z
UID:5483-1532505600-1532536200@www.rockumchurch.com
SUMMARY:Youth Mission Week
DESCRIPTION:Our RUMC Youth volunteer to help in the community.  They are helping with Hands on Hartford and FoodShare this week.
URL:https://www.rockumchurch.com/event/youth-mission-week-2018-07-25/
LOCATION:CT
CATEGORIES:Community Events,Volunteer Opportunity,Youth
ORGANIZER;CN="Linda Shivers":MAILTO:necsvga@aol.com
END:VEVENT
BEGIN:VEVENT
DTSTART;TZID=America/New_York:20180724T193000
DTEND;TZID=America/New_York:20180724T210000
DTSTAMP:20260424T115343
CREATED:20180111T164543Z
LAST-MODIFIED:20180111T164543Z
UID:4863-1532460600-1532466000@www.rockumchurch.com
SUMMARY:Families Anonymous
DESCRIPTION:Open to the public for people with family members who are struggling with addiction.
URL:https://www.rockumchurch.com/event/families-anonymous-2018-07-24/
LOCATION:Rockville United Methodist Church\, 142 Grove Street\, Rockville\, CT\, 06066\, United States
CATEGORIES:Community Events
END:VEVENT
BEGIN:VEVENT
DTSTART;TZID=America/New_York:20180724T080000
DTEND;TZID=America/New_York:20180724T163000
DTSTAMP:20260424T115343
CREATED:20180717T184029Z
LAST-MODIFIED:20180717T184029Z
UID:5482-1532419200-1532449800@www.rockumchurch.com
SUMMARY:Youth Mission Week
DESCRIPTION:Our RUMC Youth volunteer to help in the community.  They are helping with Hands on Hartford and FoodShare this week.
URL:https://www.rockumchurch.com/event/youth-mission-week-2018-07-24/
LOCATION:CT
CATEGORIES:Community Events,Volunteer Opportunity,Youth
ORGANIZER;CN="Linda Shivers":MAILTO:necsvga@aol.com
END:VEVENT
BEGIN:VEVENT
DTSTART;TZID=America/New_York:20180723T080000
DTEND;TZID=America/New_York:20180723T163000
DTSTAMP:20260424T115343
CREATED:20180717T184029Z
LAST-MODIFIED:20180717T184029Z
UID:5479-1532332800-1532363400@www.rockumchurch.com
SUMMARY:Youth Mission Week
DESCRIPTION:Our RUMC Youth volunteer to help in the community.  They are helping with Hands on Hartford and FoodShare this week.
URL:https://www.rockumchurch.com/event/youth-mission-week/
LOCATION:CT
CATEGORIES:Community Events,Volunteer Opportunity,Youth
ORGANIZER;CN="Linda Shivers":MAILTO:necsvga@aol.com
END:VEVENT
BEGIN:VEVENT
DTSTART;TZID=America/New_York:20180722T110000
DTEND;TZID=America/New_York:20180722T120000
DTSTAMP:20260424T115343
CREATED:20180717T183120Z
LAST-MODIFIED:20180717T183120Z
UID:5430-1532257200-1532260800@www.rockumchurch.com
SUMMARY:Fellowship
DESCRIPTION:Fellowship follows our service every week.  We look forward to meeting you. \n 
URL:https://www.rockumchurch.com/event/fellowship-2018-07-22/
LOCATION:Rockville United Methodist Church\, 142 Grove Street\, Rockville\, CT\, 06066\, United States
CATEGORIES:Community Events,food,RUMC Events
ORGANIZER;CN="SeokCheol Shin":MAILTO:starcheol@gmail.com
END:VEVENT
BEGIN:VEVENT
DTSTART;TZID=America/New_York:20180719T190000
DTEND;TZID=America/New_York:20180719T200000
DTSTAMP:20260424T115343
CREATED:20180717T181558Z
LAST-MODIFIED:20180717T181558Z
UID:5370-1532026800-1532030400@www.rockumchurch.com
SUMMARY:Narcotics Anonymous
DESCRIPTION:
URL:https://www.rockumchurch.com/event/narcotics-anonymous-2-2018-07-19/
LOCATION:Rockville United Methodist Church\, 142 Grove Street\, Rockville\, CT\, 06066\, United States
CATEGORIES:Community Events
END:VEVENT
BEGIN:VEVENT
DTSTART;TZID=America/New_York:20180717T193000
DTEND;TZID=America/New_York:20180717T210000
DTSTAMP:20260424T115343
CREATED:20180111T164543Z
LAST-MODIFIED:20180111T164543Z
UID:4862-1531855800-1531861200@www.rockumchurch.com
SUMMARY:Families Anonymous
DESCRIPTION:Open to the public for people with family members who are struggling with addiction.
URL:https://www.rockumchurch.com/event/families-anonymous-2018-07-17/
LOCATION:Rockville United Methodist Church\, 142 Grove Street\, Rockville\, CT\, 06066\, United States
CATEGORIES:Community Events
END:VEVENT
BEGIN:VEVENT
DTSTART;TZID=America/New_York:20180715T110000
DTEND;TZID=America/New_York:20180715T120000
DTSTAMP:20260424T115343
CREATED:20180717T183120Z
LAST-MODIFIED:20180717T183120Z
UID:5429-1531652400-1531656000@www.rockumchurch.com
SUMMARY:Fellowship
DESCRIPTION:Fellowship follows our service every week.  We look forward to meeting you. \n 
URL:https://www.rockumchurch.com/event/fellowship-2018-07-15/
LOCATION:Rockville United Methodist Church\, 142 Grove Street\, Rockville\, CT\, 06066\, United States
CATEGORIES:Community Events,food,RUMC Events
ORGANIZER;CN="SeokCheol Shin":MAILTO:starcheol@gmail.com
END:VEVENT
BEGIN:VEVENT
DTSTART;TZID=America/New_York:20180712T190000
DTEND;TZID=America/New_York:20180712T200000
DTSTAMP:20260424T115343
CREATED:20180717T181558Z
LAST-MODIFIED:20180717T181558Z
UID:5369-1531422000-1531425600@www.rockumchurch.com
SUMMARY:Narcotics Anonymous
DESCRIPTION:
URL:https://www.rockumchurch.com/event/narcotics-anonymous-2-2018-07-12/
LOCATION:Rockville United Methodist Church\, 142 Grove Street\, Rockville\, CT\, 06066\, United States
CATEGORIES:Community Events
END:VEVENT
END:VCALENDAR