BEGIN:VCALENDAR
VERSION:2.0
PRODID:-//Rockville United Methodist Church - ECPv6.15.20//NONSGML v1.0//EN
CALSCALE:GREGORIAN
METHOD:PUBLISH
X-ORIGINAL-URL:https://www.rockumchurch.com
X-WR-CALDESC:Events for Rockville United Methodist Church
REFRESH-INTERVAL;VALUE=DURATION:PT1H
X-Robots-Tag:noindex
X-PUBLISHED-TTL:PT1H
BEGIN:VTIMEZONE
TZID:America/New_York
BEGIN:DAYLIGHT
TZOFFSETFROM:-0500
TZOFFSETTO:-0400
TZNAME:EDT
DTSTART:20170312T070000
END:DAYLIGHT
BEGIN:STANDARD
TZOFFSETFROM:-0400
TZOFFSETTO:-0500
TZNAME:EST
DTSTART:20171105T060000
END:STANDARD
BEGIN:DAYLIGHT
TZOFFSETFROM:-0500
TZOFFSETTO:-0400
TZNAME:EDT
DTSTART:20180311T070000
END:DAYLIGHT
BEGIN:STANDARD
TZOFFSETFROM:-0400
TZOFFSETTO:-0500
TZNAME:EST
DTSTART:20181104T060000
END:STANDARD
BEGIN:DAYLIGHT
TZOFFSETFROM:-0500
TZOFFSETTO:-0400
TZNAME:EDT
DTSTART:20190310T070000
END:DAYLIGHT
BEGIN:STANDARD
TZOFFSETFROM:-0400
TZOFFSETTO:-0500
TZNAME:EST
DTSTART:20191103T060000
END:STANDARD
END:VTIMEZONE
BEGIN:VEVENT
DTSTART;TZID=America/New_York:20181020T170000
DTEND;TZID=America/New_York:20181020T183000
DTSTAMP:20260424T063531
CREATED:20180814T170243Z
LAST-MODIFIED:20181002T173438Z
UID:5558-1540054800-1540060200@www.rockumchurch.com
SUMMARY:Harvest Supper
DESCRIPTION:RUMC Harvest Supper\nOctober 20\, 2018\n5-6:30 pm\nTurkey Dinner with all the trimmings!\nAdults: $15\nChildren (6-10): $5\nContinuous Serving\nWalk-ins Welcome\nTake Out Available after 5:30pm\n860-875-6562    \n 
URL:https://www.rockumchurch.com/event/harvest-supper-2/
LOCATION:Rockville United Methodist Church\, 142 Grove Street\, Rockville\, CT\, 06066\, United States
CATEGORIES:Community Events,food,Fundraising,RUMC Events
END:VEVENT
BEGIN:VEVENT
DTSTART;TZID=America/New_York:20181018T190000
DTEND;TZID=America/New_York:20181018T210000
DTSTAMP:20260424T063531
CREATED:20180814T155635Z
LAST-MODIFIED:20180814T155635Z
UID:5535-1539889200-1539896400@www.rockumchurch.com
SUMMARY:Leap of Faith Rehearsal
DESCRIPTION:Rehearsals for our Leap of Faith Concert on Saturday\, October 27\, 2018.  Rehearsals are every Thursday and every other Tuesday.
URL:https://www.rockumchurch.com/event/leap-of-faith-rehearsal-2018-10-18/
LOCATION:Rockville United Methodist Church\, 142 Grove Street\, Rockville\, CT\, 06066\, United States
CATEGORIES:Community Events,Music,Planning,RUMC Events,Volunteer Opportunity
END:VEVENT
BEGIN:VEVENT
DTSTART;TZID=America/New_York:20181018T190000
DTEND;TZID=America/New_York:20181018T200000
DTSTAMP:20260424T063531
CREATED:20180717T181558Z
LAST-MODIFIED:20180717T181558Z
UID:5383-1539889200-1539892800@www.rockumchurch.com
SUMMARY:Narcotics Anonymous
DESCRIPTION:
URL:https://www.rockumchurch.com/event/narcotics-anonymous-2-2018-10-18/
LOCATION:Rockville United Methodist Church\, 142 Grove Street\, Rockville\, CT\, 06066\, United States
CATEGORIES:Community Events
END:VEVENT
BEGIN:VEVENT
DTSTART;TZID=America/New_York:20181016T193000
DTEND;TZID=America/New_York:20181016T210000
DTSTAMP:20260424T063531
CREATED:20180814T171955Z
LAST-MODIFIED:20180814T171955Z
UID:5569-1539718200-1539723600@www.rockumchurch.com
SUMMARY:Families Anonymous
DESCRIPTION:Families Anonymous\nA 12-step program for relatives and friends concerned about the use of drugs or related behavioral problems \nIf you are concerned\, angry\, confused\, frustrated\, hopeless\, or fed-up with a loved one’s drug use\, please visit us.  We have all started where you are today.  The Meetings are different every week\, with different leaders\, so we learn something new each time we attend.  Together we learn how to live our lives without enabling\, guilt\, or any of the other things caused by the actions of the person who brought us here.  You are welcome. \n 
URL:https://www.rockumchurch.com/event/families-anonymous-3-2018-10-16/
LOCATION:Rockville United Methodist Church\, 142 Grove Street\, Rockville\, CT\, 06066\, United States
CATEGORIES:Community Events
END:VEVENT
BEGIN:VEVENT
DTSTART;TZID=America/New_York:20181014T110000
DTEND;TZID=America/New_York:20181014T120000
DTSTAMP:20260424T063531
CREATED:20180717T183120Z
LAST-MODIFIED:20180717T183120Z
UID:5442-1539514800-1539518400@www.rockumchurch.com
SUMMARY:Fellowship
DESCRIPTION:Fellowship follows our service every week.  We look forward to meeting you. \n 
URL:https://www.rockumchurch.com/event/fellowship-2018-10-14/
LOCATION:Rockville United Methodist Church\, 142 Grove Street\, Rockville\, CT\, 06066\, United States
CATEGORIES:Community Events,food,RUMC Events
ORGANIZER;CN="SeokCheol Shin":MAILTO:starcheol@gmail.com
END:VEVENT
BEGIN:VEVENT
DTSTART;TZID=America/New_York:20181011T190000
DTEND;TZID=America/New_York:20181011T210000
DTSTAMP:20260424T063531
CREATED:20180814T155635Z
LAST-MODIFIED:20180814T155635Z
UID:5534-1539284400-1539291600@www.rockumchurch.com
SUMMARY:Leap of Faith Rehearsal
DESCRIPTION:Rehearsals for our Leap of Faith Concert on Saturday\, October 27\, 2018.  Rehearsals are every Thursday and every other Tuesday.
URL:https://www.rockumchurch.com/event/leap-of-faith-rehearsal-2018-10-11/
LOCATION:Rockville United Methodist Church\, 142 Grove Street\, Rockville\, CT\, 06066\, United States
CATEGORIES:Community Events,Music,Planning,RUMC Events,Volunteer Opportunity
END:VEVENT
BEGIN:VEVENT
DTSTART;TZID=America/New_York:20181011T190000
DTEND;TZID=America/New_York:20181011T200000
DTSTAMP:20260424T063531
CREATED:20180717T181558Z
LAST-MODIFIED:20180717T181558Z
UID:5382-1539284400-1539288000@www.rockumchurch.com
SUMMARY:Narcotics Anonymous
DESCRIPTION:
URL:https://www.rockumchurch.com/event/narcotics-anonymous-2-2018-10-11/
LOCATION:Rockville United Methodist Church\, 142 Grove Street\, Rockville\, CT\, 06066\, United States
CATEGORIES:Community Events
END:VEVENT
BEGIN:VEVENT
DTSTART;TZID=America/New_York:20181009T193000
DTEND;TZID=America/New_York:20181009T210000
DTSTAMP:20260424T063531
CREATED:20180814T171955Z
LAST-MODIFIED:20180814T171955Z
UID:5568-1539113400-1539118800@www.rockumchurch.com
SUMMARY:Families Anonymous
DESCRIPTION:Families Anonymous\nA 12-step program for relatives and friends concerned about the use of drugs or related behavioral problems \nIf you are concerned\, angry\, confused\, frustrated\, hopeless\, or fed-up with a loved one’s drug use\, please visit us.  We have all started where you are today.  The Meetings are different every week\, with different leaders\, so we learn something new each time we attend.  Together we learn how to live our lives without enabling\, guilt\, or any of the other things caused by the actions of the person who brought us here.  You are welcome. \n 
URL:https://www.rockumchurch.com/event/families-anonymous-3-2018-10-09/
LOCATION:Rockville United Methodist Church\, 142 Grove Street\, Rockville\, CT\, 06066\, United States
CATEGORIES:Community Events
END:VEVENT
BEGIN:VEVENT
DTSTART;TZID=America/New_York:20181007T110000
DTEND;TZID=America/New_York:20181007T120000
DTSTAMP:20260424T063531
CREATED:20180717T183120Z
LAST-MODIFIED:20180717T183120Z
UID:5441-1538910000-1538913600@www.rockumchurch.com
SUMMARY:Fellowship
DESCRIPTION:Fellowship follows our service every week.  We look forward to meeting you. \n 
URL:https://www.rockumchurch.com/event/fellowship-2018-10-07/
LOCATION:Rockville United Methodist Church\, 142 Grove Street\, Rockville\, CT\, 06066\, United States
CATEGORIES:Community Events,food,RUMC Events
ORGANIZER;CN="SeokCheol Shin":MAILTO:starcheol@gmail.com
END:VEVENT
BEGIN:VEVENT
DTSTART;TZID=America/New_York:20181005T080000
DTEND;TZID=America/New_York:20181005T170000
DTSTAMP:20260424T063531
CREATED:20181005T210224Z
LAST-MODIFIED:20181005T210224Z
UID:5740-1538726400-1538758800@www.rockumchurch.com
SUMMARY:Holiday Bazaar Planning Meeting
DESCRIPTION:All are welcome who are interested in volunteering at the Holiday Bazaar.  Come find out which job is right for you.
URL:https://www.rockumchurch.com/event/holiday-bazaar-planning-meeting/
LOCATION:Rockville United Methodist Church\, 142 Grove Street\, Rockville\, CT\, 06066\, United States
CATEGORIES:Community Events,Fundraising,Planning,Volunteer Opportunity
END:VEVENT
BEGIN:VEVENT
DTSTART;TZID=America/New_York:20181004T190000
DTEND;TZID=America/New_York:20181004T210000
DTSTAMP:20260424T063531
CREATED:20180814T155635Z
LAST-MODIFIED:20180814T155635Z
UID:5533-1538679600-1538686800@www.rockumchurch.com
SUMMARY:Leap of Faith Rehearsal
DESCRIPTION:Rehearsals for our Leap of Faith Concert on Saturday\, October 27\, 2018.  Rehearsals are every Thursday and every other Tuesday.
URL:https://www.rockumchurch.com/event/leap-of-faith-rehearsal-2018-10-04/
LOCATION:Rockville United Methodist Church\, 142 Grove Street\, Rockville\, CT\, 06066\, United States
CATEGORIES:Community Events,Music,Planning,RUMC Events,Volunteer Opportunity
END:VEVENT
BEGIN:VEVENT
DTSTART;TZID=America/New_York:20181004T190000
DTEND;TZID=America/New_York:20181004T200000
DTSTAMP:20260424T063531
CREATED:20180717T181558Z
LAST-MODIFIED:20180717T181558Z
UID:5381-1538679600-1538683200@www.rockumchurch.com
SUMMARY:Narcotics Anonymous
DESCRIPTION:
URL:https://www.rockumchurch.com/event/narcotics-anonymous-2-2018-10-04/
LOCATION:Rockville United Methodist Church\, 142 Grove Street\, Rockville\, CT\, 06066\, United States
CATEGORIES:Community Events
END:VEVENT
BEGIN:VEVENT
DTSTART;TZID=America/New_York:20181002T193000
DTEND;TZID=America/New_York:20181002T210000
DTSTAMP:20260424T063531
CREATED:20180814T171955Z
LAST-MODIFIED:20180814T171955Z
UID:5567-1538508600-1538514000@www.rockumchurch.com
SUMMARY:Families Anonymous
DESCRIPTION:Families Anonymous\nA 12-step program for relatives and friends concerned about the use of drugs or related behavioral problems \nIf you are concerned\, angry\, confused\, frustrated\, hopeless\, or fed-up with a loved one’s drug use\, please visit us.  We have all started where you are today.  The Meetings are different every week\, with different leaders\, so we learn something new each time we attend.  Together we learn how to live our lives without enabling\, guilt\, or any of the other things caused by the actions of the person who brought us here.  You are welcome. \n 
URL:https://www.rockumchurch.com/event/families-anonymous-3-2018-10-02/
LOCATION:Rockville United Methodist Church\, 142 Grove Street\, Rockville\, CT\, 06066\, United States
CATEGORIES:Community Events
END:VEVENT
BEGIN:VEVENT
DTSTART;TZID=America/New_York:20180930T110000
DTEND;TZID=America/New_York:20180930T120000
DTSTAMP:20260424T063531
CREATED:20180717T183120Z
LAST-MODIFIED:20180717T183120Z
UID:5440-1538305200-1538308800@www.rockumchurch.com
SUMMARY:Fellowship
DESCRIPTION:Fellowship follows our service every week.  We look forward to meeting you. \n 
URL:https://www.rockumchurch.com/event/fellowship-2018-09-30/
LOCATION:Rockville United Methodist Church\, 142 Grove Street\, Rockville\, CT\, 06066\, United States
CATEGORIES:Community Events,food,RUMC Events
ORGANIZER;CN="SeokCheol Shin":MAILTO:starcheol@gmail.com
END:VEVENT
BEGIN:VEVENT
DTSTART;TZID=America/New_York:20180927T190000
DTEND;TZID=America/New_York:20180927T210000
DTSTAMP:20260424T063531
CREATED:20180814T155635Z
LAST-MODIFIED:20180814T155635Z
UID:5532-1538074800-1538082000@www.rockumchurch.com
SUMMARY:Leap of Faith Rehearsal
DESCRIPTION:Rehearsals for our Leap of Faith Concert on Saturday\, October 27\, 2018.  Rehearsals are every Thursday and every other Tuesday.
URL:https://www.rockumchurch.com/event/leap-of-faith-rehearsal-2018-09-27/
LOCATION:Rockville United Methodist Church\, 142 Grove Street\, Rockville\, CT\, 06066\, United States
CATEGORIES:Community Events,Music,Planning,RUMC Events,Volunteer Opportunity
END:VEVENT
BEGIN:VEVENT
DTSTART;TZID=America/New_York:20180927T190000
DTEND;TZID=America/New_York:20180927T200000
DTSTAMP:20260424T063531
CREATED:20180717T181558Z
LAST-MODIFIED:20180717T181558Z
UID:5380-1538074800-1538078400@www.rockumchurch.com
SUMMARY:Narcotics Anonymous
DESCRIPTION:
URL:https://www.rockumchurch.com/event/narcotics-anonymous-2-2018-09-27/
LOCATION:Rockville United Methodist Church\, 142 Grove Street\, Rockville\, CT\, 06066\, United States
CATEGORIES:Community Events
END:VEVENT
BEGIN:VEVENT
DTSTART;TZID=America/New_York:20180925T193000
DTEND;TZID=America/New_York:20180925T210000
DTSTAMP:20260424T063531
CREATED:20180814T171955Z
LAST-MODIFIED:20180814T171955Z
UID:5566-1537903800-1537909200@www.rockumchurch.com
SUMMARY:Families Anonymous
DESCRIPTION:Families Anonymous\nA 12-step program for relatives and friends concerned about the use of drugs or related behavioral problems \nIf you are concerned\, angry\, confused\, frustrated\, hopeless\, or fed-up with a loved one’s drug use\, please visit us.  We have all started where you are today.  The Meetings are different every week\, with different leaders\, so we learn something new each time we attend.  Together we learn how to live our lives without enabling\, guilt\, or any of the other things caused by the actions of the person who brought us here.  You are welcome. \n 
URL:https://www.rockumchurch.com/event/families-anonymous-3-2018-09-25/
LOCATION:Rockville United Methodist Church\, 142 Grove Street\, Rockville\, CT\, 06066\, United States
CATEGORIES:Community Events
END:VEVENT
BEGIN:VEVENT
DTSTART;TZID=America/New_York:20180923T110000
DTEND;TZID=America/New_York:20180923T120000
DTSTAMP:20260424T063531
CREATED:20180717T183120Z
LAST-MODIFIED:20180717T183120Z
UID:5439-1537700400-1537704000@www.rockumchurch.com
SUMMARY:Fellowship
DESCRIPTION:Fellowship follows our service every week.  We look forward to meeting you. \n 
URL:https://www.rockumchurch.com/event/fellowship-2018-09-23/
LOCATION:Rockville United Methodist Church\, 142 Grove Street\, Rockville\, CT\, 06066\, United States
CATEGORIES:Community Events,food,RUMC Events
ORGANIZER;CN="SeokCheol Shin":MAILTO:starcheol@gmail.com
END:VEVENT
BEGIN:VEVENT
DTSTART;TZID=America/New_York:20180920T190000
DTEND;TZID=America/New_York:20180920T210000
DTSTAMP:20260424T063531
CREATED:20180814T155635Z
LAST-MODIFIED:20180814T160153Z
UID:5525-1537470000-1537477200@www.rockumchurch.com
SUMMARY:Leap of Faith Rehearsal
DESCRIPTION:Rehearsals for our Leap of Faith Concert on Saturday\, October 27\, 2018.  Rehearsals are every Thursday and every other Tuesday.
URL:https://www.rockumchurch.com/event/leap-of-faith-rehearsal/
LOCATION:Rockville United Methodist Church\, 142 Grove Street\, Rockville\, CT\, 06066\, United States
CATEGORIES:Community Events,Music,Planning,RUMC Events,Volunteer Opportunity
END:VEVENT
BEGIN:VEVENT
DTSTART;TZID=America/New_York:20180920T190000
DTEND;TZID=America/New_York:20180920T200000
DTSTAMP:20260424T063531
CREATED:20180717T181558Z
LAST-MODIFIED:20180717T181558Z
UID:5379-1537470000-1537473600@www.rockumchurch.com
SUMMARY:Narcotics Anonymous
DESCRIPTION:
URL:https://www.rockumchurch.com/event/narcotics-anonymous-2-2018-09-20/
LOCATION:Rockville United Methodist Church\, 142 Grove Street\, Rockville\, CT\, 06066\, United States
CATEGORIES:Community Events
END:VEVENT
BEGIN:VEVENT
DTSTART;TZID=America/New_York:20180918T193000
DTEND;TZID=America/New_York:20180918T210000
DTSTAMP:20260424T063531
CREATED:20180814T171955Z
LAST-MODIFIED:20180814T171955Z
UID:5565-1537299000-1537304400@www.rockumchurch.com
SUMMARY:Families Anonymous
DESCRIPTION:Families Anonymous\nA 12-step program for relatives and friends concerned about the use of drugs or related behavioral problems \nIf you are concerned\, angry\, confused\, frustrated\, hopeless\, or fed-up with a loved one’s drug use\, please visit us.  We have all started where you are today.  The Meetings are different every week\, with different leaders\, so we learn something new each time we attend.  Together we learn how to live our lives without enabling\, guilt\, or any of the other things caused by the actions of the person who brought us here.  You are welcome. \n 
URL:https://www.rockumchurch.com/event/families-anonymous-3-2018-09-18/
LOCATION:Rockville United Methodist Church\, 142 Grove Street\, Rockville\, CT\, 06066\, United States
CATEGORIES:Community Events
END:VEVENT
BEGIN:VEVENT
DTSTART;TZID=America/New_York:20180916T110000
DTEND;TZID=America/New_York:20180916T120000
DTSTAMP:20260424T063531
CREATED:20180717T183120Z
LAST-MODIFIED:20180717T183120Z
UID:5438-1537095600-1537099200@www.rockumchurch.com
SUMMARY:Fellowship
DESCRIPTION:Fellowship follows our service every week.  We look forward to meeting you. \n 
URL:https://www.rockumchurch.com/event/fellowship-2018-09-16/
LOCATION:Rockville United Methodist Church\, 142 Grove Street\, Rockville\, CT\, 06066\, United States
CATEGORIES:Community Events,food,RUMC Events
ORGANIZER;CN="SeokCheol Shin":MAILTO:starcheol@gmail.com
END:VEVENT
BEGIN:VEVENT
DTSTART;TZID=America/New_York:20180913T190000
DTEND;TZID=America/New_York:20180913T210000
DTSTAMP:20260424T063531
CREATED:20180814T160752Z
LAST-MODIFIED:20180814T160752Z
UID:5540-1536865200-1536872400@www.rockumchurch.com
SUMMARY:Leap of Faith Concert Rehearsal
DESCRIPTION:Singers are needed for our Leap of Faith Concert on Saturday\, October 27\, 2018. Rehearsals are every Thursday and every other Tuesday.  You don’t need to be a Methodist\, just have a sense of fun.  
URL:https://www.rockumchurch.com/event/leap-of-faith-concert-rehearsal-2018-09-13/
LOCATION:Rockville United Methodist Church\, 142 Grove Street\, Rockville\, CT\, 06066\, United States
CATEGORIES:Community Events,Music,Planning,RUMC Events,Volunteer Opportunity
END:VEVENT
BEGIN:VEVENT
DTSTART;TZID=America/New_York:20180913T190000
DTEND;TZID=America/New_York:20180913T200000
DTSTAMP:20260424T063531
CREATED:20180717T181558Z
LAST-MODIFIED:20180717T181558Z
UID:5378-1536865200-1536868800@www.rockumchurch.com
SUMMARY:Narcotics Anonymous
DESCRIPTION:
URL:https://www.rockumchurch.com/event/narcotics-anonymous-2-2018-09-13/
LOCATION:Rockville United Methodist Church\, 142 Grove Street\, Rockville\, CT\, 06066\, United States
CATEGORIES:Community Events
END:VEVENT
BEGIN:VEVENT
DTSTART;TZID=America/New_York:20180911T193000
DTEND;TZID=America/New_York:20180911T210000
DTSTAMP:20260424T063531
CREATED:20180814T171955Z
LAST-MODIFIED:20180814T171955Z
UID:5564-1536694200-1536699600@www.rockumchurch.com
SUMMARY:Families Anonymous
DESCRIPTION:Families Anonymous\nA 12-step program for relatives and friends concerned about the use of drugs or related behavioral problems \nIf you are concerned\, angry\, confused\, frustrated\, hopeless\, or fed-up with a loved one’s drug use\, please visit us.  We have all started where you are today.  The Meetings are different every week\, with different leaders\, so we learn something new each time we attend.  Together we learn how to live our lives without enabling\, guilt\, or any of the other things caused by the actions of the person who brought us here.  You are welcome. \n 
URL:https://www.rockumchurch.com/event/families-anonymous-3-2018-09-11/
LOCATION:Rockville United Methodist Church\, 142 Grove Street\, Rockville\, CT\, 06066\, United States
CATEGORIES:Community Events
END:VEVENT
BEGIN:VEVENT
DTSTART;TZID=America/New_York:20180909T110000
DTEND;TZID=America/New_York:20180909T120000
DTSTAMP:20260424T063531
CREATED:20180717T183120Z
LAST-MODIFIED:20180717T183120Z
UID:5437-1536490800-1536494400@www.rockumchurch.com
SUMMARY:Fellowship
DESCRIPTION:Fellowship follows our service every week.  We look forward to meeting you. \n 
URL:https://www.rockumchurch.com/event/fellowship-2018-09-09/
LOCATION:Rockville United Methodist Church\, 142 Grove Street\, Rockville\, CT\, 06066\, United States
CATEGORIES:Community Events,food,RUMC Events
ORGANIZER;CN="SeokCheol Shin":MAILTO:starcheol@gmail.com
END:VEVENT
BEGIN:VEVENT
DTSTART;TZID=America/New_York:20180906T190000
DTEND;TZID=America/New_York:20180906T210000
DTSTAMP:20260424T063531
CREATED:20180814T160752Z
LAST-MODIFIED:20180814T160752Z
UID:5539-1536260400-1536267600@www.rockumchurch.com
SUMMARY:Leap of Faith Concert Rehearsal
DESCRIPTION:Singers are needed for our Leap of Faith Concert on Saturday\, October 27\, 2018. Rehearsals are every Thursday and every other Tuesday.  You don’t need to be a Methodist\, just have a sense of fun.  
URL:https://www.rockumchurch.com/event/leap-of-faith-concert-rehearsal-2018-09-06/
LOCATION:Rockville United Methodist Church\, 142 Grove Street\, Rockville\, CT\, 06066\, United States
CATEGORIES:Community Events,Music,Planning,RUMC Events,Volunteer Opportunity
END:VEVENT
BEGIN:VEVENT
DTSTART;TZID=America/New_York:20180906T190000
DTEND;TZID=America/New_York:20180906T200000
DTSTAMP:20260424T063531
CREATED:20180717T181558Z
LAST-MODIFIED:20180717T181558Z
UID:5377-1536260400-1536264000@www.rockumchurch.com
SUMMARY:Narcotics Anonymous
DESCRIPTION:
URL:https://www.rockumchurch.com/event/narcotics-anonymous-2-2018-09-06/
LOCATION:Rockville United Methodist Church\, 142 Grove Street\, Rockville\, CT\, 06066\, United States
CATEGORIES:Community Events
END:VEVENT
BEGIN:VEVENT
DTSTART;TZID=America/New_York:20180904T193000
DTEND;TZID=America/New_York:20180904T210000
DTSTAMP:20260424T063531
CREATED:20180814T171955Z
LAST-MODIFIED:20180814T171955Z
UID:5561-1536089400-1536094800@www.rockumchurch.com
SUMMARY:Families Anonymous
DESCRIPTION:Families Anonymous\nA 12-step program for relatives and friends concerned about the use of drugs or related behavioral problems \nIf you are concerned\, angry\, confused\, frustrated\, hopeless\, or fed-up with a loved one’s drug use\, please visit us.  We have all started where you are today.  The Meetings are different every week\, with different leaders\, so we learn something new each time we attend.  Together we learn how to live our lives without enabling\, guilt\, or any of the other things caused by the actions of the person who brought us here.  You are welcome. \n 
URL:https://www.rockumchurch.com/event/families-anonymous-3/
LOCATION:Rockville United Methodist Church\, 142 Grove Street\, Rockville\, CT\, 06066\, United States
CATEGORIES:Community Events
END:VEVENT
BEGIN:VEVENT
DTSTART;TZID=America/New_York:20180902T110000
DTEND;TZID=America/New_York:20180902T120000
DTSTAMP:20260424T063531
CREATED:20180717T183120Z
LAST-MODIFIED:20180717T183120Z
UID:5436-1535886000-1535889600@www.rockumchurch.com
SUMMARY:Fellowship
DESCRIPTION:Fellowship follows our service every week.  We look forward to meeting you. \n 
URL:https://www.rockumchurch.com/event/fellowship-2018-09-02/
LOCATION:Rockville United Methodist Church\, 142 Grove Street\, Rockville\, CT\, 06066\, United States
CATEGORIES:Community Events,food,RUMC Events
ORGANIZER;CN="SeokCheol Shin":MAILTO:starcheol@gmail.com
END:VEVENT
END:VCALENDAR