BEGIN:VCALENDAR
VERSION:2.0
PRODID:-//Rockville United Methodist Church - ECPv6.15.20//NONSGML v1.0//EN
CALSCALE:GREGORIAN
METHOD:PUBLISH
X-WR-CALNAME:Rockville United Methodist Church
X-ORIGINAL-URL:https://www.rockumchurch.com
X-WR-CALDESC:Events for Rockville United Methodist Church
REFRESH-INTERVAL;VALUE=DURATION:PT1H
X-Robots-Tag:noindex
X-PUBLISHED-TTL:PT1H
BEGIN:VTIMEZONE
TZID:America/New_York
BEGIN:DAYLIGHT
TZOFFSETFROM:-0500
TZOFFSETTO:-0400
TZNAME:EDT
DTSTART:20170312T070000
END:DAYLIGHT
BEGIN:STANDARD
TZOFFSETFROM:-0400
TZOFFSETTO:-0500
TZNAME:EST
DTSTART:20171105T060000
END:STANDARD
BEGIN:DAYLIGHT
TZOFFSETFROM:-0500
TZOFFSETTO:-0400
TZNAME:EDT
DTSTART:20180311T070000
END:DAYLIGHT
BEGIN:STANDARD
TZOFFSETFROM:-0400
TZOFFSETTO:-0500
TZNAME:EST
DTSTART:20181104T060000
END:STANDARD
BEGIN:DAYLIGHT
TZOFFSETFROM:-0500
TZOFFSETTO:-0400
TZNAME:EDT
DTSTART:20190310T070000
END:DAYLIGHT
BEGIN:STANDARD
TZOFFSETFROM:-0400
TZOFFSETTO:-0500
TZNAME:EST
DTSTART:20191103T060000
END:STANDARD
BEGIN:DAYLIGHT
TZOFFSETFROM:-0500
TZOFFSETTO:-0400
TZNAME:EDT
DTSTART:20200308T070000
END:DAYLIGHT
BEGIN:STANDARD
TZOFFSETFROM:-0400
TZOFFSETTO:-0500
TZNAME:EST
DTSTART:20201101T060000
END:STANDARD
END:VTIMEZONE
BEGIN:VEVENT
DTSTART;TZID=America/New_York:20190101T193000
DTEND;TZID=America/New_York:20190101T203000
DTSTAMP:20260423T222430
CREATED:20190104T161347Z
LAST-MODIFIED:20190104T162227Z
UID:6175-1546371000-1546374600@www.rockumchurch.com
SUMMARY:Families Anonymous
DESCRIPTION:Families Anonymous is a 12 step Fellowship for the family and friends of individuals with Drug\, Alcohol\, or Related Behavioral issues.   \n \n 
URL:https://www.rockumchurch.com/event/families-anonymous-4/
LOCATION:Rockville United Methodist Church\, 142 Grove Street\, Rockville\, CT\, 06066\, United States
CATEGORIES:Community Events,Support Group
END:VEVENT
BEGIN:VEVENT
DTSTART;TZID=America/New_York:20181230T110000
DTEND;TZID=America/New_York:20181230T120000
DTSTAMP:20260423T222430
CREATED:20180717T183120Z
LAST-MODIFIED:20180717T183120Z
UID:5453-1546167600-1546171200@www.rockumchurch.com
SUMMARY:Fellowship
DESCRIPTION:Fellowship follows our service every week.  We look forward to meeting you. \n 
URL:https://www.rockumchurch.com/event/fellowship-2018-12-30/
LOCATION:Rockville United Methodist Church\, 142 Grove Street\, Rockville\, CT\, 06066\, United States
CATEGORIES:Community Events,food,RUMC Events
ORGANIZER;CN="SeokCheol Shin":MAILTO:starcheol@gmail.com
END:VEVENT
BEGIN:VEVENT
DTSTART;TZID=America/New_York:20181227T190000
DTEND;TZID=America/New_York:20181227T200000
DTSTAMP:20260423T222430
CREATED:20180717T181558Z
LAST-MODIFIED:20180717T181558Z
UID:5393-1545937200-1545940800@www.rockumchurch.com
SUMMARY:Narcotics Anonymous
DESCRIPTION:
URL:https://www.rockumchurch.com/event/narcotics-anonymous-2-2018-12-27/
LOCATION:Rockville United Methodist Church\, 142 Grove Street\, Rockville\, CT\, 06066\, United States
CATEGORIES:Community Events
END:VEVENT
BEGIN:VEVENT
DTSTART;TZID=America/New_York:20181225T193000
DTEND;TZID=America/New_York:20181225T210000
DTSTAMP:20260423T222430
CREATED:20180814T171955Z
LAST-MODIFIED:20180814T171955Z
UID:5579-1545766200-1545771600@www.rockumchurch.com
SUMMARY:Families Anonymous
DESCRIPTION:Families Anonymous\nA 12-step program for relatives and friends concerned about the use of drugs or related behavioral problems \nIf you are concerned\, angry\, confused\, frustrated\, hopeless\, or fed-up with a loved one’s drug use\, please visit us.  We have all started where you are today.  The Meetings are different every week\, with different leaders\, so we learn something new each time we attend.  Together we learn how to live our lives without enabling\, guilt\, or any of the other things caused by the actions of the person who brought us here.  You are welcome. \n 
URL:https://www.rockumchurch.com/event/families-anonymous-3-2018-12-25/
LOCATION:Rockville United Methodist Church\, 142 Grove Street\, Rockville\, CT\, 06066\, United States
CATEGORIES:Community Events
END:VEVENT
BEGIN:VEVENT
DTSTART;TZID=America/New_York:20181224T180000
DTEND;TZID=America/New_York:20181224T190000
DTSTAMP:20260423T222430
CREATED:20181129T212125Z
LAST-MODIFIED:20181206T180953Z
UID:5969-1545674400-1545678000@www.rockumchurch.com
SUMMARY:Christmas Eve Service
DESCRIPTION:Candlelight Christmas Eve Service\nDecember 24\, 2018\n6pm
URL:https://www.rockumchurch.com/event/christmas-eve-service/
LOCATION:Rockville United Methodist Church\, 142 Grove Street\, Rockville\, CT\, 06066\, United States
CATEGORIES:Community Events,Music,Worship
ORGANIZER;CN="Pastor Cheol":MAILTO:starcheol@gmail.com
END:VEVENT
BEGIN:VEVENT
DTSTART;TZID=America/New_York:20181223T160000
DTEND;TZID=America/New_York:20181223T180000
DTSTAMP:20260423T222430
CREATED:20181129T212348Z
LAST-MODIFIED:20181129T212348Z
UID:5971-1545580800-1545588000@www.rockumchurch.com
SUMMARY:Family Christmas Program
DESCRIPTION:RUMC Family Christmas Program\nSunday\, December 23\, 2018\n4 pm \nJoin us for music\, refreshments\, and a special jolly visitor.\nFamily fun! \nPerformances by The GSM Praise Band & Bell Choir\, a carol sing\, and a reading of The Night Before Christmas. \nOpen to the public. All are welcome! \n \n 
URL:https://www.rockumchurch.com/event/family-christmas-program/
LOCATION:Rockville United Methodist Church\, 142 Grove Street\, Rockville\, CT\, 06066\, United States
CATEGORIES:Community Events,food,Music,Youth
END:VEVENT
BEGIN:VEVENT
DTSTART;TZID=America/New_York:20181223T110000
DTEND;TZID=America/New_York:20181223T120000
DTSTAMP:20260423T222430
CREATED:20180717T183120Z
LAST-MODIFIED:20180717T183120Z
UID:5452-1545562800-1545566400@www.rockumchurch.com
SUMMARY:Fellowship
DESCRIPTION:Fellowship follows our service every week.  We look forward to meeting you. \n 
URL:https://www.rockumchurch.com/event/fellowship-2018-12-23/
LOCATION:Rockville United Methodist Church\, 142 Grove Street\, Rockville\, CT\, 06066\, United States
CATEGORIES:Community Events,food,RUMC Events
ORGANIZER;CN="SeokCheol Shin":MAILTO:starcheol@gmail.com
END:VEVENT
BEGIN:VEVENT
DTSTART;TZID=America/New_York:20181220T190000
DTEND;TZID=America/New_York:20181220T200000
DTSTAMP:20260423T222430
CREATED:20180717T181558Z
LAST-MODIFIED:20180717T181558Z
UID:5392-1545332400-1545336000@www.rockumchurch.com
SUMMARY:Narcotics Anonymous
DESCRIPTION:
URL:https://www.rockumchurch.com/event/narcotics-anonymous-2-2018-12-20/
LOCATION:Rockville United Methodist Church\, 142 Grove Street\, Rockville\, CT\, 06066\, United States
CATEGORIES:Community Events
END:VEVENT
BEGIN:VEVENT
DTSTART;TZID=America/New_York:20181218T193000
DTEND;TZID=America/New_York:20181218T210000
DTSTAMP:20260423T222430
CREATED:20180814T171955Z
LAST-MODIFIED:20180814T171955Z
UID:5578-1545161400-1545166800@www.rockumchurch.com
SUMMARY:Families Anonymous
DESCRIPTION:Families Anonymous\nA 12-step program for relatives and friends concerned about the use of drugs or related behavioral problems \nIf you are concerned\, angry\, confused\, frustrated\, hopeless\, or fed-up with a loved one’s drug use\, please visit us.  We have all started where you are today.  The Meetings are different every week\, with different leaders\, so we learn something new each time we attend.  Together we learn how to live our lives without enabling\, guilt\, or any of the other things caused by the actions of the person who brought us here.  You are welcome. \n 
URL:https://www.rockumchurch.com/event/families-anonymous-3-2018-12-18/
LOCATION:Rockville United Methodist Church\, 142 Grove Street\, Rockville\, CT\, 06066\, United States
CATEGORIES:Community Events
END:VEVENT
BEGIN:VEVENT
DTSTART;TZID=America/New_York:20181216T110000
DTEND;TZID=America/New_York:20181216T120000
DTSTAMP:20260423T222430
CREATED:20180717T183120Z
LAST-MODIFIED:20180717T183120Z
UID:5451-1544958000-1544961600@www.rockumchurch.com
SUMMARY:Fellowship
DESCRIPTION:Fellowship follows our service every week.  We look forward to meeting you. \n 
URL:https://www.rockumchurch.com/event/fellowship-2018-12-16/
LOCATION:Rockville United Methodist Church\, 142 Grove Street\, Rockville\, CT\, 06066\, United States
CATEGORIES:Community Events,food,RUMC Events
ORGANIZER;CN="SeokCheol Shin":MAILTO:starcheol@gmail.com
END:VEVENT
BEGIN:VEVENT
DTSTART;TZID=America/New_York:20181213T190000
DTEND;TZID=America/New_York:20181213T200000
DTSTAMP:20260423T222430
CREATED:20180717T181558Z
LAST-MODIFIED:20180717T181558Z
UID:5391-1544727600-1544731200@www.rockumchurch.com
SUMMARY:Narcotics Anonymous
DESCRIPTION:
URL:https://www.rockumchurch.com/event/narcotics-anonymous-2-2018-12-13/
LOCATION:Rockville United Methodist Church\, 142 Grove Street\, Rockville\, CT\, 06066\, United States
CATEGORIES:Community Events
END:VEVENT
BEGIN:VEVENT
DTSTART;TZID=America/New_York:20181211T193000
DTEND;TZID=America/New_York:20181211T210000
DTSTAMP:20260423T222430
CREATED:20180814T171955Z
LAST-MODIFIED:20180814T171955Z
UID:5577-1544556600-1544562000@www.rockumchurch.com
SUMMARY:Families Anonymous
DESCRIPTION:Families Anonymous\nA 12-step program for relatives and friends concerned about the use of drugs or related behavioral problems \nIf you are concerned\, angry\, confused\, frustrated\, hopeless\, or fed-up with a loved one’s drug use\, please visit us.  We have all started where you are today.  The Meetings are different every week\, with different leaders\, so we learn something new each time we attend.  Together we learn how to live our lives without enabling\, guilt\, or any of the other things caused by the actions of the person who brought us here.  You are welcome. \n 
URL:https://www.rockumchurch.com/event/families-anonymous-3-2018-12-11/
LOCATION:Rockville United Methodist Church\, 142 Grove Street\, Rockville\, CT\, 06066\, United States
CATEGORIES:Community Events
END:VEVENT
BEGIN:VEVENT
DTSTART;TZID=America/New_York:20181209T110000
DTEND;TZID=America/New_York:20181209T120000
DTSTAMP:20260423T222430
CREATED:20180717T183120Z
LAST-MODIFIED:20180717T183120Z
UID:5450-1544353200-1544356800@www.rockumchurch.com
SUMMARY:Fellowship
DESCRIPTION:Fellowship follows our service every week.  We look forward to meeting you. \n 
URL:https://www.rockumchurch.com/event/fellowship-2018-12-09/
LOCATION:Rockville United Methodist Church\, 142 Grove Street\, Rockville\, CT\, 06066\, United States
CATEGORIES:Community Events,food,RUMC Events
ORGANIZER;CN="SeokCheol Shin":MAILTO:starcheol@gmail.com
END:VEVENT
BEGIN:VEVENT
DTSTART;TZID=America/New_York:20181206T190000
DTEND;TZID=America/New_York:20181206T200000
DTSTAMP:20260423T222430
CREATED:20180717T181558Z
LAST-MODIFIED:20180717T181558Z
UID:5390-1544122800-1544126400@www.rockumchurch.com
SUMMARY:Narcotics Anonymous
DESCRIPTION:
URL:https://www.rockumchurch.com/event/narcotics-anonymous-2-2018-12-06/
LOCATION:Rockville United Methodist Church\, 142 Grove Street\, Rockville\, CT\, 06066\, United States
CATEGORIES:Community Events
END:VEVENT
BEGIN:VEVENT
DTSTART;TZID=America/New_York:20181204T193000
DTEND;TZID=America/New_York:20181204T210000
DTSTAMP:20260423T222430
CREATED:20180814T171955Z
LAST-MODIFIED:20180814T171955Z
UID:5576-1543951800-1543957200@www.rockumchurch.com
SUMMARY:Families Anonymous
DESCRIPTION:Families Anonymous\nA 12-step program for relatives and friends concerned about the use of drugs or related behavioral problems \nIf you are concerned\, angry\, confused\, frustrated\, hopeless\, or fed-up with a loved one’s drug use\, please visit us.  We have all started where you are today.  The Meetings are different every week\, with different leaders\, so we learn something new each time we attend.  Together we learn how to live our lives without enabling\, guilt\, or any of the other things caused by the actions of the person who brought us here.  You are welcome. \n 
URL:https://www.rockumchurch.com/event/families-anonymous-3-2018-12-04/
LOCATION:Rockville United Methodist Church\, 142 Grove Street\, Rockville\, CT\, 06066\, United States
CATEGORIES:Community Events
END:VEVENT
BEGIN:VEVENT
DTSTART;TZID=America/New_York:20181202T110000
DTEND;TZID=America/New_York:20181202T120000
DTSTAMP:20260423T222430
CREATED:20180717T183120Z
LAST-MODIFIED:20180717T183120Z
UID:5449-1543748400-1543752000@www.rockumchurch.com
SUMMARY:Fellowship
DESCRIPTION:Fellowship follows our service every week.  We look forward to meeting you. \n 
URL:https://www.rockumchurch.com/event/fellowship-2018-12-02/
LOCATION:Rockville United Methodist Church\, 142 Grove Street\, Rockville\, CT\, 06066\, United States
CATEGORIES:Community Events,food,RUMC Events
ORGANIZER;CN="SeokCheol Shin":MAILTO:starcheol@gmail.com
END:VEVENT
BEGIN:VEVENT
DTSTART;TZID=America/New_York:20181129T190000
DTEND;TZID=America/New_York:20181129T200000
DTSTAMP:20260423T222430
CREATED:20180717T181558Z
LAST-MODIFIED:20180717T181558Z
UID:5389-1543518000-1543521600@www.rockumchurch.com
SUMMARY:Narcotics Anonymous
DESCRIPTION:
URL:https://www.rockumchurch.com/event/narcotics-anonymous-2-2018-11-29/
LOCATION:Rockville United Methodist Church\, 142 Grove Street\, Rockville\, CT\, 06066\, United States
CATEGORIES:Community Events
END:VEVENT
BEGIN:VEVENT
DTSTART;TZID=America/New_York:20181127T193000
DTEND;TZID=America/New_York:20181127T210000
DTSTAMP:20260423T222430
CREATED:20180814T171955Z
LAST-MODIFIED:20180814T171955Z
UID:5575-1543347000-1543352400@www.rockumchurch.com
SUMMARY:Families Anonymous
DESCRIPTION:Families Anonymous\nA 12-step program for relatives and friends concerned about the use of drugs or related behavioral problems \nIf you are concerned\, angry\, confused\, frustrated\, hopeless\, or fed-up with a loved one’s drug use\, please visit us.  We have all started where you are today.  The Meetings are different every week\, with different leaders\, so we learn something new each time we attend.  Together we learn how to live our lives without enabling\, guilt\, or any of the other things caused by the actions of the person who brought us here.  You are welcome. \n 
URL:https://www.rockumchurch.com/event/families-anonymous-3-2018-11-27/
LOCATION:Rockville United Methodist Church\, 142 Grove Street\, Rockville\, CT\, 06066\, United States
CATEGORIES:Community Events
END:VEVENT
BEGIN:VEVENT
DTSTART;TZID=America/New_York:20181125T110000
DTEND;TZID=America/New_York:20181125T120000
DTSTAMP:20260423T222430
CREATED:20180717T183120Z
LAST-MODIFIED:20180717T183120Z
UID:5448-1543143600-1543147200@www.rockumchurch.com
SUMMARY:Fellowship
DESCRIPTION:Fellowship follows our service every week.  We look forward to meeting you. \n 
URL:https://www.rockumchurch.com/event/fellowship-2018-11-25/
LOCATION:Rockville United Methodist Church\, 142 Grove Street\, Rockville\, CT\, 06066\, United States
CATEGORIES:Community Events,food,RUMC Events
ORGANIZER;CN="SeokCheol Shin":MAILTO:starcheol@gmail.com
END:VEVENT
BEGIN:VEVENT
DTSTART;TZID=America/New_York:20181122T190000
DTEND;TZID=America/New_York:20181122T200000
DTSTAMP:20260423T222430
CREATED:20180717T181558Z
LAST-MODIFIED:20180717T181558Z
UID:5388-1542913200-1542916800@www.rockumchurch.com
SUMMARY:Narcotics Anonymous
DESCRIPTION:
URL:https://www.rockumchurch.com/event/narcotics-anonymous-2-2018-11-22/
LOCATION:Rockville United Methodist Church\, 142 Grove Street\, Rockville\, CT\, 06066\, United States
CATEGORIES:Community Events
END:VEVENT
BEGIN:VEVENT
DTSTART;TZID=America/New_York:20181120T193000
DTEND;TZID=America/New_York:20181120T210000
DTSTAMP:20260423T222430
CREATED:20180814T171955Z
LAST-MODIFIED:20180814T171955Z
UID:5574-1542742200-1542747600@www.rockumchurch.com
SUMMARY:Families Anonymous
DESCRIPTION:Families Anonymous\nA 12-step program for relatives and friends concerned about the use of drugs or related behavioral problems \nIf you are concerned\, angry\, confused\, frustrated\, hopeless\, or fed-up with a loved one’s drug use\, please visit us.  We have all started where you are today.  The Meetings are different every week\, with different leaders\, so we learn something new each time we attend.  Together we learn how to live our lives without enabling\, guilt\, or any of the other things caused by the actions of the person who brought us here.  You are welcome. \n 
URL:https://www.rockumchurch.com/event/families-anonymous-3-2018-11-20/
LOCATION:Rockville United Methodist Church\, 142 Grove Street\, Rockville\, CT\, 06066\, United States
CATEGORIES:Community Events
END:VEVENT
BEGIN:VEVENT
DTSTART;TZID=America/New_York:20181120T190000
DTEND;TZID=America/New_York:20181120T200000
DTSTAMP:20260423T222430
CREATED:20181109T014809Z
LAST-MODIFIED:20181109T014809Z
UID:5824-1542740400-1542744000@www.rockumchurch.com
SUMMARY:Ecumenical Service
DESCRIPTION:Ecumenical Service\nTemple Beth Hillel\n7pm\n20 Baker Lane\nSouth Windsor\, CT 06074
URL:https://www.rockumchurch.com/event/ecumenical-service/
LOCATION:Temple Beth Hillel\, 20 Baker Lane\, South Windsor\, CT\, 06074\, United States
CATEGORIES:Community Events,Worship
END:VEVENT
BEGIN:VEVENT
DTSTART;TZID=America/New_York:20181120T114500
DTEND;TZID=America/New_York:20181120T134500
DTSTAMP:20260423T222430
CREATED:20181109T015458Z
LAST-MODIFIED:20181109T015518Z
UID:5830-1542714300-1542721500@www.rockumchurch.com
SUMMARY:Thanksgiving Pot Luck Lunch
DESCRIPTION:Vernon Adult Education\nThanksgiving Pot Luck Lunch\nNovember 20\, 2018\n11:45am to 1:45 pm\n  \nPlease join us for a pot luck Thanksgiving Lunch with the Vernon Adult Education GED and ESL classes
URL:https://www.rockumchurch.com/event/thanksgiving-pot-luck-lunch/
LOCATION:Rockville United Methodist Church\, 142 Grove Street\, Rockville\, CT\, 06066\, United States
CATEGORIES:Community Events,food
ORGANIZER;CN="Svetlana Smith":MAILTO:svetlana.smith@vernonct.org
END:VEVENT
BEGIN:VEVENT
DTSTART;TZID=America/New_York:20181118T110000
DTEND;TZID=America/New_York:20181118T120000
DTSTAMP:20260423T222430
CREATED:20180717T183120Z
LAST-MODIFIED:20180717T183120Z
UID:5447-1542538800-1542542400@www.rockumchurch.com
SUMMARY:Fellowship
DESCRIPTION:Fellowship follows our service every week.  We look forward to meeting you. \n 
URL:https://www.rockumchurch.com/event/fellowship-2018-11-18/
LOCATION:Rockville United Methodist Church\, 142 Grove Street\, Rockville\, CT\, 06066\, United States
CATEGORIES:Community Events,food,RUMC Events
ORGANIZER;CN="SeokCheol Shin":MAILTO:starcheol@gmail.com
END:VEVENT
BEGIN:VEVENT
DTSTART;TZID=America/New_York:20181117T090000
DTEND;TZID=America/New_York:20181117T140000
DTSTAMP:20260423T222430
CREATED:20181025T194737Z
LAST-MODIFIED:20181025T194737Z
UID:5795-1542445200-1542463200@www.rockumchurch.com
SUMMARY:RUMC 2018 Holiday Bazaar
DESCRIPTION:RUMC 2018 Holiday Bazaar\nSaturday\, November 17th 9 am-2 pm\nLuncheon at 11:30 am \nHandmade Baked Goods\, Fancy Cookies\, Silent Auction\,\nGrandma’s Attic\, Christmas tables\, Jewelry\, books\, puzzles\, and more!\nDetails will be updated on our website https://www.rockumchurch.com/holiday-bazaar/. \nIt is time for our annual Holiday Bazaar at Rockville United Methodist Church–142 Grove Street\, Rockville\, CT 06066–on Saturday\, November 17th from 9 am to 2 pm. Holiday gifts\, silent auction\, fancy cookies\, baked goods\, handmade craft items\, …there’s something for everyone! Don’t forget to stop by for lunch during your busy day for a treat that never disappoints. For more information and updates\, check our website at https://www.rockumchurch.com/holiday-bazaar/. \nRockville United Methodist Church is a small but very active church located at 142 Grove Street\, Rockville\, CT 06066. Our members volunteer to help the community year round. Sunday service is at 10:00 am. Guests are always welcome to our services. Our Fellowship hall is available for rent; we have full kitchen facilities. https://www.rockumchurch.com/home/.
URL:https://www.rockumchurch.com/event/rumc-2018-holiday-bazaar/
LOCATION:Rockville United Methodist Church\, 142 Grove Street\, Rockville\, CT\, 06066\, United States
CATEGORIES:bazaar,Community Events,food,Fundraising
END:VEVENT
BEGIN:VEVENT
DTSTART;TZID=America/New_York:20181115T190000
DTEND;TZID=America/New_York:20181115T200000
DTSTAMP:20260423T222430
CREATED:20180717T181558Z
LAST-MODIFIED:20180717T181558Z
UID:5387-1542308400-1542312000@www.rockumchurch.com
SUMMARY:Narcotics Anonymous
DESCRIPTION:
URL:https://www.rockumchurch.com/event/narcotics-anonymous-2-2018-11-15/
LOCATION:Rockville United Methodist Church\, 142 Grove Street\, Rockville\, CT\, 06066\, United States
CATEGORIES:Community Events
END:VEVENT
BEGIN:VEVENT
DTSTART;TZID=America/New_York:20181113T193000
DTEND;TZID=America/New_York:20181113T210000
DTSTAMP:20260423T222430
CREATED:20180814T171955Z
LAST-MODIFIED:20180814T171955Z
UID:5573-1542137400-1542142800@www.rockumchurch.com
SUMMARY:Families Anonymous
DESCRIPTION:Families Anonymous\nA 12-step program for relatives and friends concerned about the use of drugs or related behavioral problems \nIf you are concerned\, angry\, confused\, frustrated\, hopeless\, or fed-up with a loved one’s drug use\, please visit us.  We have all started where you are today.  The Meetings are different every week\, with different leaders\, so we learn something new each time we attend.  Together we learn how to live our lives without enabling\, guilt\, or any of the other things caused by the actions of the person who brought us here.  You are welcome. \n 
URL:https://www.rockumchurch.com/event/families-anonymous-3-2018-11-13/
LOCATION:Rockville United Methodist Church\, 142 Grove Street\, Rockville\, CT\, 06066\, United States
CATEGORIES:Community Events
END:VEVENT
BEGIN:VEVENT
DTSTART;TZID=America/New_York:20181111T110000
DTEND;TZID=America/New_York:20181111T120000
DTSTAMP:20260423T222430
CREATED:20180717T183120Z
LAST-MODIFIED:20180717T183120Z
UID:5446-1541934000-1541937600@www.rockumchurch.com
SUMMARY:Fellowship
DESCRIPTION:Fellowship follows our service every week.  We look forward to meeting you. \n 
URL:https://www.rockumchurch.com/event/fellowship-2018-11-11/
LOCATION:Rockville United Methodist Church\, 142 Grove Street\, Rockville\, CT\, 06066\, United States
CATEGORIES:Community Events,food,RUMC Events
ORGANIZER;CN="SeokCheol Shin":MAILTO:starcheol@gmail.com
END:VEVENT
BEGIN:VEVENT
DTSTART;TZID=America/New_York:20181108T190000
DTEND;TZID=America/New_York:20181108T200000
DTSTAMP:20260423T222430
CREATED:20180717T181558Z
LAST-MODIFIED:20180717T181558Z
UID:5386-1541703600-1541707200@www.rockumchurch.com
SUMMARY:Narcotics Anonymous
DESCRIPTION:
URL:https://www.rockumchurch.com/event/narcotics-anonymous-2-2018-11-08/
LOCATION:Rockville United Methodist Church\, 142 Grove Street\, Rockville\, CT\, 06066\, United States
CATEGORIES:Community Events
END:VEVENT
BEGIN:VEVENT
DTSTART;TZID=America/New_York:20181106T193000
DTEND;TZID=America/New_York:20181106T210000
DTSTAMP:20260423T222430
CREATED:20180814T171955Z
LAST-MODIFIED:20180814T171955Z
UID:5572-1541532600-1541538000@www.rockumchurch.com
SUMMARY:Families Anonymous
DESCRIPTION:Families Anonymous\nA 12-step program for relatives and friends concerned about the use of drugs or related behavioral problems \nIf you are concerned\, angry\, confused\, frustrated\, hopeless\, or fed-up with a loved one’s drug use\, please visit us.  We have all started where you are today.  The Meetings are different every week\, with different leaders\, so we learn something new each time we attend.  Together we learn how to live our lives without enabling\, guilt\, or any of the other things caused by the actions of the person who brought us here.  You are welcome. \n 
URL:https://www.rockumchurch.com/event/families-anonymous-3-2018-11-06/
LOCATION:Rockville United Methodist Church\, 142 Grove Street\, Rockville\, CT\, 06066\, United States
CATEGORIES:Community Events
END:VEVENT
END:VCALENDAR