BEGIN:VCALENDAR
VERSION:2.0
PRODID:-//Rockville United Methodist Church - ECPv6.15.20//NONSGML v1.0//EN
CALSCALE:GREGORIAN
METHOD:PUBLISH
X-ORIGINAL-URL:https://www.rockumchurch.com
X-WR-CALDESC:Events for Rockville United Methodist Church
REFRESH-INTERVAL;VALUE=DURATION:PT1H
X-Robots-Tag:noindex
X-PUBLISHED-TTL:PT1H
BEGIN:VTIMEZONE
TZID:America/New_York
BEGIN:DAYLIGHT
TZOFFSETFROM:-0500
TZOFFSETTO:-0400
TZNAME:EDT
DTSTART:20180311T070000
END:DAYLIGHT
BEGIN:STANDARD
TZOFFSETFROM:-0400
TZOFFSETTO:-0500
TZNAME:EST
DTSTART:20181104T060000
END:STANDARD
BEGIN:DAYLIGHT
TZOFFSETFROM:-0500
TZOFFSETTO:-0400
TZNAME:EDT
DTSTART:20190310T070000
END:DAYLIGHT
BEGIN:STANDARD
TZOFFSETFROM:-0400
TZOFFSETTO:-0500
TZNAME:EST
DTSTART:20191103T060000
END:STANDARD
BEGIN:DAYLIGHT
TZOFFSETFROM:-0500
TZOFFSETTO:-0400
TZNAME:EDT
DTSTART:20200308T070000
END:DAYLIGHT
BEGIN:STANDARD
TZOFFSETFROM:-0400
TZOFFSETTO:-0500
TZNAME:EST
DTSTART:20201101T060000
END:STANDARD
END:VTIMEZONE
BEGIN:VEVENT
DTSTART;TZID=America/New_York:20190324T113000
DTEND;TZID=America/New_York:20190324T130000
DTSTAMP:20260423T122817
CREATED:20190222T224821Z
LAST-MODIFIED:20190222T224821Z
UID:6636-1553427000-1553432400@www.rockumchurch.com
SUMMARY:Trauma and the Impact on Children
DESCRIPTION:In 2018 Connecticut 8\,134 children were victims of substantiated abuse and/or neglect. \nTrauma and the Impact on Children\nSunday March 24\, 2019\n11:30 am\nLecture with Question/Answer Session
URL:https://www.rockumchurch.com/event/trauma-and-the-impact-on-children/
LOCATION:Rockville United Methodist Church\, 142 Grove Street\, Rockville\, CT\, 06066\, United States
CATEGORIES:Community Events,Education
ORGANIZER;CN="Pastor Cheol":MAILTO:starcheol@gmail.com
END:VEVENT
BEGIN:VEVENT
DTSTART;TZID=America/New_York:20190321T190000
DTEND;TZID=America/New_York:20190321T200000
DTSTAMP:20260423T122817
CREATED:20190104T163702Z
LAST-MODIFIED:20190104T163702Z
UID:6350-1553194800-1553198400@www.rockumchurch.com
SUMMARY:Narcotics Anonymous
DESCRIPTION:Narcotics Anonymous is a 12 step support group for people who are recovering from drugs other then just alcohol.
URL:https://www.rockumchurch.com/event/narcotics-anonymous-3-2019-03-21/
LOCATION:Rockville United Methodist Church\, 142 Grove Street\, Rockville\, CT\, 06066\, United States
CATEGORIES:Community Events,Support Group
END:VEVENT
BEGIN:VEVENT
DTSTART;TZID=America/New_York:20190321T111500
DTEND;TZID=America/New_York:20190321T153000
DTSTAMP:20260423T122817
CREATED:20190104T174417Z
LAST-MODIFIED:20190104T174417Z
UID:6519-1553166900-1553182200@www.rockumchurch.com
SUMMARY:Vernon Adult Education
DESCRIPTION:The Family Education Program provides GED and ESL classes for parents of children who are not yet in school.
URL:https://www.rockumchurch.com/event/vernon-adult-education-17-2019-03-21/
LOCATION:Rockville United Methodist Church\, 142 Grove Street\, Rockville\, CT\, 06066\, United States
CATEGORIES:Community Events,Education
ORGANIZER;CN="Svetlana Smith":MAILTO:svetlana.smith@vernonct.org
END:VEVENT
BEGIN:VEVENT
DTSTART;TZID=America/New_York:20190320T190000
DTEND;TZID=America/New_York:20190320T203000
DTSTAMP:20260423T122817
CREATED:20190312T181228Z
LAST-MODIFIED:20190312T193406Z
UID:6675-1553108400-1553113800@www.rockumchurch.com
SUMMARY:Lenten Bible Study
DESCRIPTION:Lenten Bible Study: Wednesday at 7 pm from March 13\, 2019 to April 10\, 2019. A chance to discuss and dive deeper into the meaning and significance of the lectionary readings. Led by Stan Culy and Pastor Cheol.
URL:https://www.rockumchurch.com/event/lenten-bible-study-2/
LOCATION:Rockville United Methodist Church\, 142 Grove Street\, Rockville\, CT\, 06066\, United States
CATEGORIES:Community Events,Scripture
ORGANIZER;CN="Pastor Cheol":MAILTO:starcheol@gmail.com
END:VEVENT
BEGIN:VEVENT
DTSTART;TZID=America/New_York:20190320T113000
DTEND;TZID=America/New_York:20190320T153000
DTSTAMP:20260423T122817
CREATED:20190104T174219Z
LAST-MODIFIED:20190104T174219Z
UID:6499-1553081400-1553095800@www.rockumchurch.com
SUMMARY:Vernon Adult Education
DESCRIPTION:The Family Education Program provides GED and ESL classes for parents of children who are not yet in school.
URL:https://www.rockumchurch.com/event/vernon-adult-education-16-2019-03-20/
LOCATION:Rockville United Methodist Church\, 142 Grove Street\, Rockville\, CT\, 06066\, United States
CATEGORIES:Community Events,Education
ORGANIZER;CN="Svetlana Smith":MAILTO:svetlana.smith@vernonct.org
END:VEVENT
BEGIN:VEVENT
DTSTART;TZID=America/New_York:20190319T193000
DTEND;TZID=America/New_York:20190319T203000
DTSTAMP:20260423T122817
CREATED:20190104T161347Z
LAST-MODIFIED:20190104T162229Z
UID:6187-1553023800-1553027400@www.rockumchurch.com
SUMMARY:Families Anonymous
DESCRIPTION:Families Anonymous is a 12 step Fellowship for the family and friends of individuals with Drug\, Alcohol\, or Related Behavioral issues.   \n \n 
URL:https://www.rockumchurch.com/event/families-anonymous-4-2019-03-19/
LOCATION:Rockville United Methodist Church\, 142 Grove Street\, Rockville\, CT\, 06066\, United States
CATEGORIES:Community Events,Support Group
END:VEVENT
BEGIN:VEVENT
DTSTART;TZID=America/New_York:20190319T114500
DTEND;TZID=America/New_York:20190319T153000
DTSTAMP:20260423T122817
CREATED:20190104T174002Z
LAST-MODIFIED:20190104T174007Z
UID:6468-1552995900-1553009400@www.rockumchurch.com
SUMMARY:Vernon Adult Education
DESCRIPTION:The Family Education Program provides GED and ESL classes for parents of children who are not yet in school. \n 
URL:https://www.rockumchurch.com/event/vernon-adult-education-15-2019-03-19/
LOCATION:Rockville United Methodist Church\, 142 Grove Street\, Rockville\, CT\, 06066\, United States
CATEGORIES:Community Events,Education
ORGANIZER;CN="Svetlana Smith":MAILTO:svetlana.smith@vernonct.org
END:VEVENT
BEGIN:VEVENT
DTSTART;TZID=America/New_York:20190314T190000
DTEND;TZID=America/New_York:20190314T200000
DTSTAMP:20260423T122817
CREATED:20190104T163702Z
LAST-MODIFIED:20190104T163702Z
UID:6349-1552590000-1552593600@www.rockumchurch.com
SUMMARY:Narcotics Anonymous
DESCRIPTION:Narcotics Anonymous is a 12 step support group for people who are recovering from drugs other then just alcohol.
URL:https://www.rockumchurch.com/event/narcotics-anonymous-3-2019-03-14/
LOCATION:Rockville United Methodist Church\, 142 Grove Street\, Rockville\, CT\, 06066\, United States
CATEGORIES:Community Events,Support Group
END:VEVENT
BEGIN:VEVENT
DTSTART;TZID=America/New_York:20190314T111500
DTEND;TZID=America/New_York:20190314T153000
DTSTAMP:20260423T122817
CREATED:20190104T174417Z
LAST-MODIFIED:20190104T174417Z
UID:6518-1552562100-1552577400@www.rockumchurch.com
SUMMARY:Vernon Adult Education
DESCRIPTION:The Family Education Program provides GED and ESL classes for parents of children who are not yet in school.
URL:https://www.rockumchurch.com/event/vernon-adult-education-17-2019-03-14/
LOCATION:Rockville United Methodist Church\, 142 Grove Street\, Rockville\, CT\, 06066\, United States
CATEGORIES:Community Events,Education
ORGANIZER;CN="Svetlana Smith":MAILTO:svetlana.smith@vernonct.org
END:VEVENT
BEGIN:VEVENT
DTSTART;TZID=America/New_York:20190313T190000
DTEND;TZID=America/New_York:20190313T203000
DTSTAMP:20260423T122817
CREATED:20190312T181116Z
LAST-MODIFIED:20190312T193343Z
UID:6673-1552503600-1552509000@www.rockumchurch.com
SUMMARY:Lenten Bible Study
DESCRIPTION:Lenten Bible Study: Wednesday at 7 pm from March 13\, 2019 to April 10\, 2019. A chance to discuss and dive deeper into the meaning and significance of the lectionary readings.  Led by Stan Culy and Pastor Cheol.
URL:https://www.rockumchurch.com/event/lenten-bible-study/
LOCATION:Rockville United Methodist Church\, 142 Grove Street\, Rockville\, CT\, 06066\, United States
CATEGORIES:Community Events,Scripture
ORGANIZER;CN="Pastor Cheol":MAILTO:starcheol@gmail.com
END:VEVENT
BEGIN:VEVENT
DTSTART;TZID=America/New_York:20190313T113000
DTEND;TZID=America/New_York:20190313T153000
DTSTAMP:20260423T122817
CREATED:20190104T174219Z
LAST-MODIFIED:20190104T174219Z
UID:6498-1552476600-1552491000@www.rockumchurch.com
SUMMARY:Vernon Adult Education
DESCRIPTION:The Family Education Program provides GED and ESL classes for parents of children who are not yet in school.
URL:https://www.rockumchurch.com/event/vernon-adult-education-16-2019-03-13/
LOCATION:Rockville United Methodist Church\, 142 Grove Street\, Rockville\, CT\, 06066\, United States
CATEGORIES:Community Events,Education
ORGANIZER;CN="Svetlana Smith":MAILTO:svetlana.smith@vernonct.org
END:VEVENT
BEGIN:VEVENT
DTSTART;TZID=America/New_York:20190312T193000
DTEND;TZID=America/New_York:20190312T203000
DTSTAMP:20260423T122817
CREATED:20190104T161347Z
LAST-MODIFIED:20190104T162228Z
UID:6186-1552419000-1552422600@www.rockumchurch.com
SUMMARY:Families Anonymous
DESCRIPTION:Families Anonymous is a 12 step Fellowship for the family and friends of individuals with Drug\, Alcohol\, or Related Behavioral issues.   \n \n 
URL:https://www.rockumchurch.com/event/families-anonymous-4-2019-03-12/
LOCATION:Rockville United Methodist Church\, 142 Grove Street\, Rockville\, CT\, 06066\, United States
CATEGORIES:Community Events,Support Group
END:VEVENT
BEGIN:VEVENT
DTSTART;TZID=America/New_York:20190312T114500
DTEND;TZID=America/New_York:20190312T153000
DTSTAMP:20260423T122817
CREATED:20190104T174002Z
LAST-MODIFIED:20190104T174007Z
UID:6467-1552391100-1552404600@www.rockumchurch.com
SUMMARY:Vernon Adult Education
DESCRIPTION:The Family Education Program provides GED and ESL classes for parents of children who are not yet in school. \n 
URL:https://www.rockumchurch.com/event/vernon-adult-education-15-2019-03-12/
LOCATION:Rockville United Methodist Church\, 142 Grove Street\, Rockville\, CT\, 06066\, United States
CATEGORIES:Community Events,Education
ORGANIZER;CN="Svetlana Smith":MAILTO:svetlana.smith@vernonct.org
END:VEVENT
BEGIN:VEVENT
DTSTART;TZID=America/New_York:20190307T190000
DTEND;TZID=America/New_York:20190307T200000
DTSTAMP:20260423T122817
CREATED:20190104T163702Z
LAST-MODIFIED:20190104T163702Z
UID:6348-1551985200-1551988800@www.rockumchurch.com
SUMMARY:Narcotics Anonymous
DESCRIPTION:Narcotics Anonymous is a 12 step support group for people who are recovering from drugs other then just alcohol.
URL:https://www.rockumchurch.com/event/narcotics-anonymous-3-2019-03-07/
LOCATION:Rockville United Methodist Church\, 142 Grove Street\, Rockville\, CT\, 06066\, United States
CATEGORIES:Community Events,Support Group
END:VEVENT
BEGIN:VEVENT
DTSTART;TZID=America/New_York:20190307T111500
DTEND;TZID=America/New_York:20190307T153000
DTSTAMP:20260423T122817
CREATED:20190104T174417Z
LAST-MODIFIED:20190104T174417Z
UID:6517-1551957300-1551972600@www.rockumchurch.com
SUMMARY:Vernon Adult Education
DESCRIPTION:The Family Education Program provides GED and ESL classes for parents of children who are not yet in school.
URL:https://www.rockumchurch.com/event/vernon-adult-education-17-2019-03-07/
LOCATION:Rockville United Methodist Church\, 142 Grove Street\, Rockville\, CT\, 06066\, United States
CATEGORIES:Community Events,Education
ORGANIZER;CN="Svetlana Smith":MAILTO:svetlana.smith@vernonct.org
END:VEVENT
BEGIN:VEVENT
DTSTART;TZID=America/New_York:20190306T113000
DTEND;TZID=America/New_York:20190306T153000
DTSTAMP:20260423T122817
CREATED:20190104T174219Z
LAST-MODIFIED:20190104T174219Z
UID:6497-1551871800-1551886200@www.rockumchurch.com
SUMMARY:Vernon Adult Education
DESCRIPTION:The Family Education Program provides GED and ESL classes for parents of children who are not yet in school.
URL:https://www.rockumchurch.com/event/vernon-adult-education-16-2019-03-06/
LOCATION:Rockville United Methodist Church\, 142 Grove Street\, Rockville\, CT\, 06066\, United States
CATEGORIES:Community Events,Education
ORGANIZER;CN="Svetlana Smith":MAILTO:svetlana.smith@vernonct.org
END:VEVENT
BEGIN:VEVENT
DTSTART;TZID=America/New_York:20190305T193000
DTEND;TZID=America/New_York:20190305T203000
DTSTAMP:20260423T122817
CREATED:20190104T161347Z
LAST-MODIFIED:20190104T162227Z
UID:6185-1551814200-1551817800@www.rockumchurch.com
SUMMARY:Families Anonymous
DESCRIPTION:Families Anonymous is a 12 step Fellowship for the family and friends of individuals with Drug\, Alcohol\, or Related Behavioral issues.   \n \n 
URL:https://www.rockumchurch.com/event/families-anonymous-4-2019-03-05/
LOCATION:Rockville United Methodist Church\, 142 Grove Street\, Rockville\, CT\, 06066\, United States
CATEGORIES:Community Events,Support Group
END:VEVENT
BEGIN:VEVENT
DTSTART;TZID=America/New_York:20190305T114500
DTEND;TZID=America/New_York:20190305T153000
DTSTAMP:20260423T122817
CREATED:20190104T174002Z
LAST-MODIFIED:20190104T174007Z
UID:6466-1551786300-1551799800@www.rockumchurch.com
SUMMARY:Vernon Adult Education
DESCRIPTION:The Family Education Program provides GED and ESL classes for parents of children who are not yet in school. \n 
URL:https://www.rockumchurch.com/event/vernon-adult-education-15-2019-03-05/
LOCATION:Rockville United Methodist Church\, 142 Grove Street\, Rockville\, CT\, 06066\, United States
CATEGORIES:Community Events,Education
ORGANIZER;CN="Svetlana Smith":MAILTO:svetlana.smith@vernonct.org
END:VEVENT
BEGIN:VEVENT
DTSTART;TZID=America/New_York:20190228T190000
DTEND;TZID=America/New_York:20190228T200000
DTSTAMP:20260423T122817
CREATED:20190104T163702Z
LAST-MODIFIED:20190104T163702Z
UID:6347-1551380400-1551384000@www.rockumchurch.com
SUMMARY:Narcotics Anonymous
DESCRIPTION:Narcotics Anonymous is a 12 step support group for people who are recovering from drugs other then just alcohol.
URL:https://www.rockumchurch.com/event/narcotics-anonymous-3-2019-02-28/
LOCATION:Rockville United Methodist Church\, 142 Grove Street\, Rockville\, CT\, 06066\, United States
CATEGORIES:Community Events,Support Group
END:VEVENT
BEGIN:VEVENT
DTSTART;TZID=America/New_York:20190228T111500
DTEND;TZID=America/New_York:20190228T153000
DTSTAMP:20260423T122817
CREATED:20190104T174417Z
LAST-MODIFIED:20190104T174417Z
UID:6516-1551352500-1551367800@www.rockumchurch.com
SUMMARY:Vernon Adult Education
DESCRIPTION:The Family Education Program provides GED and ESL classes for parents of children who are not yet in school.
URL:https://www.rockumchurch.com/event/vernon-adult-education-17-2019-02-28/
LOCATION:Rockville United Methodist Church\, 142 Grove Street\, Rockville\, CT\, 06066\, United States
CATEGORIES:Community Events,Education
ORGANIZER;CN="Svetlana Smith":MAILTO:svetlana.smith@vernonct.org
END:VEVENT
BEGIN:VEVENT
DTSTART;TZID=America/New_York:20190227T113000
DTEND;TZID=America/New_York:20190227T153000
DTSTAMP:20260423T122817
CREATED:20190104T174219Z
LAST-MODIFIED:20190104T174219Z
UID:6496-1551267000-1551281400@www.rockumchurch.com
SUMMARY:Vernon Adult Education
DESCRIPTION:The Family Education Program provides GED and ESL classes for parents of children who are not yet in school.
URL:https://www.rockumchurch.com/event/vernon-adult-education-16-2019-02-27/
LOCATION:Rockville United Methodist Church\, 142 Grove Street\, Rockville\, CT\, 06066\, United States
CATEGORIES:Community Events,Education
ORGANIZER;CN="Svetlana Smith":MAILTO:svetlana.smith@vernonct.org
END:VEVENT
BEGIN:VEVENT
DTSTART;TZID=America/New_York:20190226T193000
DTEND;TZID=America/New_York:20190226T203000
DTSTAMP:20260423T122817
CREATED:20190104T161347Z
LAST-MODIFIED:20190104T162227Z
UID:6184-1551209400-1551213000@www.rockumchurch.com
SUMMARY:Families Anonymous
DESCRIPTION:Families Anonymous is a 12 step Fellowship for the family and friends of individuals with Drug\, Alcohol\, or Related Behavioral issues.   \n \n 
URL:https://www.rockumchurch.com/event/families-anonymous-4-2019-02-26/
LOCATION:Rockville United Methodist Church\, 142 Grove Street\, Rockville\, CT\, 06066\, United States
CATEGORIES:Community Events,Support Group
END:VEVENT
BEGIN:VEVENT
DTSTART;TZID=America/New_York:20190226T114500
DTEND;TZID=America/New_York:20190226T153000
DTSTAMP:20260423T122817
CREATED:20190104T174002Z
LAST-MODIFIED:20190104T174007Z
UID:6465-1551181500-1551195000@www.rockumchurch.com
SUMMARY:Vernon Adult Education
DESCRIPTION:The Family Education Program provides GED and ESL classes for parents of children who are not yet in school. \n 
URL:https://www.rockumchurch.com/event/vernon-adult-education-15-2019-02-26/
LOCATION:Rockville United Methodist Church\, 142 Grove Street\, Rockville\, CT\, 06066\, United States
CATEGORIES:Community Events,Education
ORGANIZER;CN="Svetlana Smith":MAILTO:svetlana.smith@vernonct.org
END:VEVENT
BEGIN:VEVENT
DTSTART;TZID=America/New_York:20190221T190000
DTEND;TZID=America/New_York:20190221T200000
DTSTAMP:20260423T122817
CREATED:20190104T163702Z
LAST-MODIFIED:20190104T163702Z
UID:6346-1550775600-1550779200@www.rockumchurch.com
SUMMARY:Narcotics Anonymous
DESCRIPTION:Narcotics Anonymous is a 12 step support group for people who are recovering from drugs other then just alcohol.
URL:https://www.rockumchurch.com/event/narcotics-anonymous-3-2019-02-21/
LOCATION:Rockville United Methodist Church\, 142 Grove Street\, Rockville\, CT\, 06066\, United States
CATEGORIES:Community Events,Support Group
END:VEVENT
BEGIN:VEVENT
DTSTART;TZID=America/New_York:20190221T111500
DTEND;TZID=America/New_York:20190221T153000
DTSTAMP:20260423T122817
CREATED:20190104T174417Z
LAST-MODIFIED:20190104T174417Z
UID:6515-1550747700-1550763000@www.rockumchurch.com
SUMMARY:Vernon Adult Education
DESCRIPTION:The Family Education Program provides GED and ESL classes for parents of children who are not yet in school.
URL:https://www.rockumchurch.com/event/vernon-adult-education-17-2019-02-21/
LOCATION:Rockville United Methodist Church\, 142 Grove Street\, Rockville\, CT\, 06066\, United States
CATEGORIES:Community Events,Education
ORGANIZER;CN="Svetlana Smith":MAILTO:svetlana.smith@vernonct.org
END:VEVENT
BEGIN:VEVENT
DTSTART;TZID=America/New_York:20190220T113000
DTEND;TZID=America/New_York:20190220T153000
DTSTAMP:20260423T122817
CREATED:20190104T174219Z
LAST-MODIFIED:20190104T174219Z
UID:6495-1550662200-1550676600@www.rockumchurch.com
SUMMARY:Vernon Adult Education
DESCRIPTION:The Family Education Program provides GED and ESL classes for parents of children who are not yet in school.
URL:https://www.rockumchurch.com/event/vernon-adult-education-16-2019-02-20/
LOCATION:Rockville United Methodist Church\, 142 Grove Street\, Rockville\, CT\, 06066\, United States
CATEGORIES:Community Events,Education
ORGANIZER;CN="Svetlana Smith":MAILTO:svetlana.smith@vernonct.org
END:VEVENT
BEGIN:VEVENT
DTSTART;TZID=America/New_York:20190219T193000
DTEND;TZID=America/New_York:20190219T203000
DTSTAMP:20260423T122817
CREATED:20190104T161347Z
LAST-MODIFIED:20190104T162227Z
UID:6183-1550604600-1550608200@www.rockumchurch.com
SUMMARY:Families Anonymous
DESCRIPTION:Families Anonymous is a 12 step Fellowship for the family and friends of individuals with Drug\, Alcohol\, or Related Behavioral issues.   \n \n 
URL:https://www.rockumchurch.com/event/families-anonymous-4-2019-02-19/
LOCATION:Rockville United Methodist Church\, 142 Grove Street\, Rockville\, CT\, 06066\, United States
CATEGORIES:Community Events,Support Group
END:VEVENT
BEGIN:VEVENT
DTSTART;TZID=America/New_York:20190219T114500
DTEND;TZID=America/New_York:20190219T153000
DTSTAMP:20260423T122817
CREATED:20190104T174002Z
LAST-MODIFIED:20190104T174007Z
UID:6464-1550576700-1550590200@www.rockumchurch.com
SUMMARY:Vernon Adult Education
DESCRIPTION:The Family Education Program provides GED and ESL classes for parents of children who are not yet in school. \n 
URL:https://www.rockumchurch.com/event/vernon-adult-education-15-2019-02-19/
LOCATION:Rockville United Methodist Church\, 142 Grove Street\, Rockville\, CT\, 06066\, United States
CATEGORIES:Community Events,Education
ORGANIZER;CN="Svetlana Smith":MAILTO:svetlana.smith@vernonct.org
END:VEVENT
BEGIN:VEVENT
DTSTART;TZID=America/New_York:20190214T190000
DTEND;TZID=America/New_York:20190214T200000
DTSTAMP:20260423T122817
CREATED:20190104T163702Z
LAST-MODIFIED:20190104T163702Z
UID:6345-1550170800-1550174400@www.rockumchurch.com
SUMMARY:Narcotics Anonymous
DESCRIPTION:Narcotics Anonymous is a 12 step support group for people who are recovering from drugs other then just alcohol.
URL:https://www.rockumchurch.com/event/narcotics-anonymous-3-2019-02-14/
LOCATION:Rockville United Methodist Church\, 142 Grove Street\, Rockville\, CT\, 06066\, United States
CATEGORIES:Community Events,Support Group
END:VEVENT
BEGIN:VEVENT
DTSTART;TZID=America/New_York:20190214T111500
DTEND;TZID=America/New_York:20190214T153000
DTSTAMP:20260423T122817
CREATED:20190104T174417Z
LAST-MODIFIED:20190104T174417Z
UID:6514-1550142900-1550158200@www.rockumchurch.com
SUMMARY:Vernon Adult Education
DESCRIPTION:The Family Education Program provides GED and ESL classes for parents of children who are not yet in school.
URL:https://www.rockumchurch.com/event/vernon-adult-education-17-2019-02-14/
LOCATION:Rockville United Methodist Church\, 142 Grove Street\, Rockville\, CT\, 06066\, United States
CATEGORIES:Community Events,Education
ORGANIZER;CN="Svetlana Smith":MAILTO:svetlana.smith@vernonct.org
END:VEVENT
END:VCALENDAR