BEGIN:VCALENDAR
VERSION:2.0
PRODID:-//Rockville United Methodist Church - ECPv6.15.20//NONSGML v1.0//EN
CALSCALE:GREGORIAN
METHOD:PUBLISH
X-ORIGINAL-URL:https://www.rockumchurch.com
X-WR-CALDESC:Events for Rockville United Methodist Church
REFRESH-INTERVAL;VALUE=DURATION:PT1H
X-Robots-Tag:noindex
X-PUBLISHED-TTL:PT1H
BEGIN:VTIMEZONE
TZID:America/New_York
BEGIN:DAYLIGHT
TZOFFSETFROM:-0500
TZOFFSETTO:-0400
TZNAME:EDT
DTSTART:20180311T070000
END:DAYLIGHT
BEGIN:STANDARD
TZOFFSETFROM:-0400
TZOFFSETTO:-0500
TZNAME:EST
DTSTART:20181104T060000
END:STANDARD
BEGIN:DAYLIGHT
TZOFFSETFROM:-0500
TZOFFSETTO:-0400
TZNAME:EDT
DTSTART:20190310T070000
END:DAYLIGHT
BEGIN:STANDARD
TZOFFSETFROM:-0400
TZOFFSETTO:-0500
TZNAME:EST
DTSTART:20191103T060000
END:STANDARD
BEGIN:DAYLIGHT
TZOFFSETFROM:-0500
TZOFFSETTO:-0400
TZNAME:EDT
DTSTART:20200308T070000
END:DAYLIGHT
BEGIN:STANDARD
TZOFFSETFROM:-0400
TZOFFSETTO:-0500
TZNAME:EST
DTSTART:20201101T060000
END:STANDARD
END:VTIMEZONE
BEGIN:VEVENT
DTSTART;TZID=America/New_York:20190501T113000
DTEND;TZID=America/New_York:20190501T153000
DTSTAMP:20260423T071023
CREATED:20190104T174219Z
LAST-MODIFIED:20190104T174219Z
UID:6505-1556710200-1556724600@www.rockumchurch.com
SUMMARY:Vernon Adult Education
DESCRIPTION:The Family Education Program provides GED and ESL classes for parents of children who are not yet in school.
URL:https://www.rockumchurch.com/event/vernon-adult-education-16-2019-05-01/
LOCATION:Rockville United Methodist Church\, 142 Grove Street\, Rockville\, CT\, 06066\, United States
CATEGORIES:Community Events,Education
ORGANIZER;CN="Svetlana Smith":MAILTO:svetlana.smith@vernonct.org
END:VEVENT
BEGIN:VEVENT
DTSTART;TZID=America/New_York:20190430T193000
DTEND;TZID=America/New_York:20190430T203000
DTSTAMP:20260423T071023
CREATED:20190104T161347Z
LAST-MODIFIED:20190104T162230Z
UID:6193-1556652600-1556656200@www.rockumchurch.com
SUMMARY:Families Anonymous
DESCRIPTION:Families Anonymous is a 12 step Fellowship for the family and friends of individuals with Drug\, Alcohol\, or Related Behavioral issues.   \n \n 
URL:https://www.rockumchurch.com/event/families-anonymous-4-2019-04-30/
LOCATION:Rockville United Methodist Church\, 142 Grove Street\, Rockville\, CT\, 06066\, United States
CATEGORIES:Community Events,Support Group
END:VEVENT
BEGIN:VEVENT
DTSTART;TZID=America/New_York:20190430T114500
DTEND;TZID=America/New_York:20190430T153000
DTSTAMP:20260423T071023
CREATED:20190104T174002Z
LAST-MODIFIED:20190104T174002Z
UID:6475-1556624700-1556638200@www.rockumchurch.com
SUMMARY:Vernon Adult Education
DESCRIPTION:The Family Education Program provides GED and ESL classes for parents of children who are not yet in school. \n 
URL:https://www.rockumchurch.com/event/vernon-adult-education-15-2019-04-30/
LOCATION:Rockville United Methodist Church\, 142 Grove Street\, Rockville\, CT\, 06066\, United States
CATEGORIES:Community Events,Education
ORGANIZER;CN="Svetlana Smith":MAILTO:svetlana.smith@vernonct.org
END:VEVENT
BEGIN:VEVENT
DTSTART;TZID=America/New_York:20190425T190000
DTEND;TZID=America/New_York:20190425T200000
DTSTAMP:20260423T071023
CREATED:20190104T163702Z
LAST-MODIFIED:20190104T163702Z
UID:6355-1556218800-1556222400@www.rockumchurch.com
SUMMARY:Narcotics Anonymous
DESCRIPTION:Narcotics Anonymous is a 12 step support group for people who are recovering from drugs other then just alcohol.
URL:https://www.rockumchurch.com/event/narcotics-anonymous-3-2019-04-25/
LOCATION:Rockville United Methodist Church\, 142 Grove Street\, Rockville\, CT\, 06066\, United States
CATEGORIES:Community Events,Support Group
END:VEVENT
BEGIN:VEVENT
DTSTART;TZID=America/New_York:20190425T111500
DTEND;TZID=America/New_York:20190425T153000
DTSTAMP:20260423T071023
CREATED:20190104T174417Z
LAST-MODIFIED:20190104T174417Z
UID:6524-1556190900-1556206200@www.rockumchurch.com
SUMMARY:Vernon Adult Education
DESCRIPTION:The Family Education Program provides GED and ESL classes for parents of children who are not yet in school.
URL:https://www.rockumchurch.com/event/vernon-adult-education-17-2019-04-25/
LOCATION:Rockville United Methodist Church\, 142 Grove Street\, Rockville\, CT\, 06066\, United States
CATEGORIES:Community Events,Education
ORGANIZER;CN="Svetlana Smith":MAILTO:svetlana.smith@vernonct.org
END:VEVENT
BEGIN:VEVENT
DTSTART;TZID=America/New_York:20190424T173000
DTEND;TZID=America/New_York:20190424T190000
DTSTAMP:20260423T071023
CREATED:20190405T211838Z
LAST-MODIFIED:20190405T211838Z
UID:6797-1556127000-1556132400@www.rockumchurch.com
SUMMARY:Circle of Mom's
DESCRIPTION:
URL:https://www.rockumchurch.com/event/circle-of-moms/
LOCATION:Rockville United Methodist Church\, 142 Grove Street\, Rockville\, CT\, 06066\, United States
CATEGORIES:Community Events,Support Group
END:VEVENT
BEGIN:VEVENT
DTSTART;TZID=America/New_York:20190424T113000
DTEND;TZID=America/New_York:20190424T153000
DTSTAMP:20260423T071023
CREATED:20190104T174219Z
LAST-MODIFIED:20190104T174219Z
UID:6504-1556105400-1556119800@www.rockumchurch.com
SUMMARY:Vernon Adult Education
DESCRIPTION:The Family Education Program provides GED and ESL classes for parents of children who are not yet in school.
URL:https://www.rockumchurch.com/event/vernon-adult-education-16-2019-04-24/
LOCATION:Rockville United Methodist Church\, 142 Grove Street\, Rockville\, CT\, 06066\, United States
CATEGORIES:Community Events,Education
ORGANIZER;CN="Svetlana Smith":MAILTO:svetlana.smith@vernonct.org
END:VEVENT
BEGIN:VEVENT
DTSTART;TZID=America/New_York:20190423T193000
DTEND;TZID=America/New_York:20190423T203000
DTSTAMP:20260423T071023
CREATED:20190104T161347Z
LAST-MODIFIED:20190104T162230Z
UID:6192-1556047800-1556051400@www.rockumchurch.com
SUMMARY:Families Anonymous
DESCRIPTION:Families Anonymous is a 12 step Fellowship for the family and friends of individuals with Drug\, Alcohol\, or Related Behavioral issues.   \n \n 
URL:https://www.rockumchurch.com/event/families-anonymous-4-2019-04-23/
LOCATION:Rockville United Methodist Church\, 142 Grove Street\, Rockville\, CT\, 06066\, United States
CATEGORIES:Community Events,Support Group
END:VEVENT
BEGIN:VEVENT
DTSTART;TZID=America/New_York:20190423T114500
DTEND;TZID=America/New_York:20190423T153000
DTSTAMP:20260423T071023
CREATED:20190104T174002Z
LAST-MODIFIED:20190104T174002Z
UID:6474-1556019900-1556033400@www.rockumchurch.com
SUMMARY:Vernon Adult Education
DESCRIPTION:The Family Education Program provides GED and ESL classes for parents of children who are not yet in school. \n 
URL:https://www.rockumchurch.com/event/vernon-adult-education-15-2019-04-23/
LOCATION:Rockville United Methodist Church\, 142 Grove Street\, Rockville\, CT\, 06066\, United States
CATEGORIES:Community Events,Education
ORGANIZER;CN="Svetlana Smith":MAILTO:svetlana.smith@vernonct.org
END:VEVENT
BEGIN:VEVENT
DTSTART;TZID=America/New_York:20190419T070000
DTEND;TZID=America/New_York:20190419T153000
DTSTAMP:20260423T071023
CREATED:20181129T193926Z
LAST-MODIFIED:20190320T192029Z
UID:5955-1555657200-1555687800@www.rockumchurch.com
SUMMARY:Good Friday Walk
DESCRIPTION:Gather sponsors and join us in a 20-mile walk in Vernon\, Ellington\, and East Windsor.  Walk what you can of the 20-mile round-trip route.  Registration begins at 7 am.  The walk starts at 7:30 am. \nThe money raised goes to Sharing Inc. and The Cornerstone Foundation.  
URL:https://www.rockumchurch.com/event/good-friday-walk-2/
LOCATION:Rockville United Methodist Church\, 142 Grove Street\, Rockville\, CT\, 06066\, United States
CATEGORIES:Community Events,Fundraising,Volunteer Opportunity
ORGANIZER;CN="Judie Culy":MAILTO:judie.culy@gmail.com
END:VEVENT
BEGIN:VEVENT
DTSTART;TZID=America/New_York:20190418T190000
DTEND;TZID=America/New_York:20190418T200000
DTSTAMP:20260423T071023
CREATED:20190104T163702Z
LAST-MODIFIED:20190104T163702Z
UID:6354-1555614000-1555617600@www.rockumchurch.com
SUMMARY:Narcotics Anonymous
DESCRIPTION:Narcotics Anonymous is a 12 step support group for people who are recovering from drugs other then just alcohol.
URL:https://www.rockumchurch.com/event/narcotics-anonymous-3-2019-04-18/
LOCATION:Rockville United Methodist Church\, 142 Grove Street\, Rockville\, CT\, 06066\, United States
CATEGORIES:Community Events,Support Group
END:VEVENT
BEGIN:VEVENT
DTSTART;TZID=America/New_York:20190416T193000
DTEND;TZID=America/New_York:20190416T203000
DTSTAMP:20260423T071023
CREATED:20190104T161347Z
LAST-MODIFIED:20190104T162230Z
UID:6191-1555443000-1555446600@www.rockumchurch.com
SUMMARY:Families Anonymous
DESCRIPTION:Families Anonymous is a 12 step Fellowship for the family and friends of individuals with Drug\, Alcohol\, or Related Behavioral issues.   \n \n 
URL:https://www.rockumchurch.com/event/families-anonymous-4-2019-04-16/
LOCATION:Rockville United Methodist Church\, 142 Grove Street\, Rockville\, CT\, 06066\, United States
CATEGORIES:Community Events,Support Group
END:VEVENT
BEGIN:VEVENT
DTSTART;TZID=America/New_York:20190414T070000
DTEND;TZID=America/New_York:20190414T090000
DTSTAMP:20260423T071023
CREATED:20190320T183043Z
LAST-MODIFIED:20190320T183043Z
UID:6749-1555225200-1555232400@www.rockumchurch.com
SUMMARY:Men's Palm Sunday Service and Breakfast
DESCRIPTION:Men’s Palm Sunday Service and Breakfast\nApril 14\, 2019\n7 am\nat Rockville Untied Methodist Church\n$5 per person\nPastor David Martin will lead the communion service. \nThe Women of RUMC will cook and serve the breakfast.\nHosted by Rockville UMC\, Manchester UMC\, and Bolton UMC \nPlease call or email your reservation:|\n860-875-6562 or RockvilleUMC@outlook.com \n \n 
URL:https://www.rockumchurch.com/event/mens-palm-sunday-service-and-breakfast/
LOCATION:Rockville United Methodist Church\, 142 Grove Street\, Rockville\, CT\, 06066\, United States
CATEGORIES:Community Events,food,RUMC Events,Scripture,Worship
ORGANIZER;CN="Steve Yoder":MAILTO:scsjyoder@aol.com
END:VEVENT
BEGIN:VEVENT
DTSTART;TZID=America/New_York:20190411T190000
DTEND;TZID=America/New_York:20190411T200000
DTSTAMP:20260423T071023
CREATED:20190104T163702Z
LAST-MODIFIED:20190104T163702Z
UID:6353-1555009200-1555012800@www.rockumchurch.com
SUMMARY:Narcotics Anonymous
DESCRIPTION:Narcotics Anonymous is a 12 step support group for people who are recovering from drugs other then just alcohol.
URL:https://www.rockumchurch.com/event/narcotics-anonymous-3-2019-04-11/
LOCATION:Rockville United Methodist Church\, 142 Grove Street\, Rockville\, CT\, 06066\, United States
CATEGORIES:Community Events,Support Group
END:VEVENT
BEGIN:VEVENT
DTSTART;TZID=America/New_York:20190411T111500
DTEND;TZID=America/New_York:20190411T153000
DTSTAMP:20260423T071023
CREATED:20190104T174417Z
LAST-MODIFIED:20190104T174417Z
UID:6522-1554981300-1554996600@www.rockumchurch.com
SUMMARY:Vernon Adult Education
DESCRIPTION:The Family Education Program provides GED and ESL classes for parents of children who are not yet in school.
URL:https://www.rockumchurch.com/event/vernon-adult-education-17-2019-04-11/
LOCATION:Rockville United Methodist Church\, 142 Grove Street\, Rockville\, CT\, 06066\, United States
CATEGORIES:Community Events,Education
ORGANIZER;CN="Svetlana Smith":MAILTO:svetlana.smith@vernonct.org
END:VEVENT
BEGIN:VEVENT
DTSTART;TZID=America/New_York:20190410T190000
DTEND;TZID=America/New_York:20190410T203000
DTSTAMP:20260423T071023
CREATED:20190312T181541Z
LAST-MODIFIED:20190312T193528Z
UID:6681-1554922800-1554928200@www.rockumchurch.com
SUMMARY:Lenten Bible Study
DESCRIPTION:Lenten Bible Study: Wednesday at 7 pm from March 13\, 2019 to April 10\, 2019. A chance to discuss and dive deeper into the meaning and significance of the lectionary readings. Led by Stan Culy and Pastor Cheol.
URL:https://www.rockumchurch.com/event/lenten-bible-study-5/
LOCATION:Rockville United Methodist Church\, 142 Grove Street\, Rockville\, CT\, 06066\, United States
CATEGORIES:Community Events,Scripture
ORGANIZER;CN="Pastor Cheol":MAILTO:starcheol@gmail.com
END:VEVENT
BEGIN:VEVENT
DTSTART;TZID=America/New_York:20190410T113000
DTEND;TZID=America/New_York:20190410T153000
DTSTAMP:20260423T071023
CREATED:20190104T174219Z
LAST-MODIFIED:20190104T174219Z
UID:6502-1554895800-1554910200@www.rockumchurch.com
SUMMARY:Vernon Adult Education
DESCRIPTION:The Family Education Program provides GED and ESL classes for parents of children who are not yet in school.
URL:https://www.rockumchurch.com/event/vernon-adult-education-16-2019-04-10/
LOCATION:Rockville United Methodist Church\, 142 Grove Street\, Rockville\, CT\, 06066\, United States
CATEGORIES:Community Events,Education
ORGANIZER;CN="Svetlana Smith":MAILTO:svetlana.smith@vernonct.org
END:VEVENT
BEGIN:VEVENT
DTSTART;TZID=America/New_York:20190409T193000
DTEND;TZID=America/New_York:20190409T203000
DTSTAMP:20260423T071023
CREATED:20190104T161347Z
LAST-MODIFIED:20190104T162230Z
UID:6190-1554838200-1554841800@www.rockumchurch.com
SUMMARY:Families Anonymous
DESCRIPTION:Families Anonymous is a 12 step Fellowship for the family and friends of individuals with Drug\, Alcohol\, or Related Behavioral issues.   \n \n 
URL:https://www.rockumchurch.com/event/families-anonymous-4-2019-04-09/
LOCATION:Rockville United Methodist Church\, 142 Grove Street\, Rockville\, CT\, 06066\, United States
CATEGORIES:Community Events,Support Group
END:VEVENT
BEGIN:VEVENT
DTSTART;TZID=America/New_York:20190409T114500
DTEND;TZID=America/New_York:20190409T153000
DTSTAMP:20260423T071023
CREATED:20190104T174002Z
LAST-MODIFIED:20190104T174002Z
UID:6472-1554810300-1554823800@www.rockumchurch.com
SUMMARY:Vernon Adult Education
DESCRIPTION:The Family Education Program provides GED and ESL classes for parents of children who are not yet in school. \n 
URL:https://www.rockumchurch.com/event/vernon-adult-education-15-2019-04-09/
LOCATION:Rockville United Methodist Church\, 142 Grove Street\, Rockville\, CT\, 06066\, United States
CATEGORIES:Community Events,Education
ORGANIZER;CN="Svetlana Smith":MAILTO:svetlana.smith@vernonct.org
END:VEVENT
BEGIN:VEVENT
DTSTART;TZID=America/New_York:20190404T190000
DTEND;TZID=America/New_York:20190404T200000
DTSTAMP:20260423T071023
CREATED:20190104T163702Z
LAST-MODIFIED:20190104T163702Z
UID:6352-1554404400-1554408000@www.rockumchurch.com
SUMMARY:Narcotics Anonymous
DESCRIPTION:Narcotics Anonymous is a 12 step support group for people who are recovering from drugs other then just alcohol.
URL:https://www.rockumchurch.com/event/narcotics-anonymous-3-2019-04-04/
LOCATION:Rockville United Methodist Church\, 142 Grove Street\, Rockville\, CT\, 06066\, United States
CATEGORIES:Community Events,Support Group
END:VEVENT
BEGIN:VEVENT
DTSTART;TZID=America/New_York:20190404T111500
DTEND;TZID=America/New_York:20190404T153000
DTSTAMP:20260423T071023
CREATED:20190104T174417Z
LAST-MODIFIED:20190104T174417Z
UID:6521-1554376500-1554391800@www.rockumchurch.com
SUMMARY:Vernon Adult Education
DESCRIPTION:The Family Education Program provides GED and ESL classes for parents of children who are not yet in school.
URL:https://www.rockumchurch.com/event/vernon-adult-education-17-2019-04-04/
LOCATION:Rockville United Methodist Church\, 142 Grove Street\, Rockville\, CT\, 06066\, United States
CATEGORIES:Community Events,Education
ORGANIZER;CN="Svetlana Smith":MAILTO:svetlana.smith@vernonct.org
END:VEVENT
BEGIN:VEVENT
DTSTART;TZID=America/New_York:20190403T190000
DTEND;TZID=America/New_York:20190403T203000
DTSTAMP:20260423T071023
CREATED:20190312T181450Z
LAST-MODIFIED:20190312T193459Z
UID:6679-1554318000-1554323400@www.rockumchurch.com
SUMMARY:Lenten Bible Study
DESCRIPTION:Lenten Bible Study: Wednesday at 7 pm from March 13\, 2019 to April 10\, 2019. A chance to discuss and dive deeper into the meaning and significance of the lectionary readings. Led by Stan Culy and Pastor Cheol.
URL:https://www.rockumchurch.com/event/lenten-bible-study-4/
LOCATION:Rockville United Methodist Church\, 142 Grove Street\, Rockville\, CT\, 06066\, United States
CATEGORIES:Community Events,Scripture
ORGANIZER;CN="Pastor Cheol":MAILTO:starcheol@gmail.com
END:VEVENT
BEGIN:VEVENT
DTSTART;TZID=America/New_York:20190403T113000
DTEND;TZID=America/New_York:20190403T153000
DTSTAMP:20260423T071023
CREATED:20190104T174219Z
LAST-MODIFIED:20190104T174219Z
UID:6501-1554291000-1554305400@www.rockumchurch.com
SUMMARY:Vernon Adult Education
DESCRIPTION:The Family Education Program provides GED and ESL classes for parents of children who are not yet in school.
URL:https://www.rockumchurch.com/event/vernon-adult-education-16-2019-04-03/
LOCATION:Rockville United Methodist Church\, 142 Grove Street\, Rockville\, CT\, 06066\, United States
CATEGORIES:Community Events,Education
ORGANIZER;CN="Svetlana Smith":MAILTO:svetlana.smith@vernonct.org
END:VEVENT
BEGIN:VEVENT
DTSTART;TZID=America/New_York:20190402T193000
DTEND;TZID=America/New_York:20190402T203000
DTSTAMP:20260423T071023
CREATED:20190104T161347Z
LAST-MODIFIED:20190104T162229Z
UID:6189-1554233400-1554237000@www.rockumchurch.com
SUMMARY:Families Anonymous
DESCRIPTION:Families Anonymous is a 12 step Fellowship for the family and friends of individuals with Drug\, Alcohol\, or Related Behavioral issues.   \n \n 
URL:https://www.rockumchurch.com/event/families-anonymous-4-2019-04-02/
LOCATION:Rockville United Methodist Church\, 142 Grove Street\, Rockville\, CT\, 06066\, United States
CATEGORIES:Community Events,Support Group
END:VEVENT
BEGIN:VEVENT
DTSTART;TZID=America/New_York:20190402T114500
DTEND;TZID=America/New_York:20190402T153000
DTSTAMP:20260423T071023
CREATED:20190104T174002Z
LAST-MODIFIED:20190104T174002Z
UID:6471-1554205500-1554219000@www.rockumchurch.com
SUMMARY:Vernon Adult Education
DESCRIPTION:The Family Education Program provides GED and ESL classes for parents of children who are not yet in school. \n 
URL:https://www.rockumchurch.com/event/vernon-adult-education-15-2019-04-02/
LOCATION:Rockville United Methodist Church\, 142 Grove Street\, Rockville\, CT\, 06066\, United States
CATEGORIES:Community Events,Education
ORGANIZER;CN="Svetlana Smith":MAILTO:svetlana.smith@vernonct.org
END:VEVENT
BEGIN:VEVENT
DTSTART;TZID=America/New_York:20190328T190000
DTEND;TZID=America/New_York:20190328T200000
DTSTAMP:20260423T071023
CREATED:20190104T163702Z
LAST-MODIFIED:20190104T163702Z
UID:6351-1553799600-1553803200@www.rockumchurch.com
SUMMARY:Narcotics Anonymous
DESCRIPTION:Narcotics Anonymous is a 12 step support group for people who are recovering from drugs other then just alcohol.
URL:https://www.rockumchurch.com/event/narcotics-anonymous-3-2019-03-28/
LOCATION:Rockville United Methodist Church\, 142 Grove Street\, Rockville\, CT\, 06066\, United States
CATEGORIES:Community Events,Support Group
END:VEVENT
BEGIN:VEVENT
DTSTART;TZID=America/New_York:20190327T190000
DTEND;TZID=America/New_York:20190327T203000
DTSTAMP:20260423T071023
CREATED:20190312T181334Z
LAST-MODIFIED:20190312T193437Z
UID:6677-1553713200-1553718600@www.rockumchurch.com
SUMMARY:Lenten Bible Study
DESCRIPTION:Lenten Bible Study: Wednesday at 7 pm from March 13\, 2019 to April 10\, 2019. A chance to discuss and dive deeper into the meaning and significance of the lectionary readings. Led by Stan Culy and Pastor Cheol.
URL:https://www.rockumchurch.com/event/lenten-bible-study-3/
LOCATION:Rockville United Methodist Church\, 142 Grove Street\, Rockville\, CT\, 06066\, United States
CATEGORIES:Community Events,Scripture
ORGANIZER;CN="Pastor Cheol":MAILTO:starcheol@gmail.com
END:VEVENT
BEGIN:VEVENT
DTSTART;TZID=America/New_York:20190327T113000
DTEND;TZID=America/New_York:20190327T153000
DTSTAMP:20260423T071023
CREATED:20190104T174219Z
LAST-MODIFIED:20190104T174219Z
UID:6500-1553686200-1553700600@www.rockumchurch.com
SUMMARY:Vernon Adult Education
DESCRIPTION:The Family Education Program provides GED and ESL classes for parents of children who are not yet in school.
URL:https://www.rockumchurch.com/event/vernon-adult-education-16-2019-03-27/
LOCATION:Rockville United Methodist Church\, 142 Grove Street\, Rockville\, CT\, 06066\, United States
CATEGORIES:Community Events,Education
ORGANIZER;CN="Svetlana Smith":MAILTO:svetlana.smith@vernonct.org
END:VEVENT
BEGIN:VEVENT
DTSTART;TZID=America/New_York:20190326T193000
DTEND;TZID=America/New_York:20190326T203000
DTSTAMP:20260423T071023
CREATED:20190104T161347Z
LAST-MODIFIED:20190104T162229Z
UID:6188-1553628600-1553632200@www.rockumchurch.com
SUMMARY:Families Anonymous
DESCRIPTION:Families Anonymous is a 12 step Fellowship for the family and friends of individuals with Drug\, Alcohol\, or Related Behavioral issues.   \n \n 
URL:https://www.rockumchurch.com/event/families-anonymous-4-2019-03-26/
LOCATION:Rockville United Methodist Church\, 142 Grove Street\, Rockville\, CT\, 06066\, United States
CATEGORIES:Community Events,Support Group
END:VEVENT
BEGIN:VEVENT
DTSTART;TZID=America/New_York:20190326T114500
DTEND;TZID=America/New_York:20190326T153000
DTSTAMP:20260423T071023
CREATED:20190104T174002Z
LAST-MODIFIED:20190104T174002Z
UID:6470-1553600700-1553614200@www.rockumchurch.com
SUMMARY:Vernon Adult Education
DESCRIPTION:The Family Education Program provides GED and ESL classes for parents of children who are not yet in school. \n 
URL:https://www.rockumchurch.com/event/vernon-adult-education-15-2019-03-26/
LOCATION:Rockville United Methodist Church\, 142 Grove Street\, Rockville\, CT\, 06066\, United States
CATEGORIES:Community Events,Education
ORGANIZER;CN="Svetlana Smith":MAILTO:svetlana.smith@vernonct.org
END:VEVENT
END:VCALENDAR