BEGIN:VCALENDAR
VERSION:2.0
PRODID:-//Rockville United Methodist Church - ECPv6.15.20//NONSGML v1.0//EN
CALSCALE:GREGORIAN
METHOD:PUBLISH
X-ORIGINAL-URL:https://www.rockumchurch.com
X-WR-CALDESC:Events for Rockville United Methodist Church
REFRESH-INTERVAL;VALUE=DURATION:PT1H
X-Robots-Tag:noindex
X-PUBLISHED-TTL:PT1H
BEGIN:VTIMEZONE
TZID:America/New_York
BEGIN:DAYLIGHT
TZOFFSETFROM:-0500
TZOFFSETTO:-0400
TZNAME:EDT
DTSTART:20180311T070000
END:DAYLIGHT
BEGIN:STANDARD
TZOFFSETFROM:-0400
TZOFFSETTO:-0500
TZNAME:EST
DTSTART:20181104T060000
END:STANDARD
BEGIN:DAYLIGHT
TZOFFSETFROM:-0500
TZOFFSETTO:-0400
TZNAME:EDT
DTSTART:20190310T070000
END:DAYLIGHT
BEGIN:STANDARD
TZOFFSETFROM:-0400
TZOFFSETTO:-0500
TZNAME:EST
DTSTART:20191103T060000
END:STANDARD
BEGIN:DAYLIGHT
TZOFFSETFROM:-0500
TZOFFSETTO:-0400
TZNAME:EDT
DTSTART:20200308T070000
END:DAYLIGHT
BEGIN:STANDARD
TZOFFSETFROM:-0400
TZOFFSETTO:-0500
TZNAME:EST
DTSTART:20201101T060000
END:STANDARD
BEGIN:DAYLIGHT
TZOFFSETFROM:-0500
TZOFFSETTO:-0400
TZNAME:EDT
DTSTART:20210314T070000
END:DAYLIGHT
BEGIN:STANDARD
TZOFFSETFROM:-0400
TZOFFSETTO:-0500
TZNAME:EST
DTSTART:20211107T060000
END:STANDARD
END:VTIMEZONE
BEGIN:VEVENT
DTSTART;TZID=America/New_York:20200429T173000
DTEND;TZID=America/New_York:20200429T190000
DTSTAMP:20260422T122124
CREATED:20200206T192400Z
LAST-MODIFIED:20200206T192400Z
UID:7462-1588181400-1588186800@www.rockumchurch.com
SUMMARY:Circle of Moms
DESCRIPTION:Circle of Mom’s meet on the last Wednesday of the month. 
URL:https://www.rockumchurch.com/event/circle-of-moms-7/
LOCATION:Rockville United Methodist Church\, 142 Grove Street\, Rockville\, CT\, 06066\, United States
CATEGORIES:Community Events,Support Group
END:VEVENT
BEGIN:VEVENT
DTSTART;TZID=America/New_York:20200331T193000
DTEND;TZID=America/New_York:20200331T210000
DTSTAMP:20260422T122124
CREATED:20200206T190447Z
LAST-MODIFIED:20200206T190447Z
UID:7432-1585683000-1585688400@www.rockumchurch.com
SUMMARY:Family Anonymous
DESCRIPTION:FA\nTuesdays at 7:30 pm
URL:https://www.rockumchurch.com/event/family-anonymous-9/
LOCATION:Rockville United Methodist Church\, 142 Grove Street\, Rockville\, CT\, 06066\, United States
CATEGORIES:Community Events,Support Group
END:VEVENT
BEGIN:VEVENT
DTSTART;TZID=America/New_York:20200326T190000
DTEND;TZID=America/New_York:20200326T210000
DTSTAMP:20260422T122124
CREATED:20200206T194248Z
LAST-MODIFIED:20200206T194248Z
UID:7490-1585249200-1585256400@www.rockumchurch.com
SUMMARY:Narcotics Anonymous
DESCRIPTION:NA meets on Thursday nights at 7 pm.
URL:https://www.rockumchurch.com/event/narcotics-anonymous-4/
LOCATION:Rockville United Methodist Church\, 142 Grove Street\, Rockville\, CT\, 06066\, United States
CATEGORIES:Community Events,Support Group
END:VEVENT
BEGIN:VEVENT
DTSTART;TZID=America/New_York:20200325T173000
DTEND;TZID=America/New_York:20200325T190000
DTSTAMP:20260422T122124
CREATED:20200206T192317Z
LAST-MODIFIED:20200206T192317Z
UID:7460-1585157400-1585162800@www.rockumchurch.com
SUMMARY:Circle of Moms
DESCRIPTION:Circle of Mom’s meet on the last Wednesday of the month. 
URL:https://www.rockumchurch.com/event/circle-of-moms-6/
LOCATION:Rockville United Methodist Church\, 142 Grove Street\, Rockville\, CT\, 06066\, United States
CATEGORIES:Community Events,Support Group
END:VEVENT
BEGIN:VEVENT
DTSTART;TZID=America/New_York:20200324T193000
DTEND;TZID=America/New_York:20200324T210000
DTSTAMP:20260422T122124
CREATED:20200206T190359Z
LAST-MODIFIED:20200206T190359Z
UID:7430-1585078200-1585083600@www.rockumchurch.com
SUMMARY:Family Anonymous
DESCRIPTION:FA\nTuesdays at 7:30 pm
URL:https://www.rockumchurch.com/event/family-anonymous-8/
LOCATION:Rockville United Methodist Church\, 142 Grove Street\, Rockville\, CT\, 06066\, United States
CATEGORIES:Community Events,Support Group
END:VEVENT
BEGIN:VEVENT
DTSTART;TZID=America/New_York:20200319T190000
DTEND;TZID=America/New_York:20200319T210000
DTSTAMP:20260422T122124
CREATED:20200206T194342Z
LAST-MODIFIED:20200206T194342Z
UID:7492-1584644400-1584651600@www.rockumchurch.com
SUMMARY:Narcotics Anonymous
DESCRIPTION:NA meets on Thursday nights at 7 pm. 
URL:https://www.rockumchurch.com/event/narcotics-anonymous-5/
LOCATION:Rockville United Methodist Church\, 142 Grove Street\, Rockville\, CT\, 06066\, United States
CATEGORIES:Community Events,Support Group
END:VEVENT
BEGIN:VEVENT
DTSTART;TZID=America/New_York:20200317T193000
DTEND;TZID=America/New_York:20200317T210000
DTSTAMP:20260422T122124
CREATED:20200206T190220Z
LAST-MODIFIED:20200206T190220Z
UID:7428-1584473400-1584478800@www.rockumchurch.com
SUMMARY:Family Anonymous
DESCRIPTION:FA\nTuesdays at 7:30 pm
URL:https://www.rockumchurch.com/event/family-anonymous-7/
LOCATION:Rockville United Methodist Church\, 142 Grove Street\, Rockville\, CT\, 06066\, United States
CATEGORIES:Community Events,Support Group
END:VEVENT
BEGIN:VEVENT
DTSTART;TZID=America/New_York:20200312T190000
DTEND;TZID=America/New_York:20200312T210000
DTSTAMP:20260422T122124
CREATED:20200206T194432Z
LAST-MODIFIED:20200206T194432Z
UID:7494-1584039600-1584046800@www.rockumchurch.com
SUMMARY:Narcotics Anonymous
DESCRIPTION:NA meets on Thursday nights at 7 pm. 
URL:https://www.rockumchurch.com/event/narcotics-anonymous-6/
LOCATION:Rockville United Methodist Church\, 142 Grove Street\, Rockville\, CT\, 06066\, United States
CATEGORIES:Community Events,Support Group
END:VEVENT
BEGIN:VEVENT
DTSTART;TZID=America/New_York:20200310T193000
DTEND;TZID=America/New_York:20200310T210000
DTSTAMP:20260422T122124
CREATED:20200206T190139Z
LAST-MODIFIED:20200206T190139Z
UID:7426-1583868600-1583874000@www.rockumchurch.com
SUMMARY:Family Anonymous
DESCRIPTION:FA\nTuesdays at 7:30 pm
URL:https://www.rockumchurch.com/event/family-anonymous-6/
LOCATION:Rockville United Methodist Church\, 142 Grove Street\, Rockville\, CT\, 06066\, United States
CATEGORIES:Community Events,Support Group
END:VEVENT
BEGIN:VEVENT
DTSTART;TZID=America/New_York:20200308T133000
DTEND;TZID=America/New_York:20200308T170000
DTSTAMP:20260422T122124
CREATED:20200206T193755Z
LAST-MODIFIED:20200206T193755Z
UID:7484-1583674200-1583686800@www.rockumchurch.com
SUMMARY:Musical Play-In
DESCRIPTION:
URL:https://www.rockumchurch.com/event/musical-play-in/
LOCATION:Rockville United Methodist Church\, 142 Grove Street\, Rockville\, CT\, 06066\, United States
CATEGORIES:Community Events,Music
END:VEVENT
BEGIN:VEVENT
DTSTART;TZID=America/New_York:20200305T190000
DTEND;TZID=America/New_York:20200305T210000
DTSTAMP:20260422T122124
CREATED:20200206T194530Z
LAST-MODIFIED:20200206T194530Z
UID:7496-1583434800-1583442000@www.rockumchurch.com
SUMMARY:Narcotics Anonymous
DESCRIPTION:NA meets on Thursday nights at 7 pm. 
URL:https://www.rockumchurch.com/event/narcotics-anonymous-7/
LOCATION:Rockville United Methodist Church\, 142 Grove Street\, Rockville\, CT\, 06066\, United States
CATEGORIES:Community Events,Support Group
END:VEVENT
BEGIN:VEVENT
DTSTART;TZID=America/New_York:20200303T193000
DTEND;TZID=America/New_York:20200303T210000
DTSTAMP:20260422T122124
CREATED:20200206T190049Z
LAST-MODIFIED:20200206T190049Z
UID:7424-1583263800-1583269200@www.rockumchurch.com
SUMMARY:Family Anonymous
DESCRIPTION:FA\nTuesdays at 7:30 pm
URL:https://www.rockumchurch.com/event/family-anonymous-5/
LOCATION:Rockville United Methodist Church\, 142 Grove Street\, Rockville\, CT\, 06066\, United States
CATEGORIES:Community Events,Support Group
END:VEVENT
BEGIN:VEVENT
DTSTART;TZID=America/New_York:20200227T190000
DTEND;TZID=America/New_York:20200227T210000
DTSTAMP:20260422T122124
CREATED:20200206T194624Z
LAST-MODIFIED:20200206T194624Z
UID:7498-1582830000-1582837200@www.rockumchurch.com
SUMMARY:Narcotics Anonymous
DESCRIPTION:NA meets on Thursday nights at 7 pm. 
URL:https://www.rockumchurch.com/event/narcotics-anonymous-8/
LOCATION:Rockville United Methodist Church\, 142 Grove Street\, Rockville\, CT\, 06066\, United States
CATEGORIES:Community Events,Support Group
END:VEVENT
BEGIN:VEVENT
DTSTART;TZID=America/New_York:20200226T173000
DTEND;TZID=America/New_York:20200226T190000
DTSTAMP:20260422T122124
CREATED:20200206T192227Z
LAST-MODIFIED:20200206T192227Z
UID:7458-1582738200-1582743600@www.rockumchurch.com
SUMMARY:Circle of Mom's
DESCRIPTION:Circle of Mom’s meet on the last Wednesday of the month.
URL:https://www.rockumchurch.com/event/circle-of-moms-5/
LOCATION:Rockville United Methodist Church\, 142 Grove Street\, Rockville\, CT\, 06066\, United States
CATEGORIES:Community Events,Support Group
END:VEVENT
BEGIN:VEVENT
DTSTART;TZID=America/New_York:20200225T193000
DTEND;TZID=America/New_York:20200225T210000
DTSTAMP:20260422T122124
CREATED:20200206T185945Z
LAST-MODIFIED:20200206T185945Z
UID:7422-1582659000-1582664400@www.rockumchurch.com
SUMMARY:Family Anonymous
DESCRIPTION:FA\nTuesdays at 7:30 pm
URL:https://www.rockumchurch.com/event/family-anonymous-4/
LOCATION:Rockville United Methodist Church\, 142 Grove Street\, Rockville\, CT\, 06066\, United States
CATEGORIES:Community Events,Support Group
END:VEVENT
BEGIN:VEVENT
DTSTART;TZID=America/New_York:20200220T190000
DTEND;TZID=America/New_York:20200220T210000
DTSTAMP:20260422T122124
CREATED:20200206T194701Z
LAST-MODIFIED:20200206T194701Z
UID:7500-1582225200-1582232400@www.rockumchurch.com
SUMMARY:Narcotics Anonymous
DESCRIPTION:NA meets on Thursday nights at 7 pm. 
URL:https://www.rockumchurch.com/event/narcotics-anonymous-9/
LOCATION:Rockville United Methodist Church\, 142 Grove Street\, Rockville\, CT\, 06066\, United States
CATEGORIES:Community Events,Support Group
END:VEVENT
BEGIN:VEVENT
DTSTART;TZID=America/New_York:20200218T193000
DTEND;TZID=America/New_York:20200218T210000
DTSTAMP:20260422T122124
CREATED:20200206T185849Z
LAST-MODIFIED:20200206T185849Z
UID:7420-1582054200-1582059600@www.rockumchurch.com
SUMMARY:Family Anonymous
DESCRIPTION:Tuesdays at 7:30 pm
URL:https://www.rockumchurch.com/event/family-anonymous-3/
LOCATION:Rockville United Methodist Church\, 142 Grove Street\, Rockville\, CT\, 06066\, United States
CATEGORIES:Community Events,Support Group
END:VEVENT
BEGIN:VEVENT
DTSTART;TZID=America/New_York:20200213T190000
DTEND;TZID=America/New_York:20200213T210000
DTSTAMP:20260422T122124
CREATED:20200206T194746Z
LAST-MODIFIED:20200206T194746Z
UID:7502-1581620400-1581627600@www.rockumchurch.com
SUMMARY:Narcotics Anonymous
DESCRIPTION:NA meets on Thursday nights at 7 pm. 
URL:https://www.rockumchurch.com/event/narcotics-anonymous-10/
LOCATION:Rockville United Methodist Church\, 142 Grove Street\, Rockville\, CT\, 06066\, United States
CATEGORIES:Community Events,Support Group
END:VEVENT
BEGIN:VEVENT
DTSTART;TZID=America/New_York:20200211T193000
DTEND;TZID=America/New_York:20200211T210000
DTSTAMP:20260422T122124
CREATED:20200206T185800Z
LAST-MODIFIED:20200206T185800Z
UID:7418-1581449400-1581454800@www.rockumchurch.com
SUMMARY:Family Anonymous
DESCRIPTION:Tuesdays at 7:30 pm
URL:https://www.rockumchurch.com/event/family-anonymous-2/
LOCATION:Rockville United Methodist Church\, 142 Grove Street\, Rockville\, CT\, 06066\, United States
CATEGORIES:Community Events,Support Group
END:VEVENT
BEGIN:VEVENT
DTSTART;TZID=America/New_York:20200206T190000
DTEND;TZID=America/New_York:20200206T210000
DTSTAMP:20260422T122124
CREATED:20200206T194830Z
LAST-MODIFIED:20200206T194830Z
UID:7504-1581015600-1581022800@www.rockumchurch.com
SUMMARY:Narcotics Anonymous
DESCRIPTION:NA meets on Thursday nights at 7 pm. 
URL:https://www.rockumchurch.com/event/narcotics-anonymous-11/
LOCATION:Rockville United Methodist Church\, 142 Grove Street\, Rockville\, CT\, 06066\, United States
CATEGORIES:Community Events,Support Group
END:VEVENT
BEGIN:VEVENT
DTSTART;TZID=America/New_York:20200204T193000
DTEND;TZID=America/New_York:20200204T210000
DTSTAMP:20260422T122124
CREATED:20200206T185701Z
LAST-MODIFIED:20200206T185709Z
UID:7416-1580844600-1580850000@www.rockumchurch.com
SUMMARY:Family Anonymous
DESCRIPTION:Tuesdays at 7:30 pm
URL:https://www.rockumchurch.com/event/family-anonymous/
LOCATION:Rockville United Methodist Church\, 142 Grove Street\, Rockville\, CT\, 06066\, United States
CATEGORIES:Community Events,Support Group
END:VEVENT
BEGIN:VEVENT
DTSTART;TZID=America/New_York:20191231T193000
DTEND;TZID=America/New_York:20191231T203000
DTSTAMP:20260422T122124
CREATED:20190104T161347Z
LAST-MODIFIED:20190104T162234Z
UID:6228-1577820600-1577824200@www.rockumchurch.com
SUMMARY:Families Anonymous
DESCRIPTION:Families Anonymous is a 12 step Fellowship for the family and friends of individuals with Drug\, Alcohol\, or Related Behavioral issues.   \n \n 
URL:https://www.rockumchurch.com/event/families-anonymous-4-2019-12-31/
LOCATION:Rockville United Methodist Church\, 142 Grove Street\, Rockville\, CT\, 06066\, United States
CATEGORIES:Community Events,Support Group
END:VEVENT
BEGIN:VEVENT
DTSTART;TZID=America/New_York:20191226T190000
DTEND;TZID=America/New_York:20191226T200000
DTSTAMP:20260422T122124
CREATED:20190104T163702Z
LAST-MODIFIED:20190104T163702Z
UID:6390-1577386800-1577390400@www.rockumchurch.com
SUMMARY:Narcotics Anonymous
DESCRIPTION:Narcotics Anonymous is a 12 step support group for people who are recovering from drugs other then just alcohol.
URL:https://www.rockumchurch.com/event/narcotics-anonymous-3-2019-12-26/
LOCATION:Rockville United Methodist Church\, 142 Grove Street\, Rockville\, CT\, 06066\, United States
CATEGORIES:Community Events,Support Group
END:VEVENT
BEGIN:VEVENT
DTSTART;TZID=America/New_York:20191224T193000
DTEND;TZID=America/New_York:20191224T203000
DTSTAMP:20260422T122124
CREATED:20190104T161347Z
LAST-MODIFIED:20190104T162234Z
UID:6227-1577215800-1577219400@www.rockumchurch.com
SUMMARY:Families Anonymous
DESCRIPTION:Families Anonymous is a 12 step Fellowship for the family and friends of individuals with Drug\, Alcohol\, or Related Behavioral issues.   \n \n 
URL:https://www.rockumchurch.com/event/families-anonymous-4-2019-12-24/
LOCATION:Rockville United Methodist Church\, 142 Grove Street\, Rockville\, CT\, 06066\, United States
CATEGORIES:Community Events,Support Group
END:VEVENT
BEGIN:VEVENT
DTSTART;TZID=America/New_York:20191222T160000
DTEND;TZID=America/New_York:20191222T180000
DTSTAMP:20260422T122124
CREATED:20191205T202355Z
LAST-MODIFIED:20191205T223515Z
UID:7312-1577030400-1577037600@www.rockumchurch.com
SUMMARY:Family Christmas Party - Open to the Public
DESCRIPTION:Join us for this fun-filled afternoon! We will have a Special Guest\, a Carol Sing\, Refreshments\, and Music from our own GSM Praise Band and Bell Choir.
URL:https://www.rockumchurch.com/event/family-christmas-party-open-to-the-public/
LOCATION:Rockville United Methodist Church\, 142 Grove Street\, Rockville\, CT\, 06066\, United States
CATEGORIES:Community Events,Music,Youth
END:VEVENT
BEGIN:VEVENT
DTSTART;TZID=America/New_York:20191220T090000
DTEND;TZID=America/New_York:20191220T150000
DTSTAMP:20260422T122124
CREATED:20191206T175415Z
LAST-MODIFIED:20191206T175415Z
UID:7325-1576832400-1576854000@www.rockumchurch.com
SUMMARY:Private Party
DESCRIPTION:Whole Life Holiday Party
URL:https://www.rockumchurch.com/event/private-party/
LOCATION:Rockville United Methodist Church\, 142 Grove Street\, Rockville\, CT\, 06066\, United States
CATEGORIES:Community Events
END:VEVENT
BEGIN:VEVENT
DTSTART;TZID=America/New_York:20191219T190000
DTEND;TZID=America/New_York:20191219T200000
DTSTAMP:20260422T122124
CREATED:20190104T163702Z
LAST-MODIFIED:20190104T163702Z
UID:6389-1576782000-1576785600@www.rockumchurch.com
SUMMARY:Narcotics Anonymous
DESCRIPTION:Narcotics Anonymous is a 12 step support group for people who are recovering from drugs other then just alcohol.
URL:https://www.rockumchurch.com/event/narcotics-anonymous-3-2019-12-19/
LOCATION:Rockville United Methodist Church\, 142 Grove Street\, Rockville\, CT\, 06066\, United States
CATEGORIES:Community Events,Support Group
END:VEVENT
BEGIN:VEVENT
DTSTART;TZID=America/New_York:20191219T100000
DTEND;TZID=America/New_York:20191219T113000
DTSTAMP:20260422T122124
CREATED:20191205T180233Z
LAST-MODIFIED:20191205T180233Z
UID:7304-1576749600-1576755000@www.rockumchurch.com
SUMMARY:Advent Bible Study
DESCRIPTION:
URL:https://www.rockumchurch.com/event/advent-bible-study-6/
LOCATION:Rockville United Methodist Church\, 142 Grove Street\, Rockville\, CT\, 06066\, United States
CATEGORIES:Community Events,Education,Scripture
ORGANIZER;CN="Pastor Cheol":MAILTO:starcheol@gmail.com
END:VEVENT
BEGIN:VEVENT
DTSTART;TZID=America/New_York:20191218T183000
DTEND;TZID=America/New_York:20191218T200000
DTSTAMP:20260422T122124
CREATED:20191205T180123Z
LAST-MODIFIED:20191205T180123Z
UID:7301-1576693800-1576699200@www.rockumchurch.com
SUMMARY:Advent Bible Study
DESCRIPTION:
URL:https://www.rockumchurch.com/event/advent-bible-study-5/
LOCATION:Rockville United Methodist Church\, 142 Grove Street\, Rockville\, CT\, 06066\, United States
CATEGORIES:Community Events,Education,Scripture
ORGANIZER;CN="Pastor Cheol":MAILTO:starcheol@gmail.com
END:VEVENT
BEGIN:VEVENT
DTSTART;TZID=America/New_York:20191218T173000
DTEND;TZID=America/New_York:20191218T193000
DTSTAMP:20260422T122124
CREATED:20190926T182315Z
LAST-MODIFIED:20190926T182315Z
UID:7142-1576690200-1576697400@www.rockumchurch.com
SUMMARY:Circle of Moms
DESCRIPTION:
URL:https://www.rockumchurch.com/event/circle-of-moms-4/
LOCATION:Rockville United Methodist Church\, 142 Grove Street\, Rockville\, CT\, 06066\, United States
CATEGORIES:Community Events,Support Group
END:VEVENT
END:VCALENDAR